Report for ExtUtils-ParseXS-3.35

Back
From: metabase:user:f1a67388-c326-11df-83bd-eeb6a60ca1d3
Subject: PASS ExtUtils-ParseXS-3.35 v5.18.2 GNU/Linux
Date: 2017-08-01T17:01:11Z

This distribution has been tested as part of the CPAN Testers
project, supporting the Perl programming language.  See
http://wiki.cpantesters.org/ for more information or email
questions to cpan-testers-discuss@perl.org


--
Dear Steffen Mueller,

This is a computer-generated report for ExtUtils-ParseXS-3.35
on perl 5.18.2, created by CPAN-Reporter-1.2018.

Thank you for uploading your work to CPAN.  Congratulations!
All tests were successful.

Sections of this report:

    * Tester comments
    * Program output
    * Prerequisites
    * Environment and other context

------------------------------
TESTER COMMENTS
------------------------------

Additional comments from tester:

none provided

------------------------------
PROGRAM OUTPUT
------------------------------

Output from '/usr/bin/make test':

PERL_DL_NONLAZY=1 "/usr/bin/perl" "-MExtUtils::Command::MM" "-MTest::Harness" "-e" "undef *Test::Harness::Switches; test_harness(0, 'blib/lib', 'blib/arch')" t/*.t
XSTest.c: In function ‘XS_XSTest_T_BOOL_2’:
XSTest.c:306:7: warning: unused variable ‘RETVAL’ [-Wunused-variable]
  bool RETVAL;
       ^
t/001-basic.t ............................ ok
In file included from XSMore.xs:3:0:
XSMore.c: In function ‘XS_XSMore_nil’:
/usr/lib/perl5/5.18.2/x86_64-linux-thread-multi/CORE/XSUB.h:164:20: warning: unused variable ‘items’ [-Wunused-variable]
 #define dITEMS I32 items = (I32)(SP - MARK)
                    ^
/usr/lib/perl5/5.18.2/x86_64-linux-thread-multi/CORE/XSUB.h:172:16: note: in expansion of macro ‘dITEMS’
  dSP; dAXMARK; dITEMS
                ^
XSMore.c:516:4: note: in expansion of macro ‘dXSARGS’
    dXSARGS;
    ^
t/002-more.t ............................. ok
In file included from XSUsage.xs:3:0:
XSUsage.c: In function ‘XS_XSUsage_two’:
/usr/lib/perl5/5.18.2/x86_64-linux-thread-multi/CORE/XSUB.h:183:20: warning: unused variable ‘ix’ [-Wunused-variable]
 #define dXSI32 I32 ix = XSANY.any_i32
                    ^
XSUsage.c:202:5: note: in expansion of macro ‘dXSI32’
     dXSI32;
     ^
XSUsage.c: In function ‘XS_XSUsage_four’:
/usr/lib/perl5/5.18.2/x86_64-linux-thread-multi/CORE/XSUB.h:164:20: warning: unused variable ‘items’ [-Wunused-variable]
 #define dITEMS I32 items = (I32)(SP - MARK)
                    ^
/usr/lib/perl5/5.18.2/x86_64-linux-thread-multi/CORE/XSUB.h:172:16: note: in expansion of macro ‘dITEMS’
  dSP; dAXMARK; dITEMS
                ^
XSUsage.c:238:11: note: in expansion of macro ‘dXSARGS’
     dVAR; dXSARGS;
           ^
t/003-usage.t ............................ ok
t/101-standard_typemap_locations.t ....... ok
t/102-trim_whitespace.t .................. ok
t/103-tidy_type.t ........................ ok
t/104-map_type.t ......................... ok
t/105-valid_proto_string.t ............... ok
t/106-process_typemaps.t ................. ok
t/108-map_type.t ......................... ok
t/109-standard_XS_defs.t ................. ok
t/110-assign_func_args.t ................. ok
t/111-analyze_preprocessor_statements.t .. ok
t/112-set_cond.t ......................... ok
t/113-check_cond_preproc_statements.t .... ok
t/114-blurt_death_Warn.t ................. ok
t/115-avoid-noise.t ...................... ok
t/501-t-compile.t ........................ ok
t/510-t-bare.t ........................... ok
t/511-t-whitespace.t ..................... ok
t/512-t-file.t ........................... ok
t/513-t-merge.t .......................... ok
t/514-t-embed.t .......................... ok
t/515-t-cmd.t ............................ ok
t/516-t-clone.t .......................... ok
t/517-t-targetable.t ..................... ok
t/600-t-compat.t ......................... ok
All tests successful.
Files=27, Tests=264,  6 wallclock secs ( 0.11 usr  0.03 sys +  3.94 cusr  0.51 csys =  4.59 CPU)
Result: PASS

------------------------------
PREREQUISITES
------------------------------

Prerequisite modules loaded:

requires:

    Module              Need Have    
    ------------------- ---- --------
    Carp                0    1.38    
    Cwd                 0    3.62    
    DynaLoader          0    1.18    
    Exporter            5.57 5.72    
    ExtUtils::CBuilder  0    0.280226
    ExtUtils::MakeMaker 6.46 7.30    
    File::Basename      0    2.84    
    File::Spec          0    3.62    
    Symbol              0    1.07    
    Test::More          0.47 1.302086

build_requires:

    Module              Need Have    
    ------------------- ---- --------
    ExtUtils::MakeMaker 0    7.30    

configure_requires:

    Module              Need Have    
    ------------------- ---- --------
    ExtUtils::MakeMaker 6.46 7.30    


------------------------------
ENVIRONMENT AND OTHER CONTEXT
------------------------------

Environment variables:

    LANG = en_GB.UTF-8
    LANGUAGE = en_GB
    LC_MONETARY = nds_DE.UTF-8
    PATH = /data/mike/bin:/data/mike/bin:/home/mike/bin:/usr/local/bin:/usr/bin:/bin:/usr/bin/X11:/usr/games:/usr/lib/mit/bin:/usr/lib/mit/sbin
    PERL5LIB = 
    PERL5OPT = 
    PERL5_CPANPLUS_IS_RUNNING = 6210
    PERL5_CPAN_IS_RUNNING = 6210
    SHELL = /bin/bash
    TERM = xterm

Perl special variables (and OS-specific diagnostics, for MSWin32):

    $^X = /usr/bin/perl
    $UID/$EUID = 1000 / 1000
    $GID = 100 100
    $EGID = 100 100

Perl module toolchain versions installed:

    Module              Have    
    ------------------- --------
    CPAN                2.16    
    CPAN::Meta          2.150010
    Cwd                 3.62    
    ExtUtils::CBuilder  0.280226
    ExtUtils::Command   7.30    
    ExtUtils::Install   2.14    
    ExtUtils::MakeMaker 7.30    
    ExtUtils::Manifest  1.70    
    ExtUtils::ParseXS   3.30    
    File::Spec          3.62    
    JSON                2.94    
    JSON::PP            2.94    
    Module::Build       0.4224  
    Module::Signature   0.81    
    Parse::CPAN::Meta   2.150010
    Test::Harness       3.39    
    Test::More          1.302086
    YAML                1.23    
    YAML::Syck          n/a     
    version             0.9918  


--

Summary of my perl5 (revision 5 version 18 subversion 2) configuration:
   
  Platform:
    osname=linux, osvers=4.4.24-1-default, archname=x86_64-linux-thread-multi
    uname='linux lamb01 4.4.24-1-default #1 smp wed oct 12 14:23:39 utc 2016 (1288c77) x86_64 x86_64 x86_64 gnulinux '
    config_args='-ds -e -Dprefix=/usr -Dvendorprefix=/usr -Dinstallusrbinperl -Dusethreads -Di_db -Di_dbm -Di_ndbm -Di_gdbm -Dd_dbm_open -Duseshrplib=true -Doptimize=-fmessage-length=0 -grecord-gcc-switches -O2 -Wall -D_FORTIFY_SOURCE=2 -fstack-protector -funwind-tables -fasynchronous-unwind-tables -g -Wall -pipe -Accflags=-DPERL_USE_SAFE_PUTENV -Dotherlibdirs=/usr/lib/perl5/site_perl -Dinc_version_list=5.18.0/x86_64-linux-thread-multi 5.18.0 5.18.1/x86_64-linux-thread-multi 5.18.1'
    hint=recommended, useposix=true, d_sigaction=define
    useithreads=define, usemultiplicity=define
    useperlio=define, d_sfio=undef, uselargefiles=define, usesocks=undef
    use64bitint=define, use64bitall=define, uselongdouble=undef
    usemymalloc=n, bincompat5005=undef
  Compiler:
    cc='cc', ccflags ='-D_REENTRANT -D_GNU_SOURCE -DPERL_USE_SAFE_PUTENV -fno-strict-aliasing -pipe -fstack-protector -D_LARGEFILE_SOURCE -D_FILE_OFFSET_BITS=64',
    optimize='-fmessage-length=0 -grecord-gcc-switches -O2 -Wall -D_FORTIFY_SOURCE=2 -fstack-protector -funwind-tables -fasynchronous-unwind-tables -g -Wall -pipe',
    cppflags='-D_REENTRANT -D_GNU_SOURCE -DPERL_USE_SAFE_PUTENV -fno-strict-aliasing -pipe -fstack-protector'
    ccversion='', gccversion='4.8.5', gccosandvers=''
    intsize=4, longsize=8, ptrsize=8, doublesize=8, byteorder=12345678
    d_longlong=define, longlongsize=8, d_longdbl=define, longdblsize=16
    ivtype='long', ivsize=8, nvtype='double', nvsize=8, Off_t='off_t', lseeksize=8
    alignbytes=8, prototype=define
  Linker and Libraries:
    ld='cc', ldflags =' -L/usr/local/lib64 -fstack-protector'
    libpth=/lib64 /usr/lib64 /usr/local/lib64
    libs=-lm -ldl -lcrypt -lpthread
    perllibs=-lm -ldl -lcrypt -lpthread
    libc=/lib64/libc-2.22.so, so=so, useshrplib=true, libperl=libperl.so
    gnulibc_version='2.22'
  Dynamic Linking:
    dlsrc=dl_dlopen.xs, dlext=so, d_dlsymun=undef, ccdlflags='-Wl,-E -Wl,-rpath,/usr/lib/perl5/5.18.2/x86_64-linux-thread-multi/CORE'
    cccdlflags='-fPIC', lddlflags='-shared -L/usr/local/lib64 -fstack-protector'


Characteristics of this binary (from libperl): 
  Compile-time options: HAS_TIMES MULTIPLICITY PERLIO_LAYERS
                        PERL_DONT_CREATE_GVSV
                        PERL_HASH_FUNC_ONE_AT_A_TIME_HARD
                        PERL_IMPLICIT_CONTEXT PERL_MALLOC_WRAP
                        PERL_PRESERVE_IVUV PERL_SAWAMPERSAND
                        PERL_USE_SAFE_PUTENV USE_64_BIT_ALL USE_64_BIT_INT
                        USE_ITHREADS USE_LARGE_FILES USE_LOCALE
                        USE_LOCALE_COLLATE USE_LOCALE_CTYPE
                        USE_LOCALE_NUMERIC USE_PERLIO USE_PERL_ATOF
                        USE_REENTRANT_API
  Built under linux
  Compiled at Oct 18 2016 09:57:01
  %ENV:
    PERL5LIB=""
    PERL5OPT=""
    PERL5_CPANPLUS_IS_RUNNING="6210"
    PERL5_CPAN_IS_RUNNING="6210"
  @INC:
    /usr/lib/perl5/site_perl/5.18.2/x86_64-linux-thread-multi
    /usr/lib/perl5/site_perl/5.18.2
    /usr/lib/perl5/vendor_perl/5.18.2/x86_64-linux-thread-multi
    /usr/lib/perl5/vendor_perl/5.18.2
    /usr/lib/perl5/5.18.2/x86_64-linux-thread-multi
    /usr/lib/perl5/5.18.2
    /usr/lib/perl5/site_perl
    .