Dist-Zilla-Plugin-Git-NextVersion-Sanitized v0.002003 Perl 5 v5.24.0 x86_64-linux

Status
Pass
From
Slaven Rezić (SREZIC)
Dist
Dist-Zilla-Plugin-Git-NextVersion-Sanitized v0.002003
Platform
Perl 5 v5.24.0 x86_64-linux
Date
2018-03-22 21:00:15
ID
04fd1dc8-2e14-11e8-a99f-9cadcceb348a
This distribution has been tested as part of the CPAN Testers
project, supporting the Perl programming language.  See
http://wiki.cpantesters.org/ for more information or email
questions to cpan-testers-discuss@perl.org


--
Dear Kent Fredric,

This is a computer-generated report for Dist-Zilla-Plugin-Git-NextVersion-Sanitized-0.002003
on perl 5.24.0, created by CPAN-Reporter-1.2018.

Thank you for uploading your work to CPAN.  Congratulations!
All tests were successful.

Sections of this report:

    * Tester comments
    * Program output
    * Prerequisites
    * Environment and other context

------------------------------
TESTER COMMENTS
------------------------------

Additional comments from tester:

none provided

------------------------------
PROGRAM OUTPUT
------------------------------

Output from 'make test':

PERL_DL_NONLAZY=1 "/opt/perl-5.24.0/bin/perl" "-MExtUtils::Command::MM" "-MTest::Harness" "-e" "undef *Test::Harness::Switches; test_harness(0, 'blib/lib', 'blib/arch')" t/*.t t/00-compile/*.t
t/00-compile/lib_Dist_Zilla_Plugin_Git_NextVersion_Sanitized_pm.t .. ok
# 
# Versions for all modules listed in MYMETA.json (including optional ones):
# 
# === Configure Requires ===
# 
#     Module              Want Have
#     ------------------- ---- ----
#     ExtUtils::MakeMaker  any 7.30
# 
# === Configure Recommends ===
# 
#     Module              Want Have
#     ------------------- ---- ----
#     ExtUtils::MakeMaker 7.00 7.30
# 
# === Build Requires ===
# 
#     Module              Want Have
#     ------------------- ---- ----
#     ExtUtils::MakeMaker  any 7.30
# 
# === Test Requires ===
# 
#     Module                              Want     Have
#     ------------------------------- -------- --------
#     Dist::Zilla::Util::Test::KENTNL 1.003001 1.005014
#     ExtUtils::MakeMaker                  any     7.30
#     File::Spec                           any     3.74
#     Git::Wrapper::Plus::Support          any 0.004011
#     Git::Wrapper::Plus::Tester           any 0.004011
#     Test::DZil                           any    6.010
#     Test::Fatal                          any    0.014
#     Test::More                           any 1.302133
# 
# === Test Recommends ===
# 
#     Module                  Want     Have
#     ------------------- -------- --------
#     CPAN::Meta          2.120900 2.150010
#     ExtUtils::MakeMaker     7.00     7.30
#     Test::More              0.99 1.302133
# 
# === Runtime Requires ===
# 
#     Module                                Want     Have
#     ------------------------------------- ---- --------
#     Dist::Zilla::Plugin::Git::NextVersion  any    2.043
#     Dist::Zilla::Role::Version::Sanitize   any 0.002003
#     Moose                                  any   2.2010
#     strict                                 any     1.11
#     utf8                                   any     1.19
#     warnings                               any     1.36
# 
# === Runtime Recommends ===
# 
#     Module  Want   Have
#     ------ ----- ------
#     Moose  2.000 2.2010
# 
t/00-report-prereqs.t .............................................. ok
t/basic.t .......................................................... ok
t/normalise_env.t .................................................. ok
t/normalise_env_dotted.t ........................................... ok
t/normalise_env_vdotted.t .......................................... ok
All tests successful.
Files=6, Tests=14,  5 wallclock secs ( 0.03 usr  0.04 sys +  3.98 cusr  1.04 csys =  5.09 CPU)
Result: PASS

------------------------------
PREREQUISITES
------------------------------

Prerequisite modules loaded:

requires:

    Module                                Need     Have    
    ------------------------------------- -------- --------
    Dist::Zilla::Plugin::Git::NextVersion 0        2.043   
    Dist::Zilla::Role::Version::Sanitize  0        0.002003
    Moose                                 0        2.2010  
    perl                                  5.008    5.024000
    strict                                0        1.11    
    utf8                                  0        1.19    
    warnings                              0        1.36    

build_requires:

    Module                                Need     Have    
    ------------------------------------- -------- --------
    Dist::Zilla::Util::Test::KENTNL       1.003001 1.005014
    ExtUtils::MakeMaker                   0        7.30    
    File::Spec                            0        3.74    
    Git::Wrapper::Plus::Support           0        0.004011
    Git::Wrapper::Plus::Tester            0        0.004011
    Test::DZil                            0        6.010   
    Test::Fatal                           0        0.014   
    Test::More                            0        1.302133

configure_requires:

    Module                                Need     Have    
    ------------------------------------- -------- --------
    ExtUtils::MakeMaker                   0        7.30    
    perl                                  5.008    5.024000


------------------------------
ENVIRONMENT AND OTHER CONTEXT
------------------------------

Environment variables:

    LANG = en_US.UTF-8
    PATH = /usr/local/bin:/usr/bin:/bin:/usr/local/sbin:/usr/sbin:/sbin:/home/cpansand/bin/linux-gnu:/home/cpansand/bin/sh:/home/cpansand/bin:/usr/games:/home/cpansand/devel:/home/eserte/src/srezic-misc/scripts
    PERL5LIB = /home/cpansand/.cpan/build/2018032218/Dist-Zilla-Role-Version-Sanitize-0.002003-8/blib/arch:/home/cpansand/.cpan/build/2018032218/Dist-Zilla-Role-Version-Sanitize-0.002003-8/blib/lib:/home/cpansand/.cpan/build/2018032218/Dist-Zilla-Plugin-Git-NextRelease-0.004001-8/blib/arch:/home/cpansand/.cpan/build/2018032218/Dist-Zilla-Plugin-Git-NextRelease-0.004001-8/blib/lib:/home/cpansand/.cpan/build/2018032218/Dist-Zilla-Plugin-Author-KENTNL-TravisCI-0.001004-8/blib/arch:/home/cpansand/.cpan/build/2018032218/Dist-Zilla-Plugin-Author-KENTNL-TravisCI-0.001004-8/blib/lib:/home/cpansand/.cpan/build/2018032218/Dist-Zilla-Plugin-TravisCI-0.010-5/blib/arch:/home/cpansand/.cpan/build/2018032218/Dist-Zilla-Plugin-TravisCI-0.010-5/blib/lib:/home/cpansand/.cpan/build/2018032218/Dist-Zilla-Plugin-Author-KENTNL-RecommendFixes-0.005004-8/blib/arch:/home/cpansand/.cpan/build/2018032218/Dist-Zilla-Plugin-Author-KENTNL-RecommendFixes-0.005004-8/blib/lib:/home/cpansand/.cpan/build/2018032218/Generic-Assertions-0.001002-8/blib/arch:/home/cpansand/.cpan/build/2018032218/Generic-Assertions-0.001002-8/blib/lib:/home/cpansand/.cpan/build/2018032218/Dist-Zilla-Plugin-Author-KENTNL-CONTRIBUTING-0.001006-8/blib/arch:/home/cpansand/.cpan/build/2018032218/Dist-Zilla-Plugin-Author-KENTNL-CONTRIBUTING-0.001006-8/blib/lib
    PERL5OPT = 
    PERL5_CPANPLUS_IS_RUNNING = 30477
    PERL5_CPAN_IS_RUNNING = 30477
    PERL5_CPAN_IS_RUNNING_IN_RECURSION = 21657,30477
    PERLDOC = -MPod::Perldoc::ToTextOverstrike
    PERL_BATCH = yes
    PERL_CANARY_STABILITY_NOPROMPT = 1
    PERL_CPAN_REPORTER_CONFIG = /var/tmp/cpansmoker-1023/2018032218/cpanreporter_002_config.ini
    PERL_EXTUTILS_AUTOINSTALL = --defaultdeps
    SHELL = /bin/zsh
    TERM = screen
    TMPDIR = /var/tmp/cpansmoker-1023/2018032218

Perl special variables (and OS-specific diagnostics, for MSWin32):

    $^X = /opt/perl-5.24.0/bin/perl
    $UID/$EUID = 1023 / 1023
    $GID = 1023 1023
    $EGID = 1023 1023

Perl module toolchain versions installed:

    Module              Have    
    ------------------- --------
    CPAN                2.16    
    CPAN::Meta          2.150010
    Cwd                 3.74    
    ExtUtils::CBuilder  0.280230
    ExtUtils::Command   7.30    
    ExtUtils::Install   2.06    
    ExtUtils::MakeMaker 7.30    
    ExtUtils::Manifest  1.70    
    ExtUtils::ParseXS   3.31    
    File::Spec          3.74    
    JSON                2.97001 
    JSON::PP            2.97001 
    Module::Build       0.4224  
    Module::Signature   0.81    
    Parse::CPAN::Meta   2.150010
    Test::Harness       3.42    
    Test::More          1.302133
    YAML                1.24    
    YAML::Syck          1.30    
    version             0.9916  


--

Summary of my perl5 (revision 5 version 24 subversion 0) configuration:
   
  Platform:
    osname=linux, osvers=2.6.32-696.3.1.el6.x86_64, archname=x86_64-linux
    uname='linux centos6 2.6.32-696.3.1.el6.x86_64 #1 smp tue may 30 19:52:55 utc 2017 x86_64 x86_64 x86_64 gnulinux '
    config_args='-ds -e -Dprefix=/opt/perl-5.24.0 -Dcf_email=srezic@cpan.org'
    hint=recommended, useposix=true, d_sigaction=define
    useithreads=undef, usemultiplicity=undef
    use64bitint=define, use64bitall=define, uselongdouble=undef
    usemymalloc=n, bincompat5005=undef
  Compiler:
    cc='cc', ccflags ='-fwrapv -fno-strict-aliasing -pipe -fstack-protector -I/usr/local/include -D_LARGEFILE_SOURCE -D_FILE_OFFSET_BITS=64 -D_FORTIFY_SOURCE=2',
    optimize='-O2',
    cppflags='-fwrapv -fno-strict-aliasing -pipe -fstack-protector -I/usr/local/include'
    ccversion='', gccversion='4.4.7 20120313 (Red Hat 4.4.7-18)', gccosandvers=''
    intsize=4, longsize=8, ptrsize=8, doublesize=8, byteorder=12345678, doublekind=3
    d_longlong=define, longlongsize=8, d_longdbl=define, longdblsize=16, longdblkind=3
    ivtype='long', ivsize=8, nvtype='double', nvsize=8, Off_t='off_t', lseeksize=8
    alignbytes=8, prototype=define
  Linker and Libraries:
    ld='cc', ldflags =' -fstack-protector -L/usr/local/lib'
    libpth=/usr/local/lib /usr/lib /lib/../lib64 /usr/lib/../lib64 /lib /lib64 /usr/lib64 /usr/local/lib64
    libs=-lpthread -lnsl -lgdbm -ldb -ldl -lm -lcrypt -lutil -lc
    perllibs=-lpthread -lnsl -ldl -lm -lcrypt -lutil -lc
    libc=libc-2.12.so, so=so, useshrplib=false, libperl=libperl.a
    gnulibc_version='2.12'
  Dynamic Linking:
    dlsrc=dl_dlopen.xs, dlext=so, d_dlsymun=undef, ccdlflags='-Wl,-E'
    cccdlflags='-fPIC', lddlflags='-shared -O2 -L/usr/local/lib -fstack-protector'


Characteristics of this binary (from libperl): 
  Compile-time options: HAS_TIMES PERLIO_LAYERS PERL_COPY_ON_WRITE
                        PERL_DONT_CREATE_GVSV
                        PERL_HASH_FUNC_ONE_AT_A_TIME_HARD PERL_MALLOC_WRAP
                        PERL_PRESERVE_IVUV USE_64_BIT_ALL USE_64_BIT_INT
                        USE_LARGE_FILES USE_LOCALE USE_LOCALE_COLLATE
                        USE_LOCALE_CTYPE USE_LOCALE_NUMERIC USE_LOCALE_TIME
                        USE_PERLIO USE_PERL_ATOF
  Built under linux
  Compiled at Jun 20 2017 21:17:18
  %ENV:
    PERL5LIB="/home/cpansand/.cpan/build/2018032218/Dist-Zilla-Role-Version-Sanitize-0.002003-8/blib/arch:/home/cpansand/.cpan/build/2018032218/Dist-Zilla-Role-Version-Sanitize-0.002003-8/blib/lib:/home/cpansand/.cpan/build/2018032218/Dist-Zilla-Plugin-Git-NextRelease-0.004001-8/blib/arch:/home/cpansand/.cpan/build/2018032218/Dist-Zilla-Plugin-Git-NextRelease-0.004001-8/blib/lib:/home/cpansand/.cpan/build/2018032218/Dist-Zilla-Plugin-Author-KENTNL-TravisCI-0.001004-8/blib/arch:/home/cpansand/.cpan/build/2018032218/Dist-Zilla-Plugin-Author-KENTNL-TravisCI-0.001004-8/blib/lib:/home/cpansand/.cpan/build/2018032218/Dist-Zilla-Plugin-TravisCI-0.010-5/blib/arch:/home/cpansand/.cpan/build/2018032218/Dist-Zilla-Plugin-TravisCI-0.010-5/blib/lib:/home/cpansand/.cpan/build/2018032218/Dist-Zilla-Plugin-Author-KENTNL-RecommendFixes-0.005004-8/blib/arch:/home/cpansand/.cpan/build/2018032218/Dist-Zilla-Plugin-Author-KENTNL-RecommendFixes-0.005004-8/blib/lib:/home/cpansand/.cpan/build/2018032218/Generic-Assertions-0.001002-8/blib/arch:/home/cpansand/.cpan/build/2018032218/Generic-Assertions-0.001002-8/blib/lib:/home/cpansand/.cpan/build/2018032218/Dist-Zilla-Plugin-Author-KENTNL-CONTRIBUTING-0.001006-8/blib/arch:/home/cpansand/.cpan/build/2018032218/Dist-Zilla-Plugin-Author-KENTNL-CONTRIBUTING-0.001006-8/blib/lib"
    PERL5OPT=""
    PERL5_CPANPLUS_IS_RUNNING="30477"
    PERL5_CPAN_IS_RUNNING="30477"
    PERL5_CPAN_IS_RUNNING_IN_RECURSION="21657,30477"
    PERLDOC="-MPod::Perldoc::ToTextOverstrike"
    PERL_BATCH="yes"
    PERL_CANARY_STABILITY_NOPROMPT="1"
    PERL_CPAN_REPORTER_CONFIG="/var/tmp/cpansmoker-1023/2018032218/cpanreporter_002_config.ini"
    PERL_EXTUTILS_AUTOINSTALL="--defaultdeps"
  @INC:
    /home/cpansand/.cpan/build/2018032218/Dist-Zilla-Role-Version-Sanitize-0.002003-8/blib/arch
    /home/cpansand/.cpan/build/2018032218/Dist-Zilla-Role-Version-Sanitize-0.002003-8/blib/lib
    /home/cpansand/.cpan/build/2018032218/Dist-Zilla-Plugin-Git-NextRelease-0.004001-8/blib/arch
    /home/cpansand/.cpan/build/2018032218/Dist-Zilla-Plugin-Git-NextRelease-0.004001-8/blib/lib
    /home/cpansand/.cpan/build/2018032218/Dist-Zilla-Plugin-Author-KENTNL-TravisCI-0.001004-8/blib/arch
    /home/cpansand/.cpan/build/2018032218/Dist-Zilla-Plugin-Author-KENTNL-TravisCI-0.001004-8/blib/lib
    /home/cpansand/.cpan/build/2018032218/Dist-Zilla-Plugin-TravisCI-0.010-5/blib/arch
    /home/cpansand/.cpan/build/2018032218/Dist-Zilla-Plugin-TravisCI-0.010-5/blib/lib
    /home/cpansand/.cpan/build/2018032218/Dist-Zilla-Plugin-Author-KENTNL-RecommendFixes-0.005004-8/blib/arch
    /home/cpansand/.cpan/build/2018032218/Dist-Zilla-Plugin-Author-KENTNL-RecommendFixes-0.005004-8/blib/lib
    /home/cpansand/.cpan/build/2018032218/Generic-Assertions-0.001002-8/blib/arch
    /home/cpansand/.cpan/build/2018032218/Generic-Assertions-0.001002-8/blib/lib
    /home/cpansand/.cpan/build/2018032218/Dist-Zilla-Plugin-Author-KENTNL-CONTRIBUTING-0.001006-8/blib/arch
    /home/cpansand/.cpan/build/2018032218/Dist-Zilla-Plugin-Author-KENTNL-CONTRIBUTING-0.001006-8/blib/lib
    /opt/perl-5.24.0/lib/site_perl/5.24.0/x86_64-linux
    /opt/perl-5.24.0/lib/site_perl/5.24.0
    /opt/perl-5.24.0/lib/5.24.0/x86_64-linux
    /opt/perl-5.24.0/lib/5.24.0
    .