Test-WWW-Mechanize v1.56 Perl 5 v5.24.3 i386-freebsd

Status
Pass
From
Chris Williams (BINGOS)
Dist
Test-WWW-Mechanize v1.56
Platform
Perl 5 v5.24.3 i386-freebsd
Date
2022-04-30 08:39:16
ID
0509abce-c861-11ec-8f4e-c962458f5e5b
This distribution has been tested as part of the CPAN Testers
project, supporting the Perl programming language.  See
http://wiki.cpantesters.org/ for more information or email
questions to cpan-testers-discuss@perl.org


--

Dear PETDANCE,

This is a computer-generated error report created automatically by
CPANPLUS, version 0.9914. Testers personal comments may appear
at the end of this report.


Thank you for uploading your work to CPAN.  Congratulations!
All tests were successful.

TEST RESULTS:

Below is the error stack from stage 'make test':

PERL_DL_NONLAZY=1 "/usr/home/cpan/pit/bare/perl-5.24.3/bin/perl5.24.3" "-MExtUtils::Command::MM" "-MTest::Harness" "-e" "undef *Test::Harness::Switches; test_harness(0, 'blib/lib', 'blib/arch')" t/*.t
# Testing Test::WWW::Mechanize 1.56 undef Perl 5.024003, /usr/home/cpan/pit/bare/perl-5.24.3/bin/perl5.24.3
# LWP 6.64
# WWW::Mechanize 2.07
# Test::More 1.302190
# Test::Builder::Tester 1.302190
# Optional HTML::Lint not found. Install it to use additional features.
# Optional HTML::Tidy5 not found. Install it to use additional features.
t/00-load.t ................ ok
t/autolint.t ............... skipped: HTML::Lint 2.20 is not installed, cannot test autolint
t/autotidy.t ............... skipped: Optional HTML::Tidy5 1.00 is not installed, cannot test autotidy.
t/button_exists.t .......... ok
# Test server http://127.0.0.1:36632 as PID 18702
t/click_ok.t ............... ok
t/content_contains.t ....... ok
t/content_lacks.t .......... ok
# Test server http://127.0.0.1:23780 as PID 18708
t/delete_ok.t .............. ok
t/follow_link_ok.t ......... ok
t/followable_links.t ....... ok
t/get_ok-parms.t ........... ok
t/get_ok.t ................. ok
t/has_tag.t ................ ok
t/head_ok-parms.t .......... ok
t/head_ok.t ................ ok
# Test server http://127.0.0.1:32157 as PID 18729
t/headers.t ................ ok
t/html_lint_ok.t ........... skipped: HTML::Lint 2.20 is not installed, cannot test html_lint_ok
t/html_tidy_ok.t ........... skipped: Optional HTML::Tidy5 1.00 is not installed, cannot test html_tidy_ok
t/id_exists.t .............. ok
t/lacks_uncapped_inputs.t .. ok
t/link_content.t ........... ok
t/link_status.t ............ ok
t/links_ok.t ............... ok
t/new.t .................... ok
t/page_links_content.t ..... ok
t/page_links_ok.t .......... ok
t/pod-coverage.t ........... skipped: Test::Pod::Coverage 0.08 required for testing POD coverage
t/pod.t .................... skipped: Test::Pod 1.00 required for testing POD
# Test server http://127.0.0.1:30349 as PID 18754
t/put_ok.t ................. ok
t/scrape_text_by_id.t ...... ok
t/stuff_inputs.t ........... ok
# Test server http://127.0.0.1:39110 as PID 18761
t/submit_form_ok.t ......... ok
t/text_contains.t .......... ok
t/title_is.t ............... ok
All tests successful.
Files=34, Tests=287, 21 wallclock secs ( 0.13 usr  0.18 sys + 10.45 cusr  5.03 csys = 15.80 CPU)
Result: PASS


PREREQUISITES:

Here is a list of prerequisites you specified and versions we
managed to load:

	  Module Name                        Have     Want
	  Carp                               1.40        0
	  Carp::Assert::More                2.0.1     1.16
	  ExtUtils::MakeMaker                7.64        0
	  HTML::Form                         6.07        0
	  HTML::TokeParser                   3.78        0
	  HTTP::Message                      6.36     6.29
	  HTTP::Server::Simple               0.52     0.42
	  HTTP::Server::Simple::CGI             0        0
	  LWP                                6.64     6.02
	  Test::Builder::Tester          1.302190     1.09
	  Test::LongString                   0.17     0.15
	  Test::More                     1.302190     0.96
	  URI::file                          5.10        0
	  WWW::Mechanize                     2.07     1.68
	  parent                            0.234        0

Perl module toolchain versions installed:
	Module Name                        Have
	CPANPLUS                         0.9914
	CPANPLUS::Dist::Build              0.90
	Cwd                                3.75
	ExtUtils::CBuilder             0.280236
	ExtUtils::Command                  7.64
	ExtUtils::Install                  2.20
	ExtUtils::MakeMaker                7.64
	ExtUtils::Manifest                 1.73
	ExtUtils::ParseXS                  3.44
	File::Spec                         3.75
	Module::Build                    0.4231
	Pod::Parser                        1.63
	Pod::Simple                        3.32
	Test2                          1.302190
	Test::Harness                      3.42
	Test::More                     1.302190
	version                          0.9929

******************************** NOTE ********************************
The comments above are created mechanically, possibly without manual
checking by the sender.  As there are many people performing automatic
tests on each upload to CPAN, it is likely that you will receive
identical messages about the same problem.

If you believe that the message is mistaken, please reply to the first
one with correction and/or additional informations, and do not take
it personally.  We appreciate your patience. :)
**********************************************************************

Additional comments:


This report was machine-generated by CPANPLUS::Dist::YACSmoke 1.08.
Powered by minismokebox version 0.68

CPANPLUS is prefering Build.PL

------------------------------
ENVIRONMENT AND OTHER CONTEXT
------------------------------

Environment variables:

    AUTOMATED_TESTING = 1
    NONINTERACTIVE_TESTING = 1
    PATH = /sbin:/bin:/usr/sbin:/usr/bin:/usr/local/sbin:/usr/local/bin:/home/cpan/bin
    PERL5LIB = /usr/home/cpan/pit/jail/t_3sSCmgT2/lib/perl5:/usr/home/cpan/pit/bare/conf/perl-5.24.3/.cpanplus/5.24.3/build/lt91Fk0DQb/Test-WWW-Mechanize-1.56/blib/lib:/usr/home/cpan/pit/bare/conf/perl-5.24.3/.cpanplus/5.24.3/build/lt91Fk0DQb/Test-WWW-Mechanize-1.56/blib/arch
    PERL5_CPANPLUS_IS_RUNNING = 14782
    PERL5_CPANPLUS_IS_VERSION = 0.9914
    PERL5_MINISMOKEBOX = 0.68
    PERL5_YACSMOKE_BASE = /usr/home/cpan/pit/bare/conf/perl-5.24.3
    PERL_EXTUTILS_AUTOINSTALL = --defaultdeps
    PERL_LOCAL_LIB_ROOT = /usr/home/cpan/pit/jail/t_3sSCmgT2
    PERL_MB_OPT = --install_base "/usr/home/cpan/pit/jail/t_3sSCmgT2"
    PERL_MM_OPT = INSTALL_BASE=/usr/home/cpan/pit/jail/t_3sSCmgT2
    PERL_MM_USE_DEFAULT = 1
    SHELL = /usr/local/bin/bash
    TERM = screen

Perl special variables (and OS-specific diagnostics, for MSWin32):

    Perl: $^X = /usr/home/cpan/pit/bare/perl-5.24.3/bin/perl5.24.3
    UID:  $<  = 1002
    EUID: $>  = 1002
    GID:  $(  = 1002 1002
    EGID: $)  = 1002 1002


-------------------------------


--

Summary of my perl5 (revision 5 version 24 subversion 3) configuration:
   
  Platform:
    osname=freebsd, osvers=12.3-release, archname=i386-freebsd
    uname='freebsd ffyrc 12.3-release freebsd 12.3-release r371126 generic i386 '
    config_args='-des -Dprefix=/usr/home/cpan/pit/bare/perl-5.24.3'
    hint=recommended, useposix=true, d_sigaction=define
    useithreads=undef, usemultiplicity=undef
    use64bitint=undef, use64bitall=undef, uselongdouble=undef
    usemymalloc=n, bincompat5005=undef
  Compiler:
    cc='cc', ccflags ='-DHAS_FPSETMASK -DHAS_FLOATINGPOINT_H -fno-strict-aliasing -pipe -fstack-protector-strong -I/usr/local/include',
    optimize='-O2',
    cppflags='-DHAS_FPSETMASK -DHAS_FLOATINGPOINT_H -fno-strict-aliasing -pipe -fstack-protector-strong -I/usr/local/include'
    ccversion='', gccversion='FreeBSD Clang 10.0.1 (git@github.com:llvm/llvm-project.git llvmorg-10.0.1-0-gef32c611aa2)', gccosandvers=''
    intsize=4, longsize=4, ptrsize=4, doublesize=8, byteorder=1234, doublekind=3
    d_longlong=define, longlongsize=8, d_longdbl=define, longdblsize=12, longdblkind=3
    ivtype='long', ivsize=4, nvtype='double', nvsize=8, Off_t='off_t', lseeksize=8
    alignbytes=4, prototype=define
  Linker and Libraries:
    ld='cc', ldflags ='-Wl,-E  -fstack-protector-strong -L/usr/local/lib'
    libpth=/usr/lib /usr/local/lib /usr/lib/clang/10.0.1/lib /usr/lib
    libs=-lpthread -lgdbm -ldl -lm -lcrypt -lutil -lc
    perllibs=-lpthread -ldl -lm -lcrypt -lutil -lc
    libc=, so=so, useshrplib=false, libperl=libperl.a
    gnulibc_version=''
  Dynamic Linking:
    dlsrc=dl_dlopen.xs, dlext=so, d_dlsymun=undef, ccdlflags=' '
    cccdlflags='-DPIC -fPIC', lddlflags='-shared  -L/usr/local/lib -fstack-protector-strong'


Characteristics of this binary (from libperl): 
  Compile-time options: HAS_TIMES PERLIO_LAYERS PERL_COPY_ON_WRITE
                        PERL_DONT_CREATE_GVSV
                        PERL_HASH_FUNC_ONE_AT_A_TIME_HARD PERL_MALLOC_WRAP
                        PERL_PRESERVE_IVUV USE_LARGE_FILES USE_LOCALE
                        USE_LOCALE_COLLATE USE_LOCALE_CTYPE
                        USE_LOCALE_NUMERIC USE_LOCALE_TIME USE_PERLIO
                        USE_PERL_ATOF
  Locally applied patches:
	Devel::PatchPerl 2.08
  Built under freebsd
  Compiled at Dec 12 2021 02:41:40
  %ENV:
    PERL5LIB="/usr/home/cpan/pit/jail/t_3sSCmgT2/lib/perl5:/usr/home/cpan/pit/bare/conf/perl-5.24.3/.cpanplus/5.24.3/build/lt91Fk0DQb/Test-WWW-Mechanize-1.56/blib/lib:/usr/home/cpan/pit/bare/conf/perl-5.24.3/.cpanplus/5.24.3/build/lt91Fk0DQb/Test-WWW-Mechanize-1.56/blib/arch"
    PERL5_CPANPLUS_IS_RUNNING="14782"
    PERL5_CPANPLUS_IS_VERSION="0.9914"
    PERL5_MINISMOKEBOX="0.68"
    PERL5_YACSMOKE_BASE="/usr/home/cpan/pit/bare/conf/perl-5.24.3"
    PERL_EXTUTILS_AUTOINSTALL="--defaultdeps"
    PERL_LOCAL_LIB_ROOT="/usr/home/cpan/pit/jail/t_3sSCmgT2"
    PERL_MB_OPT="--install_base "/usr/home/cpan/pit/jail/t_3sSCmgT2""
    PERL_MM_OPT="INSTALL_BASE=/usr/home/cpan/pit/jail/t_3sSCmgT2"
    PERL_MM_USE_DEFAULT="1"
  @INC:
    /usr/home/cpan/pit/jail/t_3sSCmgT2/lib/perl5/5.24.3/i386-freebsd
    /usr/home/cpan/pit/jail/t_3sSCmgT2/lib/perl5/5.24.3
    /usr/home/cpan/pit/jail/t_3sSCmgT2/lib/perl5/i386-freebsd
    /usr/home/cpan/pit/jail/t_3sSCmgT2/lib/perl5
    /usr/home/cpan/pit/bare/conf/perl-5.24.3/.cpanplus/5.24.3/build/lt91Fk0DQb/Test-WWW-Mechanize-1.56/blib/lib
    /usr/home/cpan/pit/bare/conf/perl-5.24.3/.cpanplus/5.24.3/build/lt91Fk0DQb/Test-WWW-Mechanize-1.56/blib/arch
    /usr/home/cpan/pit/bare/perl-5.24.3/lib/site_perl/5.24.3/i386-freebsd
    /usr/home/cpan/pit/bare/perl-5.24.3/lib/site_perl/5.24.3
    /usr/home/cpan/pit/bare/perl-5.24.3/lib/5.24.3/i386-freebsd
    /usr/home/cpan/pit/bare/perl-5.24.3/lib/5.24.3
    .