WWW-FetchStory v0.2307 Perl 5 v5.28.2 x86_64-linux
- Status
- Pass
- From
- Andreas J. König (ANDK)
- Dist
-
WWW-FetchStory v0.2307
- Platform
- Perl 5 v5.28.2 x86_64-linux
- Date
- 2022-07-18 16:09:36
- ID
- 0511df60-06b4-11ed-bbda-666910154312
This distribution has been tested as part of the CPAN Testers
project, supporting the Perl programming language. See
http://wiki.cpantesters.org/ for more information or email
questions to cpan-testers-discuss@perl.org
--
Dear Kathryn Andersen,
This is a computer-generated report for WWW-FetchStory-0.2307
on perl 5.28.2, created by CPAN-Reporter-1.2018.
Thank you for uploading your work to CPAN. Congratulations!
All tests were successful.
Sections of this report:
* Tester comments
* Program output
* Prerequisites
* Environment and other context
------------------------------
TESTER COMMENTS
------------------------------
Additional comments from tester:
this report is from an automated smoke testing program
and was not reviewed by a human for accuracy
------------------------------
PROGRAM OUTPUT
------------------------------
Output from './Build test':
t/00-compile.t ........... ok
#
# Versions for all modules listed in MYMETA.json (including optional ones):
#
# === Configure Requires ===
#
# Module Want Have
# ------------- ---- ------
# Module::Build 0.28 0.4231
#
# === Build Requires ===
#
# Module Want Have
# ------------- ---- ------
# Module::Build 0.28 0.4231
#
# === Test Requires ===
#
# Module Want Have
# ------------------- ---- --------
# ExtUtils::MakeMaker any 7.64
# File::Spec any 3.75
# IO::Handle any 1.48
# IPC::Open3 any 1.20
# Test::More any 1.302190
#
# === Test Recommends ===
#
# Module Want Have
# ---------- -------- --------
# CPAN::Meta 2.120900 2.150010
#
# === Runtime Requires ===
#
# Module Want Have
# ---------------------- ---- ------
# Archive::Zip any 1.68
# Date::Format any 2.24
# EBook::EPUB any 0.6
# Encode any 3.16
# Encode::ZapCP1252 any 0.40
# File::Basename any 2.85
# File::Temp any 0.2311
# Getopt::Long 2.34 2.52
# HTML::Entities any 3.77
# HTML::Strip any 2.10
# HTML::Tidy::libXML any 0.02
# HTTP::Cookies any 6.10
# HTTP::Cookies::Mozilla any 2.036
# Module::Pluggable any 5.2
# Pod::Usage any 1.69
# WWW::Mechanize::Sleepy any 0.7
# XML::LibXML any 2.0207
# YAML::Any any 1.30
# strict any 1.11
# warnings any 1.42
#
t/00-report-prereqs.t .... ok
t/author-distmeta.t ...... skipped: these tests are for testing by the author
t/author-pod-coverage.t .. skipped: these tests are for testing by the author
t/author-pod-syntax.t .... skipped: these tests are for testing by the author
t/author-portability.t ... skipped: these tests are for testing by the author
t/release-has-version.t .. skipped: these tests are for release candidate testing
All tests successful.
Files=7, Tests=27, 4 wallclock secs ( 0.04 usr 0.02 sys + 1.68 cusr 0.55 csys = 2.29 CPU)
Result: PASS
------------------------------
PREREQUISITES
------------------------------
Prerequisite modules loaded:
requires:
Module Need Have
---------------------- ----- --------
Archive::Zip 0 1.68
Date::Format 0 2.24
EBook::EPUB 0 0.6
Encode 0 3.16
Encode::ZapCP1252 0 0.40
File::Basename 0 2.85
File::Temp 0 0.2311
Getopt::Long 2.34 2.52
HTML::Entities 0 3.77
HTML::Strip 0 2.10
HTML::Tidy::libXML 0 0.02
HTTP::Cookies 0 6.10
HTTP::Cookies::Mozilla 0 2.036
Module::Pluggable 0 5.2
Pod::Usage 0 1.69
strict 0 1.11
warnings 0 1.42
WWW::Mechanize::Sleepy 0 0.7
XML::LibXML 0 2.0207
YAML::Any 0 1.30
build_requires:
Module Need Have
---------------------- ----- --------
ExtUtils::MakeMaker 0 7.64
File::Spec 0 3.75
IO::Handle 0 1.48
IPC::Open3 0 1.20
Module::Build 0.28 0.4231
perl 5.006 5.028002
Test::More 0 1.302190
configure_requires:
Module Need Have
---------------------- ----- --------
Module::Build 0.28 0.4231
------------------------------
ENVIRONMENT AND OTHER CONTEXT
------------------------------
Environment variables:
AUTOMATED_TESTING = 1
LANG = en_US.UTF-8
LANGUAGE = en_US:en
PATH = /home/sand/bin:/usr/local/bin:/usr/bin:/bin:/usr/games:/usr/local/perl/bin:/usr/X11/bin:/sbin:/usr/sbin
PERL5LIB =
PERL5OPT =
PERL5_CPANPLUS_IS_RUNNING = 4175231
PERL5_CPAN_IS_RUNNING = 4175231
PERL_CANARY_STABILITY_NOPROMPT = 1
PERL_MM_USE_DEFAULT = 1
PERL_USE_UNSAFE_INC = 1
SHELL = /usr/bin/zsh
TERM = screen
Perl special variables (and OS-specific diagnostics, for MSWin32):
$^X = /home/sand/src/perl/repoperls/installed-perls/host/k93msid/v5.28.2/bb7f/bin/perl
$UID/$EUID = 1005 / 1005
$GID = 1005 1005
$EGID = 1005 1005
Perl module toolchain versions installed:
Module Have
------------------- --------
CPAN 2.33
CPAN::Meta 2.150010
Cwd 3.75
ExtUtils::CBuilder 0.280236
ExtUtils::Command 7.64
ExtUtils::Install 2.14
ExtUtils::MakeMaker 7.64
ExtUtils::Manifest 1.70
ExtUtils::ParseXS 3.39
File::Spec 3.75
JSON 4.07
JSON::PP 4.07
Module::Build 0.4231
Module::Signature 0.88
Parse::CPAN::Meta 2.150010
Test::Harness 3.43_06
Test::More 1.302190
YAML 1.30
YAML::Syck 1.34
version 0.9929
--
Summary of my perl5 (revision 5 version 28 subversion 2) configuration:
Derived from: c763da0e1c4ed5f24d490617b5a28c81fb69f6c4
Platform:
osname=linux
osvers=5.16.0-5-amd64
archname=x86_64-linux
uname='linux k93msid 5.16.0-5-amd64 #1 smp preempt debian 5.16.14-1 (2022-03-15) x86_64 gnulinux '
config_args='-Dprefix=/home/sand/src/perl/repoperls/installed-perls/host/k93msid/v5.28.2/bb7f -Dmyhostname=k93msid -Dinstallusrbinperl=n -Uversiononly -Dusedevel -des -Ui_db -Dlibswanted=cl pthread socket inet nsl gdbm dbm malloc dl ld sun m crypt sec util c cposix posix ucb BSD gdbm_compat -Uuseithreads -Uuselongdouble -DEBUGGING=both'
hint=recommended
useposix=true
d_sigaction=define
useithreads=undef
usemultiplicity=undef
use64bitint=define
use64bitall=define
uselongdouble=undef
usemymalloc=n
default_inc_excludes_dot=define
bincompat5005=undef
Compiler:
cc='cc'
ccflags ='-fwrapv -DDEBUGGING -fno-strict-aliasing -pipe -fstack-protector-strong -I/usr/local/include -D_LARGEFILE_SOURCE -D_FILE_OFFSET_BITS=64 -D_FORTIFY_SOURCE=2'
optimize='-O2 -g'
cppflags='-fwrapv -DDEBUGGING -fno-strict-aliasing -pipe -fstack-protector-strong -I/usr/local/include'
ccversion=''
gccversion='11.2.0'
gccosandvers=''
intsize=4
longsize=8
ptrsize=8
doublesize=8
byteorder=12345678
doublekind=3
d_longlong=define
longlongsize=8
d_longdbl=define
longdblsize=16
longdblkind=3
ivtype='long'
ivsize=8
nvtype='double'
nvsize=8
Off_t='off_t'
lseeksize=8
alignbytes=8
prototype=define
Linker and Libraries:
ld='cc'
ldflags =' -fstack-protector-strong -L/usr/local/lib'
libpth=/usr/local/lib /usr/include/x86_64-linux-gnu /usr/lib /lib/x86_64-linux-gnu /lib/../lib /usr/lib/x86_64-linux-gnu /usr/lib/../lib /lib
libs=-lpthread -lnsl -ldl -lm -lcrypt -lutil -lc
perllibs=-lpthread -lnsl -ldl -lm -lcrypt -lutil -lc
libc=libc-2.33.so
so=so
useshrplib=false
libperl=libperl.a
gnulibc_version='2.33'
Dynamic Linking:
dlsrc=dl_dlopen.xs
dlext=so
d_dlsymun=undef
ccdlflags='-Wl,-E'
cccdlflags='-fPIC'
lddlflags='-shared -O2 -g -L/usr/local/lib -fstack-protector-strong'
Characteristics of this binary (from libperl):
Compile-time options:
DEBUGGING
HAS_TIMES
PERLIO_LAYERS
PERL_COPY_ON_WRITE
PERL_DONT_CREATE_GVSV
PERL_MALLOC_WRAP
PERL_OP_PARENT
PERL_PRESERVE_IVUV
PERL_USE_DEVEL
USE_64_BIT_ALL
USE_64_BIT_INT
USE_LARGE_FILES
USE_LOCALE
USE_LOCALE_COLLATE
USE_LOCALE_CTYPE
USE_LOCALE_NUMERIC
USE_LOCALE_TIME
USE_PERLIO
USE_PERL_ATOF
Locally applied patches:
uncommitted-changes
Built under linux
Compiled at Mar 18 2022 09:00:16
%ENV:
PERL5LIB=""
PERL5OPT=""
PERL5_CPANPLUS_IS_RUNNING="4175231"
PERL5_CPAN_IS_RUNNING="4175231"
PERL_CANARY_STABILITY_NOPROMPT="1"
PERL_MM_USE_DEFAULT="1"
PERL_USE_UNSAFE_INC="1"
@INC:
/home/sand/src/perl/repoperls/installed-perls/host/k93msid/v5.28.2/bb7f/lib/site_perl/5.28.2/x86_64-linux
/home/sand/src/perl/repoperls/installed-perls/host/k93msid/v5.28.2/bb7f/lib/site_perl/5.28.2
/home/sand/src/perl/repoperls/installed-perls/host/k93msid/v5.28.2/bb7f/lib/5.28.2/x86_64-linux
/home/sand/src/perl/repoperls/installed-perls/host/k93msid/v5.28.2/bb7f/lib/5.28.2
.