Report for Geo-Coder-Many-0.46-5

Back
From: metabase:user:30f4dfbe-2aae-11df-837a-5e0a49663a4f
Subject: PASS Geo-Coder-Many-0.46-5 v5.10.1 Mac OS X
Date: 2014-06-05T02:35:12Z

This distribution has been tested as part of the CPAN Testers
project, supporting the Perl programming language.  See
http://wiki.cpantesters.org/ for more information or email
questions to cpan-testers-discuss@perl.org


--
Dear Alex Balhatchet,

This is a computer-generated report for Geo-Coder-Many-0.46-5
on perl 5.10.1, created by CPAN-Reporter-1.2011.

Thank you for uploading your work to CPAN.  Congratulations!
All tests were successful.

Sections of this report:

    * Tester comments
    * Program output
    * Prerequisites
    * Environment and other context

------------------------------
TESTER COMMENTS
------------------------------

Additional comments from tester:

this report is from an automated smoke testing program
and was not reviewed by a human for accuracy

------------------------------
PROGRAM OUTPUT
------------------------------

Output from './Build test':

t/critic.t .................... skipped: Author test.  Set $ENV{TEST_AUTHOR} to a true value to run.
t/geo-coder-many-geocoders.t .. ok
t/geo-coder-many-util.t ....... ok
Geo::Coder::Bing was not available - not testing it.
Geo::Coder::Google was not available - not testing it.
Geo::Coder::Mapquest was not available - not testing it.
Geo::Coder::OSM was not available - not testing it.
Geo::Coder::PlaceFinder was not available - not testing it.
t/geo-coder-many.t ............ ok
t/kwalitee.t .................. skipped: Author test.  Set $ENV{TEST_AUTHOR} to a true value to run.
t/pod-coverage.t .............. skipped: Author test.  Set $ENV{TEST_AUTHOR} to a true value to run.
t/pod.t ....................... skipped: Author test.  Set $ENV{TEST_AUTHOR} to a true value to run.
t/release-cpan-changes.t ...... ok
All tests successful.
Files=8, Tests=229,  6 wallclock secs ( 0.05 usr  0.02 sys +  0.57 cusr  0.05 csys =  0.69 CPU)
Result: PASS

------------------------------
PREREQUISITES
------------------------------

Prerequisite modules loaded:

requires:

    Module                         Need   Have      
    ------------------------------ ------ ----------
    Geo::Distance::XS              0.08   0.11      
    HTTP::Request                  5.827  6.00      
    List::MoreUtils                0.22   0.33      
    List::Util                     1.23   1.38      
    List::Util::WeightedRoundRobin 0.4    0.4       
    Net::Ping                      2.33   2.41      
    perl                           5.010  5.010001  
    Sort::Versions                 1.5    1.5       
    Time::HiRes                    1.9711 1.9726    

build_requires:

    Module                         Need   Have      
    ------------------------------ ------ ----------
    Test::Exception                0      0.32      
    Test::MockObject               0      1.20140408
    Test::Pod::Coverage            0      1.08      
    Test::Simple                   0      1.001003  

configure_requires:

    Module                         Need   Have      
    ------------------------------ ------ ----------
    ExtUtils::MakeMaker            0      6.98      


------------------------------
ENVIRONMENT AND OTHER CONTEXT
------------------------------

Environment variables:

    AUTOMATED_TESTING = 1
    LC_ALL = POSIX
    LD_LIBRARY_PATH = :/net/traces01.be-md.ncbi.nlm.nih.gov/trace_software/vdb/mac/release/x86_64/lib
    PATH = /Users/hornenj/perl5/perlbrew/bin:/Users/hornenj/perl5/perlbrew/perls/perl-5.10.1/bin:/Users/hornenj/perl5/perlbrew/bin:/Users/hornenj/perl5/perlbrew/perls/perl-5.20.0/bin:/sw/lib/perl5/ExtUtils:/sw/bin:/sw/sbin:/am/ncbiapdata/bin:/usr/bin:/bin:/usr/X11R6/bin:/Users/hornenj/bin:/netopt/ncbi_tools/bin:/usr/local/ncbi/blast/bin:/net/traces01.be-md.ncbi.nlm.nih.gov/trace_software/vdb/mac/release/x86_64/bin
    PERL5LIB = /Users/hornenj/.cpan/build/List-Util-WeightedRoundRobin-0.4-Y65Ss0/blib/arch:/Users/hornenj/.cpan/build/List-Util-WeightedRoundRobin-0.4-Y65Ss0/blib/lib:/Users/hornenj/.cpan/build/Geo-Distance-XS-0.11-q2jQua/blib/arch:/Users/hornenj/.cpan/build/Geo-Distance-XS-0.11-q2jQua/blib/lib:/Users/hornenj/.cpan/build/Geo-Distance-0.20-Uen3bq/blib/arch:/Users/hornenj/.cpan/build/Geo-Distance-0.20-Uen3bq/blib/lib:/Users/hornenj/.cpan/build/Test-MockObject-1.20140408-bm97LE/blib/arch:/Users/hornenj/.cpan/build/Test-MockObject-1.20140408-bm97LE/blib/lib:/Users/hornenj/.cpan/build/UNIVERSAL-can-1.20140328-zbWhtO/blib/arch:/Users/hornenj/.cpan/build/UNIVERSAL-can-1.20140328-zbWhtO/blib/lib:/Users/hornenj/.cpan/build/UNIVERSAL-isa-1.20120726-Z9CJ2W/blib/arch:/Users/hornenj/.cpan/build/UNIVERSAL-isa-1.20120726-Z9CJ2W/blib/lib
    PERL5OPT = 
    PERL5_CPANPLUS_IS_RUNNING = 89340
    PERL5_CPAN_IS_RUNNING = 89340
    PERL5_MINISMOKEBOX = 0.58
    PERLBREW_BASHRC_VERSION = 0.67
    PERLBREW_HOME = /Users/hornenj/.perlbrew
    PERLBREW_MANPATH = /Users/hornenj/perl5/perlbrew/perls/perl-5.10.1/man
    PERLBREW_PATH = /Users/hornenj/perl5/perlbrew/bin:/Users/hornenj/perl5/perlbrew/perls/perl-5.10.1/bin
    PERLBREW_PERL = perl-5.10.1
    PERLBREW_ROOT = /Users/hornenj/perl5/perlbrew
    PERLBREW_VERSION = 0.67
    PERL_EXTUTILS_AUTOINSTALL = --defaultdeps
    PERL_MM_USE_DEFAULT = 1
    SHELL = /bin/bash
    TERM = xterm
    TMPDIR = /var/folders/pz/pd7y1qjs6s3cbk170cw50fjc000c61/T/
    VERSIONER_PERL_PREFER_32_BIT = no
    VERSIONER_PERL_VERSION = 5.12
    ac_cv_path_INTLTOOL_PERL = /usr/bin/perl

Perl special variables (and OS-specific diagnostics, for MSWin32):

    $^X = /Users/hornenj/perl5/perlbrew/perls/perl-5.10.1/bin/perl
    $UID/$EUID = 12481 / 12481
    $GID = 14 14 5344 527 241 223 206 402 12 62 204
    $EGID = 14 14 5344 527 241 223 206 402 12 62 204

Perl module toolchain versions installed:

    Module              Have    
    ------------------- --------
    CPAN                2.05    
    CPAN::Meta          2.141170
    Cwd                 3.47    
    ExtUtils::CBuilder  0.280216
    ExtUtils::Command   1.18    
    ExtUtils::Install   1.67    
    ExtUtils::MakeMaker 6.98    
    ExtUtils::Manifest  1.63    
    ExtUtils::ParseXS   3.24    
    File::Spec          3.47    
    JSON                2.61    
    JSON::PP            2.27203 
    Module::Build       0.4205  
    Module::Signature   n/a     
    Parse::CPAN::Meta   1.4414  
    Test::Harness       3.30    
    Test::More          1.001003
    YAML                0.90    
    YAML::Syck          1.27    
    version             0.9908  


--

Summary of my perl5 (revision 5 version 10 subversion 1) configuration:
   
  Platform:
    osname=darwin, osvers=12.5.0, archname=darwin-thread-multi-2level
    uname='darwin ncbimac2008.ncbi.nlm.nih.gov 12.5.0 darwin kernel version 12.5.0: sun sep 29 13:33:47 pdt 2013; root:xnu-2050.48.12~1release_x86_64 x86_64 '
    config_args='-Duseithreads -Dusemultiplicity -Dinstallprefix=/Users/hornenj/perl5/perlbrew/perls/perl-5.10.1 -Dprefix=/Users/hornenj/perl5/perlbrew/perls/perl-5.10.1 -de -Accflags=-O2 -W -Wformat=2 -Wswitch -Wshadow -Wwrite-strings -Wuninitialized -Wall -pipe -mtune=native -march=native -fomit-frame-pointer -msse2 -msse -mmmx -pedantic -D_FORTIFY_SOURCE=2 -Wpointer-arith -Wstrict-prototypes -fstack-protector -Wstack-protector -Wextra -Wbad-function-cast -Wcast-align -Wcast-qual -Wdisabled-optimization -Wendif-labels -Wfloat-equal -Wformat-nonliteral -Winline -Wmissing-declarations -Wmissing-prototypes -Wnested-externs -Wpointer-arith -Wundef -Wformat-security -fassociative-math -Acc=clang'
    hint=recommended, useposix=true, d_sigaction=define
    useithreads=define, usemultiplicity=define
    useperlio=define, d_sfio=undef, uselargefiles=define, usesocks=undef
    use64bitint=define, use64bitall=define, uselongdouble=undef
    usemymalloc=n, bincompat5005=undef
  Compiler:
    cc=' clang', ccflags ='-fno-common -DPERL_DARWIN -no-cpp-precomp -O2 -W -Wformat=2 -Wswitch -Wshadow -Wwrite-strings -Wuninitialized -Wall -pipe -mtune=native -march=native -fomit-frame-pointer -msse2 -msse -mmmx -pedantic -D_FORTIFY_SOURCE=2 -Wpointer-arith -Wstrict-prototypes -fstack-protector -Wstack-protector -Wextra -Wbad-function-cast -Wcast-align -Wcast-qual -Wdisabled-optimization -Wendif-labels -Wfloat-equal -Wformat-nonliteral -Winline -Wmissing-declarations -Wmissing-prototypes -Wnested-externs -Wpointer-arith -Wundef -Wformat-security -fassociative-math -fno-strict-aliasing -I/usr/local/include',
    optimize='-O3',
    cppflags='-no-cpp-precomp -fno-common -DPERL_DARWIN -no-cpp-precomp -O2 -W -Wformat=2 -Wswitch -Wshadow -Wwrite-strings -Wuninitialized -Wall -pipe -mtune=native -march=native -fomit-frame-pointer -msse2 -msse -mmmx -pedantic -D_FORTIFY_SOURCE=2 -Wpointer-arith -Wstrict-prototypes -fstack-protector -Wstack-protector -Wextra -Wbad-function-cast -Wcast-align -Wcast-qual -Wdisabled-optimization -Wendif-labels -Wfloat-equal -Wformat-nonliteral -Winline -Wmissing-declarations -Wmissing-prototypes -Wnested-externs -Wpointer-arith -Wundef -Wformat-security -fassociative-math -fno-strict-aliasing -I/usr/local/include'
    ccversion='', gccversion='4.2.1 Compatible Apple LLVM 4.2 (clang-425.0.24)', gccosandvers=''
    intsize=4, longsize=8, ptrsize=8, doublesize=8, byteorder=12345678
    d_longlong=define, longlongsize=8, d_longdbl=define, longdblsize=16
    ivtype='long', ivsize=8, nvtype='double', nvsize=8, Off_t='off_t', lseeksize=8
    alignbytes=8, prototype=define
  Linker and Libraries:
    ld='env MACOSX_DEPLOYMENT_TARGET=10.3 cc', ldflags =' -fstack-protector -L/usr/local/lib'
    libpth=/usr/local/lib /usr/lib
    libs=-ldbm -ldl -lm -lutil -lc
    perllibs=-ldl -lm -lutil -lc
    libc=, so=dylib, useshrplib=false, libperl=libperl.a
    gnulibc_version=''
  Dynamic Linking:
    dlsrc=dl_dlopen.xs, dlext=bundle, d_dlsymun=undef, ccdlflags=' '
    cccdlflags=' ', lddlflags=' -bundle -undefined dynamic_lookup -L/usr/local/lib -fstack-protector'


Characteristics of this binary (from libperl): 
  Compile-time options: MULTIPLICITY PERL_DONT_CREATE_GVSV
                        PERL_IMPLICIT_CONTEXT PERL_MALLOC_WRAP USE_64_BIT_ALL
                        USE_64_BIT_INT USE_ITHREADS USE_LARGE_FILES
                        USE_PERLIO USE_REENTRANT_API
  Built under darwin
  Compiled at Apr  1 2014 09:55:44
  %ENV:
    PERL5LIB="/Users/hornenj/.cpan/build/List-Util-WeightedRoundRobin-0.4-Y65Ss0/blib/arch:/Users/hornenj/.cpan/build/List-Util-WeightedRoundRobin-0.4-Y65Ss0/blib/lib:/Users/hornenj/.cpan/build/Geo-Distance-XS-0.11-q2jQua/blib/arch:/Users/hornenj/.cpan/build/Geo-Distance-XS-0.11-q2jQua/blib/lib:/Users/hornenj/.cpan/build/Geo-Distance-0.20-Uen3bq/blib/arch:/Users/hornenj/.cpan/build/Geo-Distance-0.20-Uen3bq/blib/lib:/Users/hornenj/.cpan/build/Test-MockObject-1.20140408-bm97LE/blib/arch:/Users/hornenj/.cpan/build/Test-MockObject-1.20140408-bm97LE/blib/lib:/Users/hornenj/.cpan/build/UNIVERSAL-can-1.20140328-zbWhtO/blib/arch:/Users/hornenj/.cpan/build/UNIVERSAL-can-1.20140328-zbWhtO/blib/lib:/Users/hornenj/.cpan/build/UNIVERSAL-isa-1.20120726-Z9CJ2W/blib/arch:/Users/hornenj/.cpan/build/UNIVERSAL-isa-1.20120726-Z9CJ2W/blib/lib"
    PERL5OPT=""
    PERL5_CPANPLUS_IS_RUNNING="89340"
    PERL5_CPAN_IS_RUNNING="89340"
    PERL5_MINISMOKEBOX="0.58"
    PERLBREW_BASHRC_VERSION="0.67"
    PERLBREW_HOME="/Users/hornenj/.perlbrew"
    PERLBREW_MANPATH="/Users/hornenj/perl5/perlbrew/perls/perl-5.10.1/man"
    PERLBREW_PATH="/Users/hornenj/perl5/perlbrew/bin:/Users/hornenj/perl5/perlbrew/perls/perl-5.10.1/bin"
    PERLBREW_PERL="perl-5.10.1"
    PERLBREW_ROOT="/Users/hornenj/perl5/perlbrew"
    PERLBREW_VERSION="0.67"
    PERL_EXTUTILS_AUTOINSTALL="--defaultdeps"
    PERL_MM_USE_DEFAULT="1"
  @INC:
    /Users/hornenj/.cpan/build/List-Util-WeightedRoundRobin-0.4-Y65Ss0/blib/arch
    /Users/hornenj/.cpan/build/List-Util-WeightedRoundRobin-0.4-Y65Ss0/blib/lib
    /Users/hornenj/.cpan/build/Geo-Distance-XS-0.11-q2jQua/blib/arch
    /Users/hornenj/.cpan/build/Geo-Distance-XS-0.11-q2jQua/blib/lib
    /Users/hornenj/.cpan/build/Geo-Distance-0.20-Uen3bq/blib/arch
    /Users/hornenj/.cpan/build/Geo-Distance-0.20-Uen3bq/blib/lib
    /Users/hornenj/.cpan/build/Test-MockObject-1.20140408-bm97LE/blib/arch
    /Users/hornenj/.cpan/build/Test-MockObject-1.20140408-bm97LE/blib/lib
    /Users/hornenj/.cpan/build/UNIVERSAL-can-1.20140328-zbWhtO/blib/arch
    /Users/hornenj/.cpan/build/UNIVERSAL-can-1.20140328-zbWhtO/blib/lib
    /Users/hornenj/.cpan/build/UNIVERSAL-isa-1.20120726-Z9CJ2W/blib/arch
    /Users/hornenj/.cpan/build/UNIVERSAL-isa-1.20120726-Z9CJ2W/blib/lib
    /Users/hornenj/perl5/perlbrew/perls/perl-5.10.1/lib/5.10.1/darwin-thread-multi-2level
    /Users/hornenj/perl5/perlbrew/perls/perl-5.10.1/lib/5.10.1
    /Users/hornenj/perl5/perlbrew/perls/perl-5.10.1/lib/site_perl/5.10.1/darwin-thread-multi-2level
    /Users/hornenj/perl5/perlbrew/perls/perl-5.10.1/lib/site_perl/5.10.1
    .