HTTP-Request-Generator v0.07 Perl 5 v5.16.0 MSWin32-x86-multi-thread

Status
Pass
From
Alexandr Ciornii (CHORNY)
Dist
HTTP-Request-Generator v0.07
Platform
Perl 5 v5.16.0 MSWin32-x86-multi-thread
Date
2019-01-03 21:11:47
ID
0534c5db-6c0d-1014-a60b-4deb02eed655
This distribution has been tested as part of the CPAN Testers
project, supporting the Perl programming language.  See
http://wiki.cpantesters.org/ for more information or email
questions to cpan-testers-discuss@perl.org


--
Dear Max Maischein,

This is a computer-generated report for HTTP-Request-Generator-0.07
on perl 5.16.0, created by CPAN-Reporter-1.2018.

Thank you for uploading your work to CPAN.  Congratulations!
All tests were successful.

Sections of this report:

    * Tester comments
    * Program output
    * Prerequisites
    * Environment and other context

------------------------------
TESTER COMMENTS
------------------------------

Additional comments from tester:

this report is from an automated smoke testing program
and was not reviewed by a human for accuracy

------------------------------
PROGRAM OUTPUT
------------------------------

Output from 'C:\strawberry160\c\bin\dmake.exe test':

C:\strawberry160\perl\bin\perl.exe "-MExtUtils::Command::MM" "-MTest::Harness" "-e" "undef *Test::Harness::Switches; test_harness(0, 'blib\lib', 'blib\arch')" t/00-load.t t/02-http-generator.t t/03-wrap-http-request.t t/03-wrap-plack.t t/03-wrap.t t/04-url-expansion.t
# Testing HTTP::Request::Generator 0.07, Perl 5.016000
# Algorithm::Loops 1.032
# Carp 1.26
# Config <unknown>
# Cwd 3.40
# DirHandle 1.04
# DynaLoader 1.14
# Exporter 5.68
# Exporter::Heavy 5.68
# ExtUtils::Liblist 6.84
# ExtUtils::Liblist::Kid 6.84
# ExtUtils::MM 6.84
# ExtUtils::MM_Any 6.84
# ExtUtils::MM_Unix 6.84
# ExtUtils::MM_Win32 6.84
# ExtUtils::MY 6.84
# ExtUtils::MakeMaker 6.84
# ExtUtils::MakeMaker::Config 6.84
# File::Basename 2.84
# File::Glob 1.17
# File::Path 2.08_01
# File::Spec 3.40
# File::Spec::Unix 3.40
# File::Spec::Win32 3.40
# Filter::Simple 0.94
# Filter::Util::Call 1.43
# Filter::signatures 0.15
# HTTP::Request::Generator 0.07
# IO 1.25_06
# IO::Handle 1.33
# List::MoreUtils 0.33
# PerlIO 1.07
# SelectSaver 1.02
# SelfLoader 1.20
# Symbol 1.07
# Test::Builder 1.001002
# Test::Builder::Module 1.001002
# Test::More 1.001002
# Text::Balanced 2.02
# URI 1.60
# URI::Escape 3.31
# Win32 0.48
# XSLoader 0.16
# feature 1.27
# overload 1.18
# overloading 0.02
# re 0.19
# strict 1.07
# vars 1.02
# warnings 1.13
# warnings::register 1.02
t/00-load.t ............... ok
t/02-http-generator.t ..... ok
t/03-wrap-http-request.t .. skipped: Couldn't load test prerequiste modules: HTTP::Headers version 6.07 required--this is only version 6.00 at t/03-wrap-http-request.t line 9.
t/03-wrap-plack.t ......... skipped: Couldn't load test prerequiste modules: Plack::Request version 1.0047 required--this is only version 1.0030 at t/03-wrap-plack.t line 10.
t/03-wrap.t ............... skipped: Couldn't load test prerequiste modules: HTTP::Headers version 6.07 required--this is only version 6.00 at t/03-wrap.t line 9.
t/04-url-expansion.t ...... ok
All tests successful.
Files=6, Tests=41, 10 wallclock secs ( 0.10 usr +  0.00 sys =  0.10 CPU)
Result: PASS

------------------------------
PREREQUISITES
------------------------------

Prerequisite modules loaded:

requires:

    Module              Need  Have    
    ------------------- ----- --------
    Algorithm::Loops    0     1.032   
    Carp                0     1.26    
    Exporter            5     5.68    
    Filter::signatures  0     0.15    
    List::MoreUtils     0     0.33    
    perl                5.006 5.016000
    URI                 0     1.60    
    URI::Escape         0     3.31    

build_requires:

    Module              Need  Have    
    ------------------- ----- --------
    Data::Dumper        0     2.135_06
    ExtUtils::MakeMaker 0     6.84    
    Test::More          0     1.001002

configure_requires:

    Module              Need  Have    
    ------------------- ----- --------
    ExtUtils::MakeMaker 0     6.84    


------------------------------
ENVIRONMENT AND OTHER CONTEXT
------------------------------

Environment variables:

    AUTOMATED_TESTING = 1
    COMSPEC = C:\WINDOWS\system32\cmd.exe
    NUMBER_OF_PROCESSORS = 1
    PATH = C:\WINDOWS\system32;C:\WINDOWS;C:\WINDOWS\System32\Wbem;C:\strawberry160\c\bin;C:\strawberry160\perl\site\bin;C:\strawberry160\perl\bin
    PERL5LIB = C:\strawberry160\cpan\build\Filter-signatures-0.15-0/blib/arch;C:\strawberry160\cpan\build\Filter-signatures-0.15-0/blib/lib;C:\strawberry160\cpan\build\Filter-Simple-0.94-0/blib/arch;C:\strawberry160\cpan\build\Filter-Simple-0.94-0/blib/lib;C:\strawberry160\cpan\build\Algorithm-Loops-1.032-0/blib/arch;C:\strawberry160\cpan\build\Algorithm-Loops-1.032-0/blib/lib
    PERL5OPT = 
    PERL5_CPANPLUS_IS_RUNNING = 18296
    PERL5_CPAN_IS_RUNNING = 18296
    PERL5_CPAN_IS_RUNNING_IN_RECURSION = 1140,18296
    PERL_CR_SMOKER_CURRENT = HTTP-Request-Generator-0.07
    PERL_CR_SMOKER_RUNONCE = 1
    PERL_EXTUTILS_AUTOINSTALL = --defaultdeps
    PERL_JSON_BACKEND = JSON::XS
    PERL_MM_USE_DEFAULT = 1
    PERL_YAML_BACKEND = YAML
    PROCESSOR_IDENTIFIER = x86 Family 18 Model 1 Stepping 0, AuthenticAMD
    TEMP = C:\DOCUME~1\a\LOCALS~1\Temp
    TERM = dumb

Perl special variables (and OS-specific diagnostics, for MSWin32):

    $^X = C:\strawberry160\perl\bin\perl.exe
    $UID/$EUID = 0 / 0
    $GID = 0
    $EGID = 0
    Win32::GetOSName = WinXP/.Net
    Win32::GetOSVersion = Service Pack 3, 5, 1, 2600, 2, 3, 0, 256, 1
    Win32::FsType = NTFS
    Win32::IsAdminUser = 1

Perl module toolchain versions installed:

    Module              Have    
    ------------------- --------
    CPAN                2.16    
    CPAN::Meta          2.133380
    Cwd                 3.40    
    ExtUtils::CBuilder  0.280206
    ExtUtils::Command   1.17    
    ExtUtils::Install   1.58    
    ExtUtils::MakeMaker 6.84    
    ExtUtils::Manifest  1.61    
    ExtUtils::ParseXS   3.22    
    File::Spec          3.40    
    JSON                2.53    
    JSON::PP            2.27203 
    Module::Build       0.4203  
    Module::Signature   0.68    
    Parse::CPAN::Meta   1.4405  
    Test::Harness       3.30    
    Test::More          1.001002
    YAML                0.88    
    YAML::Syck          1.27    
    version             0.9904  


--

Summary of my perl5 (revision 5 version 16 subversion 0) configuration:
   
  Platform:
    osname=MSWin32, osvers=4.0, archname=MSWin32-x86-multi-thread
    uname='Win32 strawberry-perl 5.16.0.1 #1 Mon May 21 22:07:30 2012 i386'
    config_args='undef'
    hint=recommended, useposix=true, d_sigaction=undef
    useithreads=define, usemultiplicity=define
    useperlio=define, d_sfio=undef, uselargefiles=define, usesocks=undef
    use64bitint=undef, use64bitall=undef, uselongdouble=undef
    usemymalloc=n, bincompat5005=undef
  Compiler:
    cc='gcc', ccflags =' -s -O2 -DWIN32  -DPERL_TEXTMODE_SCRIPTS -DPERL_IMPLICIT_CONTEXT -DPERL_IMPLICIT_SYS -fno-strict-aliasing -mms-bitfields',
    optimize='-s -O2',
    cppflags='-DWIN32'
    ccversion='', gccversion='4.6.3', gccosandvers=''
    intsize=4, longsize=4, ptrsize=4, doublesize=8, byteorder=1234
    d_longlong=undef, longlongsize=8, d_longdbl=define, longdblsize=12
    ivtype='long', ivsize=4, nvtype='double', nvsize=8, Off_t='long long', lseeksize=8
    alignbytes=8, prototype=define
  Linker and Libraries:
    ld='g++', ldflags ='-s -L"C:\strawberry160\perl\lib\CORE" -L"C:\strawberry160\c\lib"'
    libpth=C:\strawberry160\c\lib C:\strawberry160\c\i686-w64-mingw32\lib
    libs=-lmoldname -lkernel32 -luser32 -lgdi32 -lwinspool -lcomdlg32 -ladvapi32 -lshell32 -lole32 -loleaut32 -lnetapi32 -luuid -lws2_32 -lmpr -lwinmm -lversion -lodbc32 -lodbccp32 -lcomctl32
    perllibs=-lmoldname -lkernel32 -luser32 -lgdi32 -lwinspool -lcomdlg32 -ladvapi32 -lshell32 -lole32 -loleaut32 -lnetapi32 -luuid -lws2_32 -lmpr -lwinmm -lversion -lodbc32 -lodbccp32 -lcomctl32
    libc=, so=dll, useshrplib=true, libperl=libperl516.a
    gnulibc_version=''
  Dynamic Linking:
    dlsrc=dl_win32.xs, dlext=dll, d_dlsymun=undef, ccdlflags=' '
    cccdlflags=' ', lddlflags='-mdll -s -L"C:\strawberry160\perl\lib\CORE" -L"C:\strawberry160\c\lib"'


Characteristics of this binary (from libperl): 
  Compile-time options: HAS_TIMES HAVE_INTERP_INTERN MULTIPLICITY
                        PERLIO_LAYERS PERL_DONT_CREATE_GVSV
                        PERL_IMPLICIT_CONTEXT PERL_IMPLICIT_SYS
                        PERL_MALLOC_WRAP PERL_PRESERVE_IVUV PL_OP_SLAB_ALLOC
                        USE_ITHREADS USE_LARGE_FILES USE_LOCALE
                        USE_LOCALE_COLLATE USE_LOCALE_CTYPE
                        USE_LOCALE_NUMERIC USE_PERLIO USE_PERL_ATOF
  Built under MSWin32
  Compiled at May 21 2012 22:15:38
  %ENV:
    PERL5LIB="C:\strawberry160\cpan\build\Filter-signatures-0.15-0/blib/arch;C:\strawberry160\cpan\build\Filter-signatures-0.15-0/blib/lib;C:\strawberry160\cpan\build\Filter-Simple-0.94-0/blib/arch;C:\strawberry160\cpan\build\Filter-Simple-0.94-0/blib/lib;C:\strawberry160\cpan\build\Algorithm-Loops-1.032-0/blib/arch;C:\strawberry160\cpan\build\Algorithm-Loops-1.032-0/blib/lib"
    PERL5_CPANPLUS_IS_RUNNING="18296"
    PERL5_CPAN_IS_RUNNING="18296"
    PERL5_CPAN_IS_RUNNING_IN_RECURSION="1140,18296"
    PERL_CR_SMOKER_CURRENT="HTTP-Request-Generator-0.07"
    PERL_CR_SMOKER_RUNONCE="1"
    PERL_EXTUTILS_AUTOINSTALL="--defaultdeps"
    PERL_JSON_BACKEND="JSON::XS"
    PERL_MM_USE_DEFAULT="1"
    PERL_YAML_BACKEND="YAML"
  @INC:
    C:\strawberry160\cpan\build\Filter-signatures-0.15-0/blib/arch
    C:\strawberry160\cpan\build\Filter-signatures-0.15-0/blib/lib
    C:\strawberry160\cpan\build\Filter-Simple-0.94-0/blib/arch
    C:\strawberry160\cpan\build\Filter-Simple-0.94-0/blib/lib
    C:\strawberry160\cpan\build\Algorithm-Loops-1.032-0/blib/arch
    C:\strawberry160\cpan\build\Algorithm-Loops-1.032-0/blib/lib
    C:/strawberry160/perl/site/lib/MSWin32-x86-multi-thread
    C:/strawberry160/perl/site/lib
    C:/strawberry160/perl/vendor/lib
    C:/strawberry160/perl/lib
    .