Test-Whitespaces v1.2.1 Perl 5 v5.24.2 x86_64-cygwin-multi
- Status
- Pass
- From
- Peter John Acklam (PJACKLAM)
- Dist
-
Test-Whitespaces v1.2.1
- Platform
- Perl 5 v5.24.2 x86_64-cygwin-multi
- Date
- 2019-09-28 07:26:14
- ID
- 05472ae2-6d1c-1014-84f8-a5746aba7a30
This distribution has been tested as part of the CPAN Testers
project, supporting the Perl programming language. See
http://wiki.cpantesters.org/ for more information or email
questions to cpan-testers-discuss@perl.org
--
Dear Ivan Bessarabov,
This is a computer-generated report for Test-Whitespaces-1.2.1
on perl 5.24.2, created by CPAN-Reporter-1.2018.
Thank you for uploading your work to CPAN. Congratulations!
All tests were successful.
Sections of this report:
* Tester comments
* Program output
* Prerequisites
* Environment and other context
------------------------------
TESTER COMMENTS
------------------------------
Additional comments from tester:
this report is from an automated smoke testing program
and was not reviewed by a human for accuracy
------------------------------
PROGRAM OUTPUT
------------------------------
Output from '/usr/bin/make test':
PERL_DL_NONLAZY=1 "/cygdrive/c/opt/perl5/cygwin_nt-10.0/3.0.7/x86_64/perl/5.24.2/x86_64-cygwin-multi/bin/perl5.24.2.exe" "-MExtUtils::Command::MM" "-MTest::Harness" "-e" "undef *Test::Harness::Switches; test_harness(0, 'blib/lib', 'blib/arch')" t/*.t
t/00-load.t ............ ok
t/_get_diff.t .......... ok
t/_get_fixed_text.t .... ok
t/_split_error_line.t .. ok
All tests successful.
Files=4, Tests=34, 178 wallclock secs ( 1.16 usr 3.09 sys + 11.94 cusr 31.60 csys = 47.79 CPU)
Result: PASS
------------------------------
PREREQUISITES
------------------------------
Prerequisite modules loaded:
requires:
Module Need Have
------------------- ---- --------
Carp 0 1.40
Cwd 0 3.63_01
File::Find 0 1.34
FindBin 0 1.51
Getopt::Long 0 2.48
List::Util 0 1.42_02
open 0 1.10
Pod::Usage 0 1.68
strict 0 1.11
Term::ANSIColor 0 4.04
utf8 0 1.19
warnings 0 1.36
build_requires:
Module Need Have
------------------- ---- --------
Test::More 0 1.001014
configure_requires:
Module Need Have
------------------- ---- --------
ExtUtils::MakeMaker 6.30 7.10_02
------------------------------
ENVIRONMENT AND OTHER CONTEXT
------------------------------
Environment variables:
AUTOMATED_TESTING = 1
COMSPEC = C:\WINDOWS\system32\cmd.exe
LDFLAGS = -Wl,--rpath -Wl,/usr/local/lib -L/usr/local/lib
NONINTERACTIVE_TESTING = 1
NUMBER_OF_PROCESSORS = 12
PATH = /usr/local/bin:/usr/bin:/bin
PERL5LIB = /opt/perl5/cygwin_nt-10.0/3.0.7/x86_64/perl/5.24.2/x86_64-cygwin-multi/local/lib/site_perl:/opt/perl5/cygwin_nt-10.0/3.0.7/x86_64/perl/5.24.2/x86_64-cygwin-multi/local/lib/perl5:/opt/perl5/cygwin_nt-10.0/3.0.7/x86_64/perl/5.24.2/x86_64-cygwin-multi/local/lib
PERL5OPT =
PERL5_CPANPLUS_IS_RUNNING = 10236
PERL5_CPAN_IS_RUNNING = 10236
PERL_CPAN_REPORTER_CONFIG = /cygdrive/c/peter/.cpanreporter/config-cygwin-OS-A01-L0123.ini
PERL_EXTUTILS_AUTOINSTALL = 1
PERL_MM_USE_DEFAULT = 1
PERL_TEST_CRITIC = 1
PERL_TEST_CRITIC = 1
PERL_TEST_POD = 1
PERL_TEST_POD = 1
POD_TESTING = 1
POD_TESTS = 1
PROCESSOR_IDENTIFIER = Intel64 Family 6 Model 158 Stepping 10, GenuineIntel
SHELL = /bin/bash
TEMP = /tmp
TERM = xterm
Perl special variables (and OS-specific diagnostics, for MSWin32):
$^X = /cygdrive/c/opt/perl5/cygwin_nt-10.0/3.0.7/x86_64/perl/5.24.2/x86_64-cygwin-multi/bin/perl5.24.2
$UID/$EUID = 1061331 / 1061331
$GID = 1049089 1049089 197609 545 4 66049 11 15 4095 66048 1104222 1098011 1051245 1113266 1089123 1139839 1090502 1141767 1081310 1090413 1061909 1058653 1081942 1122108 1125494 1137338 1083675 1137546 1088201 1143577 1138331 1093944 1139332 1122107 1051228 1057394 1141985 1090221 1138202 1056539 1057337 1089132 1100278 1051354 1104220 1059243 1089865 1138328 1087957 1105777 1135663 1049649 1125495 1139179 1069945 1059531 1090104 1090492 1068897 1081637 1095782 1075170 1144155 1111057 1137882 1069144 1081620 70145 1049147 1136188 1083352 401408
$EGID = 1049089 1049089 197609 545 4 66049 11 15 4095 66048 1104222 1098011 1051245 1113266 1089123 1139839 1090502 1141767 1081310 1090413 1061909 1058653 1081942 1122108 1125494 1137338 1083675 1137546 1088201 1143577 1138331 1093944 1139332 1122107 1051228 1057394 1141985 1090221 1138202 1056539 1057337 1089132 1100278 1051354 1104220 1059243 1089865 1138328 1087957 1105777 1135663 1049649 1125495 1139179 1069945 1059531 1090104 1090492 1068897 1081637 1095782 1075170 1144155 1111057 1137882 1069144 1081620 70145 1049147 1136188 1083352 401408
Perl module toolchain versions installed:
Module Have
------------------- ----------
CPAN 2.11_01
CPAN::Meta 2.150005
Cwd 3.63_01
ExtUtils::CBuilder 0.280225
ExtUtils::Command 7.10_02
ExtUtils::Install 2.04
ExtUtils::MakeMaker 7.10_02
ExtUtils::Manifest 1.70
ExtUtils::ParseXS 3.31
File::Spec 3.63_01
JSON n/a
JSON::PP 2.27300_01
Module::Build 0.4229
Module::Signature 0.83
Parse::CPAN::Meta 1.4417_001
Test::Harness 3.36_01
Test::More 1.001014
YAML 1.29
YAML::Syck n/a
version 0.9916
--
Summary of my perl5 (revision 5 version 24 subversion 2) configuration:
Platform:
osname=cygwin, osvers=3.0.7(0.33853), archname=x86_64-cygwin-multi
uname='cygwin_nt-10.0 os-a01-l0123 3.0.7(0.33853) 2019-04-30 18:08 x86_64 cygwin '
config_args='-de -Dmksymlinks -Uinc_version_list -Uinstallusrbinperl -Uusethreads -Dusemultiplicity -Uusequadmath -Dprefix=/opt/perl5/cygwin_nt-10.0/3.0.7/x86_64/perl/5.24.2/x86_64-cygwin-multi -Darchname=x86_64-cygwin-multi'
hint=recommended, useposix=true, d_sigaction=define
useithreads=undef, usemultiplicity=define
use64bitint=define, use64bitall=define, uselongdouble=undef
usemymalloc=n, bincompat5005=undef
Compiler:
cc='gcc', ccflags ='-DPERL_USE_SAFE_PUTENV -U__STRICT_ANSI__ -fwrapv -fno-strict-aliasing -pipe -I/usr/local/include',
optimize='-O3',
cppflags='-DPERL_USE_SAFE_PUTENV -U__STRICT_ANSI__ -fwrapv -fno-strict-aliasing -pipe -I/usr/local/include'
ccversion='', gccversion='7.4.0', gccosandvers=''
intsize=4, longsize=8, ptrsize=8, doublesize=8, byteorder=12345678, doublekind=3
d_longlong=define, longlongsize=8, d_longdbl=define, longdblsize=16, longdblkind=3
ivtype='long', ivsize=8, nvtype='double', nvsize=8, Off_t='off_t', lseeksize=8
alignbytes=8, prototype=define
Linker and Libraries:
ld='g++', ldflags =' -Wl,--enable-auto-import -Wl,--export-all-symbols -Wl,--enable-auto-image-base -L/usr/local/lib'
libpth=/cygdrive/c/share/apps/gcc-7.4.0/cygwin-3.0-x86_64/bin/../lib/gcc/x86_64-pc-cygwin/7.4.0/include-fixed /usr/local/lib /cygdrive/c/share/apps/gcc-7.4.0/cygwin-3.0-x86_64/bin/../lib/gcc/../../lib /usr/lib /usr/lib/../lib/../include/w32api /lib
libs=-lpthread -ldl
perllibs=-lpthread -ldl
libc=/usr/lib/libc.a, so=dll, useshrplib=true, libperl=cygperl5_24_2.dll
gnulibc_version=''
Dynamic Linking:
dlsrc=dl_dlopen.xs, dlext=dll, d_dlsymun=undef, ccdlflags=' '
cccdlflags=' ', lddlflags=' --shared -Wl,--enable-auto-import -Wl,--export-all-symbols -Wl,--enable-auto-image-base -L/usr/local/lib'
Characteristics of this binary (from libperl):
Compile-time options: HAS_TIMES MULTIPLICITY PERLIO_LAYERS
PERL_COPY_ON_WRITE PERL_DONT_CREATE_GVSV
PERL_HASH_FUNC_ONE_AT_A_TIME_HARD
PERL_IMPLICIT_CONTEXT PERL_PRESERVE_IVUV
PERL_USE_SAFE_PUTENV USE_64_BIT_ALL USE_64_BIT_INT
USE_LARGE_FILES USE_LOCALE USE_LOCALE_COLLATE
USE_LOCALE_CTYPE USE_LOCALE_NUMERIC USE_LOCALE_TIME
USE_PERLIO USE_PERL_ATOF
Built under cygwin
Compiled at Sep 5 2019 02:09:26
%ENV:
PERL5LIB="/opt/perl5/cygwin_nt-10.0/3.0.7/x86_64/perl/5.24.2/x86_64-cygwin-multi/local/lib/site_perl:/opt/perl5/cygwin_nt-10.0/3.0.7/x86_64/perl/5.24.2/x86_64-cygwin-multi/local/lib/perl5:/opt/perl5/cygwin_nt-10.0/3.0.7/x86_64/perl/5.24.2/x86_64-cygwin-multi/local/lib"
PERL5OPT=""
PERL5_CPANPLUS_IS_RUNNING="10236"
PERL5_CPAN_IS_RUNNING="10236"
PERL_CPAN_REPORTER_CONFIG="/cygdrive/c/peter/.cpanreporter/config-cygwin-OS-A01-L0123.ini"
PERL_EXTUTILS_AUTOINSTALL="1"
PERL_MM_USE_DEFAULT="1"
PERL_TEST_CRITIC="1"
PERL_TEST_POD="1"
@INC:
/opt/perl5/cygwin_nt-10.0/3.0.7/x86_64/perl/5.24.2/x86_64-cygwin-multi/local/lib/site_perl/5.24.2/x86_64-cygwin-multi
/opt/perl5/cygwin_nt-10.0/3.0.7/x86_64/perl/5.24.2/x86_64-cygwin-multi/local/lib/site_perl/5.24.2
/opt/perl5/cygwin_nt-10.0/3.0.7/x86_64/perl/5.24.2/x86_64-cygwin-multi/local/lib/site_perl
/opt/perl5/cygwin_nt-10.0/3.0.7/x86_64/perl/5.24.2/x86_64-cygwin-multi/local/lib/perl5/5.24.2
/opt/perl5/cygwin_nt-10.0/3.0.7/x86_64/perl/5.24.2/x86_64-cygwin-multi/local/lib/perl5/x86_64-cygwin-multi
/opt/perl5/cygwin_nt-10.0/3.0.7/x86_64/perl/5.24.2/x86_64-cygwin-multi/local/lib/perl5
/opt/perl5/cygwin_nt-10.0/3.0.7/x86_64/perl/5.24.2/x86_64-cygwin-multi/local/lib/5.24.2/x86_64-cygwin-multi
/opt/perl5/cygwin_nt-10.0/3.0.7/x86_64/perl/5.24.2/x86_64-cygwin-multi/local/lib/5.24.2
/opt/perl5/cygwin_nt-10.0/3.0.7/x86_64/perl/5.24.2/x86_64-cygwin-multi/local/lib
/opt/perl5/cygwin_nt-10.0/3.0.7/x86_64/perl/5.24.2/x86_64-cygwin-multi/lib/site_perl/5.24.2/x86_64-cygwin-multi
/opt/perl5/cygwin_nt-10.0/3.0.7/x86_64/perl/5.24.2/x86_64-cygwin-multi/lib/site_perl/5.24.2
/opt/perl5/cygwin_nt-10.0/3.0.7/x86_64/perl/5.24.2/x86_64-cygwin-multi/lib/5.24.2/x86_64-cygwin-multi
/opt/perl5/cygwin_nt-10.0/3.0.7/x86_64/perl/5.24.2/x86_64-cygwin-multi/lib/5.24.2
.