Back
From: metabase:user:314402c4-2aae-11df-837a-5e0a49663a4f
Subject: PASS MooseX-Method-0.44 v5.22.1 RC1 GNU/Linux
Date: 2015-11-08T21:09:38Z
This distribution has been tested as part of the CPAN Testers
project, supporting the Perl programming language. See
http://wiki.cpantesters.org/ for more information or email
questions to cpan-testers-discuss@perl.org
--
Dear Cory G Watson,
This is a computer-generated report for MooseX-Method-0.44
on perl 5.22.1, created by CPAN-Reporter-1.2015.
Thank you for uploading your work to CPAN. Congratulations!
All tests were successful.
Sections of this report:
* Tester comments
* Program output
* Prerequisites
* Environment and other context
------------------------------
TESTER COMMENTS
------------------------------
Additional comments from tester:
none provided
------------------------------
PROGRAM OUTPUT
------------------------------
Output from '/usr/bin/make test':
PERL_DL_NONLAZY=1 "/bbbike/perl-5.22.1-RC1/bin/perl" "-MExtUtils::Command::MM" "-MTest::Harness" "-e" "undef *Test::Harness::Switches; test_harness(0, 'inc', 'blib/lib', 'blib/arch')" t/000_basic.t t/004_constant.t t/100_parameter_moose.t t/150_parameter_moose_compiled.t t/200_signature_positional.t t/201_signature_named.t t/202_signature_combined.t t/250_signature_positional_compiled.t t/251_signature_named_compiled.t t/252_signature_combined_compiled.t t/300_method_signature.t t/301_method_signature_compiled.t t/400_method.t t/401_method_compiled.t t/402_method_role.t t/pod.t t/pod_coverage.t
t/000_basic.t .......................... ok
t/004_constant.t ....................... ok
t/100_parameter_moose.t ................ ok
t/150_parameter_moose_compiled.t ....... ok
t/200_signature_positional.t ........... ok
t/201_signature_named.t ................ ok
t/202_signature_combined.t ............. ok
t/250_signature_positional_compiled.t .. ok
t/251_signature_named_compiled.t ....... ok
t/252_signature_combined_compiled.t .... ok
t/300_method_signature.t ............... ok
t/301_method_signature_compiled.t ...... ok
t/400_method.t ......................... ok
t/401_method_compiled.t ................ ok
t/402_method_role.t .................... ok
t/pod.t ................................ ok
Subroutine validate redefined at /tmpfs/.cpan-build/2015110821/MooseX-Method-0.44-1fsijs/blib/lib/MooseX/Test/Signature/Positional.pm line 59.
t/pod_coverage.t ....................... ok
All tests successful.
Files=17, Tests=190, 9 wallclock secs ( 0.04 usr 0.09 sys + 3.32 cusr 0.58 csys = 4.03 CPU)
Result: PASS
------------------------------
PREREQUISITES
------------------------------
Prerequisite modules loaded:
requires:
Module Need Have
------------------- ---- --------
Carp 0 1.36
Class::MOP 0.37 2.1603
ExtUtils::MakeMaker 6.42 7.10
HTML::Template::Pro 0.65 0.9510
Moose 0.22 2.1603
Scalar::Util 1.14 1.42
Sub::Name 0.02 0.14
Test::Exception 0.21 0.40
Test::More 0.47 1.001014
Test::Pod 1.26 1.51
build_requires:
Module Need Have
------------------- ---- --------
ExtUtils::MakeMaker 0 7.10
configure_requires:
Module Need Have
------------------- ---- --------
ExtUtils::MakeMaker 6.42 7.10
------------------------------
ENVIRONMENT AND OTHER CONTEXT
------------------------------
Environment variables:
LANG = C
PATH = /usr/local/bin:/usr/bin:/bin:/usr/local/sbin:/usr/sbin:/sbin:/home/eserte/bin/linux-gnu:/home/eserte/bin/sh:/home/eserte/bin:/usr/games:/home/eserte/devel:/home/eserte/src/srezic-misc/scripts
PERL5LIB = /home/eserte/.cpan/build/2015110821/Text-Diff-Parser-0.1001-IhB4bd/blib/arch:/home/eserte/.cpan/build/2015110821/Text-Diff-Parser-0.1001-IhB4bd/blib/lib
PERL5OPT =
PERL5_CPANPLUS_IS_RUNNING = 27693
PERL5_CPAN_IS_RUNNING = 27693
PERL5_CPAN_IS_RUNNING_IN_RECURSION = 23360,27693
PERLDOC = -MPod::Perldoc::ToTextOverstrike
PERL_BATCH = yes
PERL_CANARY_STABILITY_NOPROMPT = 1
PERL_CPAN_REPORTER_CONFIG = /var/tmp/cpansmoker-1001/2015110821/cpanreporter_000_config.ini
PERL_EXTUTILS_AUTOINSTALL = --defaultdeps
SHELL = /bin/zsh
TERM = screen
TMPDIR = /var/tmp/cpansmoker-1001/2015110821
Perl special variables (and OS-specific diagnostics, for MSWin32):
$^X = /bbbike/perl-5.22.1-RC1/bin/perl
$UID/$EUID = 1001 / 1001
$GID = 1001 109 1001
$EGID = 1001 109 1001
Perl module toolchain versions installed:
Module Have
------------------- --------
CPAN 2.10
CPAN::Meta 2.150005
Cwd 3.47
ExtUtils::CBuilder 0.280224
ExtUtils::Command 7.10
ExtUtils::Install 2.04
ExtUtils::MakeMaker 7.10
ExtUtils::Manifest 1.70
ExtUtils::ParseXS 3.30
File::Spec 3.47
JSON 2.90
JSON::PP 2.27300
Module::Build 0.4214
Module::Signature n/a
Parse::CPAN::Meta 1.4417
Test::Harness 3.35
Test::More 1.001014
YAML 1.15
YAML::Syck 1.29
version 0.9912
--
Summary of my perl5 (revision 5 version 22 subversion 1) configuration:
Platform:
osname=linux, osvers=3.2.0-4-amd64, archname=x86_64-linux
uname='linux eserte 3.2.0-4-amd64 #1 smp debian 3.2.68-1+deb7u5 x86_64 gnulinux '
config_args='-ds -e -Dprefix=/opt/perl-5.22.1-RC1 -Dcf_email=srezic@cpan.org'
hint=recommended, useposix=true, d_sigaction=define
useithreads=undef, usemultiplicity=undef
use64bitint=define, use64bitall=define, uselongdouble=undef
usemymalloc=n, bincompat5005=undef
Compiler:
cc='cc', ccflags ='-fwrapv -fno-strict-aliasing -pipe -fstack-protector -I/usr/local/include -D_LARGEFILE_SOURCE -D_FILE_OFFSET_BITS=64 -D_FORTIFY_SOURCE=2',
optimize='-O2',
cppflags='-fwrapv -fno-strict-aliasing -pipe -fstack-protector -I/usr/local/include'
ccversion='', gccversion='4.7.2', gccosandvers=''
intsize=4, longsize=8, ptrsize=8, doublesize=8, byteorder=12345678, doublekind=3
d_longlong=define, longlongsize=8, d_longdbl=define, longdblsize=16, longdblkind=3
ivtype='long', ivsize=8, nvtype='double', nvsize=8, Off_t='off_t', lseeksize=8
alignbytes=8, prototype=define
Linker and Libraries:
ld='cc', ldflags =' -fstack-protector -L/usr/local/lib'
libpth=/usr/local/lib /usr/lib/gcc/x86_64-linux-gnu/4.7/include-fixed /usr/include/x86_64-linux-gnu /usr/lib /lib/x86_64-linux-gnu /lib/../lib /usr/lib/x86_64-linux-gnu /usr/lib/../lib /lib
libs=-lpthread -lnsl -ldb -ldl -lm -lcrypt -lutil -lc
perllibs=-lpthread -lnsl -ldl -lm -lcrypt -lutil -lc
libc=libc-2.13.so, so=so, useshrplib=false, libperl=libperl.a
gnulibc_version='2.13'
Dynamic Linking:
dlsrc=dl_dlopen.xs, dlext=so, d_dlsymun=undef, ccdlflags='-Wl,-E'
cccdlflags='-fPIC', lddlflags='-shared -O2 -L/usr/local/lib -fstack-protector'
Characteristics of this binary (from libperl):
Compile-time options: HAS_TIMES PERLIO_LAYERS PERL_DONT_CREATE_GVSV
PERL_HASH_FUNC_ONE_AT_A_TIME_HARD PERL_MALLOC_WRAP
PERL_NEW_COPY_ON_WRITE PERL_PRESERVE_IVUV
USE_64_BIT_ALL USE_64_BIT_INT USE_LARGE_FILES
USE_LOCALE USE_LOCALE_COLLATE USE_LOCALE_CTYPE
USE_LOCALE_NUMERIC USE_LOCALE_TIME USE_PERLIO
USE_PERL_ATOF
Locally applied patches:
RC1
Built under linux
Compiled at Oct 31 2015 19:07:24
%ENV:
PERL5LIB="/home/eserte/.cpan/build/2015110821/Text-Diff-Parser-0.1001-IhB4bd/blib/arch:/home/eserte/.cpan/build/2015110821/Text-Diff-Parser-0.1001-IhB4bd/blib/lib"
PERL5OPT=""
PERL5_CPANPLUS_IS_RUNNING="27693"
PERL5_CPAN_IS_RUNNING="27693"
PERL5_CPAN_IS_RUNNING_IN_RECURSION="23360,27693"
PERLDOC="-MPod::Perldoc::ToTextOverstrike"
PERL_BATCH="yes"
PERL_CANARY_STABILITY_NOPROMPT="1"
PERL_CPAN_REPORTER_CONFIG="/var/tmp/cpansmoker-1001/2015110821/cpanreporter_000_config.ini"
PERL_EXTUTILS_AUTOINSTALL="--defaultdeps"
@INC:
/home/eserte/.cpan/build/2015110821/Text-Diff-Parser-0.1001-IhB4bd/blib/arch
/home/eserte/.cpan/build/2015110821/Text-Diff-Parser-0.1001-IhB4bd/blib/lib
/opt/perl-5.22.1-RC1/lib/site_perl/5.22.1/x86_64-linux
/opt/perl-5.22.1-RC1/lib/site_perl/5.22.1
/opt/perl-5.22.1-RC1/lib/5.22.1/x86_64-linux
/opt/perl-5.22.1-RC1/lib/5.22.1
.