Promise-ES6 v0.24_02 Perl 5 v5.32.1 x86_64-linux-thread-multi
- Status
- Pass
- From
- David Cantrell (DCANTRELL)
- Dist
-
Promise-ES6 v0.24_02
- Platform
- Perl 5 v5.32.1 x86_64-linux-thread-multi
- Date
- 2021-02-23 23:29:49
- ID
- 05567182-762f-11eb-b95e-b95b761e3400
This distribution has been tested as part of the CPAN Testers
project, supporting the Perl programming language. See
http://wiki.cpantesters.org/ for more information or email
questions to cpan-testers-discuss@perl.org
--
Dear Felipe Gasper,
This is a computer-generated report for Promise-ES6-0.24_02
on perl 5.32.1, created by CPAN-Reporter-1.2018.
Thank you for uploading your work to CPAN. Congratulations!
All tests were successful.
Sections of this report:
* Tester comments
* Program output
* Prerequisites
* Environment and other context
------------------------------
TESTER COMMENTS
------------------------------
Additional comments from tester:
this report is from an automated smoke testing program
and was not reviewed by a human for accuracy
------------------------------
PROGRAM OUTPUT
------------------------------
Output from '/usr/bin/make test':
PERL_DL_NONLAZY=1 "/home/david/cpantesting/perl-5.32.1/bin/perl" "-MExtUtils::Command::MM" "-MTest::Harness" "-e" "undef *Test::Harness::Switches; test_harness(0, 'blib/lib', 'blib/arch')" t/*.t
# Devel::GlobalDestruction isnâÂÂt available, but ${^GLOBAL_PHASE} exists.
t/all.t ........................... ok
# Devel::GlobalDestruction isnâÂÂt available, but ${^GLOBAL_PHASE} exists.
t/all_async.t ..................... ok
# Devel::GlobalDestruction isnâÂÂt available, but ${^GLOBAL_PHASE} exists.
t/allsettled.t .................... ok
t/anyevent.t ...................... ok
t/async_await.t ................... skipped: CanâÂÂt run test: Can't locate Test/Future/AsyncAwait/Awaitable.pm in @INC (you may need to install the Test::Future::AsyncAwait::Awaitable module) (@INC contains: /home/david/cpantesting/perl-5.32.1/.cpan/build/Promise-ES6-0.24_02-0/blib/lib /home/david/cpantesting/perl-5.32.1/.cpan/build/Promise-ES6-0.24_02-0/blib/arch /home/david/cpantesting/perl-5.32.1/lib/site_perl/5.32.1/x86_64-linux-thread-multi /home/david/cpantesting/perl-5.32.1/lib/site_perl/5.32.1 /home/david/cpantesting/perl-5.32.1/lib/5.32.1/x86_64-linux-thread-multi /home/david/cpantesting/perl-5.32.1/lib/5.32.1) at (eval 7) line 1.
t/async_await_hold_ref.t .......... skipped: No Future::AsyncAwait
# Devel::GlobalDestruction isnâÂÂt available, but ${^GLOBAL_PHASE} exists.
t/await.t ......................... ok
# Devel::GlobalDestruction isnâÂÂt available, but ${^GLOBAL_PHASE} exists.
# MASTER PID: 18582
t/await_then_with_async.t ......... ok
# Devel::GlobalDestruction isnâÂÂt available, but ${^GLOBAL_PHASE} exists.
t/await_with_async.t .............. ok
# Devel::GlobalDestruction isnâÂÂt available, but ${^GLOBAL_PHASE} exists.
t/catch.t ......................... ok
# Devel::GlobalDestruction isnâÂÂt available, but ${^GLOBAL_PHASE} exists.
t/catch_asyncreject.t ............. ok
# Devel::GlobalDestruction isnâÂÂt available, but ${^GLOBAL_PHASE} exists.
t/finally.t ....................... ok
t/future.t ........................ ok
Promise::ES6=HASH(0x557e770a94b0): Unhandled rejection: abc at -e line 1.
at -e line 0.
# [
# ''
# ]
t/global_destruction.t ............ ok
t/ioasync.t ....................... ok
# Devel::GlobalDestruction isnâÂÂt available, but ${^GLOBAL_PHASE} exists.
t/memory_leaks.t .................. ok
t/mojo.t .......................... ok
# Devel::GlobalDestruction isnâÂÂt available, but ${^GLOBAL_PHASE} exists.
t/multi_then.t .................... ok
t/no_leak_stashed_ref.t ........... ok
# Devel::GlobalDestruction isnâÂÂt available, but ${^GLOBAL_PHASE} exists.
t/race.t .......................... ok
# Devel::GlobalDestruction isnâÂÂt available, but ${^GLOBAL_PHASE} exists.
t/race_async.t .................... ok
# Devel::GlobalDestruction isnâÂÂt available, but ${^GLOBAL_PHASE} exists.
t/race_fail.t ..................... ok
# Devel::GlobalDestruction isnâÂÂt available, but ${^GLOBAL_PHASE} exists.
t/race_success.t .................. ok
# Devel::GlobalDestruction isnâÂÂt available, but ${^GLOBAL_PHASE} exists.
t/reject.t ........................ ok
# Devel::GlobalDestruction isnâÂÂt available, but ${^GLOBAL_PHASE} exists.
t/resolve.t ....................... ok
# Devel::GlobalDestruction isnâÂÂt available, but ${^GLOBAL_PHASE} exists.
t/then.t .......................... ok
# Devel::GlobalDestruction isnâÂÂt available, but ${^GLOBAL_PHASE} exists.
t/then_catch.t .................... ok
# Devel::GlobalDestruction isnâÂÂt available, but ${^GLOBAL_PHASE} exists.
t/then_promise.t .................. ok
# Devel::GlobalDestruction isnâÂÂt available, but ${^GLOBAL_PHASE} exists.
# PID: 19498
t/then_success.t .................. ok
# Devel::GlobalDestruction isnâÂÂt available, but ${^GLOBAL_PHASE} exists.
t/then_success_with_no_handler.t .. ok
# Devel::GlobalDestruction isnâÂÂt available, but ${^GLOBAL_PHASE} exists.
t/unhandled_rejection.t ........... ok
t/use_event_anyevent.t ............ ok
t/use_event_ioasync.t ............. ok
t/use_event_mojolicious.t ......... ok
All tests successful.
Files=34, Tests=143, 26 wallclock secs ( 0.24 usr 0.10 sys + 9.90 cusr 1.20 csys = 11.44 CPU)
Result: PASS
------------------------------
PREREQUISITES
------------------------------
Prerequisite modules loaded:
build_requires:
Module Need Have
------------------- -------- --------
autodie 0 2.32
ExtUtils::MakeMaker 0 7.44
FindBin 0 1.51
Test::Class 0 0.52
Test::Deep 0 1.130
Test::FailWarnings 0 0.008
Test::Fatal 0 0.016
Test::More 1.302103 1.302183
configure_requires:
Module Need Have
------------------- -------- --------
ExtUtils::MakeMaker 0 7.44
------------------------------
ENVIRONMENT AND OTHER CONTEXT
------------------------------
Environment variables:
AUTOMATED_TESTING = 1
LANG = en_GB.UTF-8
LANGUAGE = en_GB:en
LC_TERMINAL = iTerm2
LC_TERMINAL_VERSION = 3.4.4
NONINTERACTIVE_TESTING = 1
PATH = /home/david/perl5/perlbrew/bin:/home/david/perl5/perlbrew/perls/perl-5.30.2/bin:/usr/local/bin:/usr/bin:/bin:/usr/local/games:/usr/games
PERL = 5.32.1
PERL5LIB =
PERL5OPT =
PERL5_CPANPLUS_IS_RUNNING = 17540
PERL5_CPAN_IS_RUNNING = 17540
PERLBREW_HOME = /home/david/.perlbrew
PERLBREW_MANPATH = /home/david/perl5/perlbrew/perls/perl-5.30.2/man
PERLBREW_PATH = /home/david/perl5/perlbrew/bin:/home/david/perl5/perlbrew/perls/perl-5.30.2/bin
PERLBREW_PERL = perl-5.30.2
PERLBREW_ROOT = /home/david/perl5/perlbrew
PERLBREW_SHELLRC_VERSION = 0.89
PERLBREW_VERSION = 0.89
PERLVER = 5.32.1
PERL_INLINE_DIRECTORY = /home/david/.Inline-5.32.1
PERL_MM_USE_DEFAULT = 1
PERL_USE_UNSAFE_INC = 0
SHELL = /bin/bash
TERM = screen
Perl special variables (and OS-specific diagnostics, for MSWin32):
$^X = /home/david/cpantesting/perl-5.32.1/bin/perl
$UID/$EUID = 1000 / 1000
$GID = 1000 24 25 27 29 30 44 46 109 1000
$EGID = 1000 24 25 27 29 30 44 46 109 1000
Perl module toolchain versions installed:
Module Have
------------------- --------
CPAN 2.27
CPAN::Meta 2.150010
Cwd 3.78
ExtUtils::CBuilder 0.280234
ExtUtils::Command 7.44
ExtUtils::Install 2.14
ExtUtils::MakeMaker 7.44
ExtUtils::Manifest 1.72
ExtUtils::ParseXS 3.40
File::Spec 3.78
JSON 4.03
JSON::PP 4.04
Module::Build 0.4231
Module::Signature n/a
Parse::CPAN::Meta 2.150010
Test::Harness 3.42
Test::More 1.302183
YAML n/a
YAML::Syck n/a
version 0.9924
--
Summary of my perl5 (revision 5 version 32 subversion 1) configuration:
Platform:
osname=linux
osvers=4.19.0-12-amd64
archname=x86_64-linux-thread-multi
uname='linux cpantesting-linux 4.19.0-12-amd64 #1 smp debian 4.19.152-1 (2020-10-18) x86_64 gnulinux '
config_args='-de -Dprefix=/home/david/cpantesting/perl-5.32.1 -Dusethreads'
hint=recommended
useposix=true
d_sigaction=define
useithreads=define
usemultiplicity=define
use64bitint=define
use64bitall=define
uselongdouble=undef
usemymalloc=n
default_inc_excludes_dot=define
bincompat5005=undef
Compiler:
cc='cc'
ccflags ='-D_REENTRANT -D_GNU_SOURCE -fwrapv -fno-strict-aliasing -pipe -fstack-protector-strong -I/usr/local/include -D_LARGEFILE_SOURCE -D_FILE_OFFSET_BITS=64 -D_FORTIFY_SOURCE=2'
optimize='-O2'
cppflags='-D_REENTRANT -D_GNU_SOURCE -fwrapv -fno-strict-aliasing -pipe -fstack-protector-strong -I/usr/local/include'
ccversion=''
gccversion='8.3.0'
gccosandvers=''
intsize=4
longsize=8
ptrsize=8
doublesize=8
byteorder=12345678
doublekind=3
d_longlong=define
longlongsize=8
d_longdbl=define
longdblsize=16
longdblkind=3
ivtype='long'
ivsize=8
nvtype='double'
nvsize=8
Off_t='off_t'
lseeksize=8
alignbytes=8
prototype=define
Linker and Libraries:
ld='cc'
ldflags =' -fstack-protector-strong -L/usr/local/lib'
libpth=/usr/local/lib /usr/lib/gcc/x86_64-linux-gnu/8/include-fixed /usr/include/x86_64-linux-gnu /usr/lib /lib/x86_64-linux-gnu /lib/../lib /usr/lib/x86_64-linux-gnu /usr/lib/../lib /lib /lib64 /usr/lib64
libs=-lpthread -lnsl -ldl -lm -lcrypt -lutil -lc
perllibs=-lpthread -lnsl -ldl -lm -lcrypt -lutil -lc
libc=libc-2.28.so
so=so
useshrplib=false
libperl=libperl.a
gnulibc_version='2.28'
Dynamic Linking:
dlsrc=dl_dlopen.xs
dlext=so
d_dlsymun=undef
ccdlflags='-Wl,-E'
cccdlflags='-fPIC'
lddlflags='-shared -O2 -L/usr/local/lib -fstack-protector-strong'
Characteristics of this binary (from libperl):
Compile-time options:
HAS_TIMES
MULTIPLICITY
PERLIO_LAYERS
PERL_COPY_ON_WRITE
PERL_DONT_CREATE_GVSV
PERL_IMPLICIT_CONTEXT
PERL_MALLOC_WRAP
PERL_OP_PARENT
PERL_PRESERVE_IVUV
USE_64_BIT_ALL
USE_64_BIT_INT
USE_ITHREADS
USE_LARGE_FILES
USE_LOCALE
USE_LOCALE_COLLATE
USE_LOCALE_CTYPE
USE_LOCALE_NUMERIC
USE_LOCALE_TIME
USE_PERLIO
USE_PERL_ATOF
USE_REENTRANT_API
USE_THREAD_SAFE_LOCALE
Built under linux
Compiled at Jan 25 2021 19:39:03
%ENV:
PERL="5.32.1"
PERL5LIB=""
PERL5OPT=""
PERL5_CPANPLUS_IS_RUNNING="17540"
PERL5_CPAN_IS_RUNNING="17540"
PERLBREW_HOME="/home/david/.perlbrew"
PERLBREW_MANPATH="/home/david/perl5/perlbrew/perls/perl-5.30.2/man"
PERLBREW_PATH="/home/david/perl5/perlbrew/bin:/home/david/perl5/perlbrew/perls/perl-5.30.2/bin"
PERLBREW_PERL="perl-5.30.2"
PERLBREW_ROOT="/home/david/perl5/perlbrew"
PERLBREW_SHELLRC_VERSION="0.89"
PERLBREW_VERSION="0.89"
PERLVER="5.32.1"
PERL_INLINE_DIRECTORY="/home/david/.Inline-5.32.1"
PERL_MM_USE_DEFAULT="1"
PERL_USE_UNSAFE_INC="0"
@INC:
/home/david/cpantesting/perl-5.32.1/lib/site_perl/5.32.1/x86_64-linux-thread-multi
/home/david/cpantesting/perl-5.32.1/lib/site_perl/5.32.1
/home/david/cpantesting/perl-5.32.1/lib/5.32.1/x86_64-linux-thread-multi
/home/david/cpantesting/perl-5.32.1/lib/5.32.1