Thread-Queue v3.13 Perl 5 v5.20.2 armv6l-linux-thread-multi-64int
- Status
- Pass
- From
- Arpad Szasz
- Dist
-
Thread-Queue v3.13
- Platform
- Perl 5 v5.20.2 armv6l-linux-thread-multi-64int
- Date
- 2018-09-01 07:24:11
- ID
- 0559e28c-adb8-11e8-9d37-8cf2ca9e13f5
This distribution has been tested as part of the CPAN Testers
project, supporting the Perl programming language. See
http://wiki.cpantesters.org/ for more information or email
questions to cpan-testers-discuss@perl.org
--
Dear JDHEDDEN,
This is a computer-generated report for Thread-Queue-3.13
on perl 5.20.2, created by App::cpanminus::reporter 0.17 (1.7039).
Thank you for uploading your work to CPAN. Congratulations!
All tests were successful.
Sections of this report:
* Tester comments
* Program output
* Prerequisites
* Environment and other context
------------------------------
TESTER COMMENTS
------------------------------
Additional comments from tester:
none provided
------------------------------
PROGRAM OUTPUT
------------------------------
Output from '':
Building and testing Thread-Queue-3.13
cp lib/Thread/Queue.pm blib/lib/Thread/Queue.pm
Manifying 1 pod document
PERL_DL_NONLAZY=1 "/home/arpi/opt/perl5/perls/perl-5.20.2/bin/perl" "-MExtUtils::Command::MM" "-MTest::Harness" "-e" "undef *Test::Harness::Switches; test_harness(0, 'blib/lib', 'blib/arch')" t/*.t
# Testing Thread::Queue 3.13
t/00_load.t ....... ok
t/01_basic.t ...... ok
t/02_refs.t ....... ok
t/03_peek.t ....... ok
t/04_errs.t ....... ok
t/05_extract.t .... ok
t/06_insert.t ..... ok
t/07_lock.t ....... ok
t/08_nothreads.t .. ok
t/09_ended.t ...... ok
t/10_timed.t ...... ok
t/11_limit.t ...... ok
t/99_pod.t ........ skipped: Module maintainer tests
All tests successful.
Files=13, Tests=336, 83 wallclock secs ( 1.68 usr 0.20 sys + 49.66 cusr 2.92 csys = 54.46 CPU)
Result: PASS
------------------------------
PREREQUISITES
------------------------------
Prerequisite modules loaded:
No requirements found
------------------------------
ENVIRONMENT AND OTHER CONTEXT
------------------------------
Environment variables:
LANG = en_US.UTF-8
PATH = /home/arpi/opt/perl5/bin:/home/arpi/opt/perl5/perls/stable/bin:/usr/local/sbin:/usr/local/bin:/usr/sbin:/usr/bin:/sbin:/bin:/usr/local/games:/usr/games
PERLBREW_BASHRC_VERSION = 0.74
PERLBREW_HOME = /home/arpi/.perlbrew
PERLBREW_MANPATH = /home/arpi/opt/perl5/perls/stable/man
PERLBREW_PATH = /home/arpi/opt/perl5/bin:/home/arpi/opt/perl5/perls/stable/bin
PERLBREW_PERL = stable
PERLBREW_ROOT = /home/arpi/opt/perl5
PERLBREW_VERSION = 0.74
SHELL = /bin/bash
TERM = screen-256color
Perl special variables (and OS-specific diagnostics, for MSWin32):
EGID = 100 4 20 24 27 29 44 46 60 100 105 999 1001 1002 1003
EUID = 1001
EXECUTABLE_NAME = /home/arpi/opt/perl5/perls/perl-5.20.2/bin/perl
GID = 100 4 20 24 27 29 44 46 60 100 105 999 1001 1002 1003
UID = 1001
Perl module toolchain versions installed:
Module Have
------------------- --------
CPAN 2.16
CPAN::Meta 2.150010
Cwd 3.75
ExtUtils::CBuilder 0.280230
ExtUtils::Command 7.34
ExtUtils::Install 2.14
ExtUtils::MakeMaker 7.34
ExtUtils::Manifest 1.71
ExtUtils::ParseXS 3.35
File::Spec 3.75
JSON 2.97001
JSON::PP 2.97001
Module::Build 0.4224
Module::Signature n/a
Parse::CPAN::Meta 2.150010
Test::Harness 3.42
Test::More 1.302140
YAML 1.26
YAML::Syck n/a
version 0.9924
--
Summary of my perl5 (revision 5 version 20 subversion 2) configuration:
Platform:
osname=linux, osvers=3.18.7+, archname=armv6l-linux-thread-multi-64int
uname='linux coral01.plenum.ro 3.18.7+ #755 preempt thu feb 12 17:14:31 gmt 2015 armv6l gnulinux '
config_args='-de -Dprefix=/home/arpi/opt/perl5/perls/perl-5.20.2 -Dusethreads -Duselargefiles -Duse64bitint -Dusesitecustomize -Duseshrplib -Dinc_version_list=none -Dpager=/bin/less -Doptimize=-O2 -Dcf_by=Plenum.ro -Dcf_email=arpad.szasz@plenum.ro -Uuserelocatableinc -UDEBUGGING -Aeval:scriptdir=/home/arpi/opt/perl5/perls/perl-5.20.2/bin'
hint=recommended, useposix=true, d_sigaction=define
useithreads=define, usemultiplicity=define
use64bitint=define, use64bitall=undef, uselongdouble=undef
usemymalloc=n, bincompat5005=undef
Compiler:
cc='cc', ccflags ='-D_REENTRANT -D_GNU_SOURCE -fwrapv -fno-strict-aliasing -pipe -fstack-protector -I/usr/local/include -D_LARGEFILE_SOURCE -D_FILE_OFFSET_BITS=64',
optimize='-O2',
cppflags='-D_REENTRANT -D_GNU_SOURCE -fwrapv -fno-strict-aliasing -pipe -fstack-protector -I/usr/local/include'
ccversion='', gccversion='4.6.3', gccosandvers=''
intsize=4, longsize=4, ptrsize=4, doublesize=8, byteorder=12345678
d_longlong=define, longlongsize=8, d_longdbl=define, longdblsize=8
ivtype='long long', ivsize=8, nvtype='double', nvsize=8, Off_t='off_t', lseeksize=8
alignbytes=8, prototype=define
Linker and Libraries:
ld='cc', ldflags =' -fstack-protector -L/usr/local/lib'
libpth=/usr/local/lib /usr/lib/gcc/arm-linux-gnueabihf/4.6/include-fixed /usr/include/arm-linux-gnueabihf /usr/lib /lib/arm-linux-gnueabihf /lib /usr/lib/arm-linux-gnueabihf
libs=-lnsl -ldl -lm -lcrypt -lutil -lpthread -lc
perllibs=-lnsl -ldl -lm -lcrypt -lutil -lpthread -lc
libc=libc-2.13.so, so=so, useshrplib=true, libperl=libperl.so
gnulibc_version='2.13'
Dynamic Linking:
dlsrc=dl_dlopen.xs, dlext=so, d_dlsymun=undef, ccdlflags='-Wl,-E -Wl,-rpath,/home/arpi/opt/perl5/perls/perl-5.20.2/lib/5.20.2/armv6l-linux-thread-multi-64int/CORE'
cccdlflags='-fPIC', lddlflags='-shared -O2 -L/usr/local/lib -fstack-protector'
Characteristics of this binary (from libperl):
Compile-time options: HAS_TIMES MULTIPLICITY PERLIO_LAYERS
PERL_DONT_CREATE_GVSV
PERL_HASH_FUNC_ONE_AT_A_TIME_HARD
PERL_IMPLICIT_CONTEXT PERL_MALLOC_WRAP
PERL_NEW_COPY_ON_WRITE PERL_PRESERVE_IVUV
USE_64_BIT_INT USE_ITHREADS USE_LARGE_FILES
USE_LOCALE USE_LOCALE_COLLATE USE_LOCALE_CTYPE
USE_LOCALE_NUMERIC USE_PERLIO USE_PERL_ATOF
USE_REENTRANT_API USE_SITECUSTOMIZE
Locally applied patches:
Devel::PatchPerl 1.30
Built under linux
Compiled at Mar 7 2015 13:40:31
%ENV:
PERLBREW_BASHRC_VERSION="0.74"
PERLBREW_HOME="/home/arpi/.perlbrew"
PERLBREW_MANPATH="/home/arpi/opt/perl5/perls/stable/man"
PERLBREW_PATH="/home/arpi/opt/perl5/bin:/home/arpi/opt/perl5/perls/stable/bin"
PERLBREW_PERL="stable"
PERLBREW_ROOT="/home/arpi/opt/perl5"
PERLBREW_VERSION="0.74"
@INC:
/home/arpi/opt/perl5/perls/perl-5.20.2/lib/site_perl/5.20.2/armv6l-linux-thread-multi-64int
/home/arpi/opt/perl5/perls/perl-5.20.2/lib/site_perl/5.20.2
/home/arpi/opt/perl5/perls/perl-5.20.2/lib/5.20.2/armv6l-linux-thread-multi-64int
/home/arpi/opt/perl5/perls/perl-5.20.2/lib/5.20.2
.