Dist-Zilla-Plugin-ChangelogFromGit-CPAN-Changes v0.230680 Perl 5 v5.36.0 x86_64-linux-thread-multi-ld

Status
Pass
From
Andreas J. König (ANDK)
Dist
Dist-Zilla-Plugin-ChangelogFromGit-CPAN-Changes v0.230680
Platform
Perl 5 v5.36.0 x86_64-linux-thread-multi-ld
Date
2023-12-06 09:58:35
ID
0582d83e-941e-11ee-a2b8-13a64c58a7f8
This distribution has been tested as part of the CPAN Testers
project, supporting the Perl programming language.  See
http://wiki.cpantesters.org/ for more information or email
questions to cpan-testers-discuss@perl.org


--
Dear Ioan Rogers,

This is a computer-generated report for Dist-Zilla-Plugin-ChangelogFromGit-CPAN-Changes-0.230680
on perl 5.36.0, created by CPAN-Reporter-1.2018.

Thank you for uploading your work to CPAN.  Congratulations!
All tests were successful.

Sections of this report:

    * Tester comments
    * Program output
    * Prerequisites
    * Environment and other context

------------------------------
TESTER COMMENTS
------------------------------

Additional comments from tester:

this report is from an automated smoke testing program
and was not reviewed by a human for accuracy

------------------------------
PROGRAM OUTPUT
------------------------------

Output from './Build test':

t/00-check-deps.t ...... ok
t/00-compile.t ......... ok
# 
# Versions for all modules listed in MYMETA.json (including optional ones):
# 
# === Configure Requires ===
# 
#     Module               Want  Have
#     ------------------- ----- -----
#     Module::Build::Tiny 0.034 0.039
# 
# === Test Requires ===
# 
#     Module                       Want     Have
#     --------------------------- ----- --------
#     Archive::Tar                  any     2.40
#     Dist::Zilla::File::InMemory   any    6.028
#     ExtUtils::MakeMaker           any     7.70
#     File::Spec                    any     3.84
#     File::chdir                   any   0.1010
#     IO::Handle                    any     1.51
#     IPC::Open3                    any     1.22
#     Path::Tiny                    any    0.144
#     Test::CPAN::Changes           any 0.400002
#     Test::CheckDeps             0.010    0.010
#     Test::DZil                    any    6.028
#     Test::More                   0.94 1.302195
#     Test::Roo                     any    1.004
#     Test::Roo::Role               any    1.004
#     Test::TempDir::Tiny           any    0.018
#     lib                           any     0.65
#     strict                        any     1.12
#     warnings                      any     1.58
# 
# === Test Recommends ===
# 
#     Module         Want     Have
#     ---------- -------- --------
#     CPAN::Meta 2.120900 2.150010
# 
# === Runtime Requires ===
# 
#     Module                              Want     Have
#     ------------------------------- -------- --------
#     CPAN::Changes                   0.400002 0.400002
#     CPAN::Changes::Release               any    undef
#     Class::Load                          any     0.25
#     DateTime                             any     1.58
#     Dist::Zilla                        6.005    6.028
#     Dist::Zilla::Role::AfterBuild        any    6.028
#     Dist::Zilla::Role::FileGatherer      any    6.028
#     Dist::Zilla::Role::Git::Repo         any    2.048
#     Encode                               any     3.19
#     Git::Wrapper                         any    0.048
#     Moose                                any   2.2201
#     Moose::Util::TypeConstraints         any   2.2201
#     perl                             v5.24.0 5.036000
# 
# === Runtime Recommends ===
# 
#     Module             Want Have
#     ------------------ ---- ----
#     Proc::InvokeEditor  any 1.13
# 
t/00-report-prereqs.t .. ok
        # Extracting /tmp/loop_over_bdir-222518-PuFT1x/Dist-Zilla-Plugin-ChangelogFromGit-CPAN-Changes-0.230680-0/t/data/repos/test_repo.tar.gz to /tmp/loop_over_bdir-222518-PuFT1x/Dist-Zilla-Plugin-ChangelogFromGit-CPAN-Changes-0.230680-0/tmp/t_changes_t/default_1
        # Comparing /tmp/loop_over_bdir-222518-PuFT1x/Dist-Zilla-Plugin-ChangelogFromGit-CPAN-Changes-0.230680-0/tmp/GT0gFir9ga/build/Changes to t/data/changes/v1_defaults
        # Comparing /tmp/loop_over_bdir-222518-PuFT1x/Dist-Zilla-Plugin-ChangelogFromGit-CPAN-Changes-0.230680-0/tmp/frCn4nFtvx/build/Changes to t/data/changes/v1_no_author
        # Comparing /tmp/loop_over_bdir-222518-PuFT1x/Dist-Zilla-Plugin-ChangelogFromGit-CPAN-Changes-0.230680-0/tmp/1LI8jaRoK_/build/Changes to t/data/changes/v1_email
        # Comparing /tmp/loop_over_bdir-222518-PuFT1x/Dist-Zilla-Plugin-ChangelogFromGit-CPAN-Changes-0.230680-0/tmp/flRIrzVEzZ/build/Changes to t/data/changes/v1_group_author
        # Comparing /tmp/loop_over_bdir-222518-PuFT1x/Dist-Zilla-Plugin-ChangelogFromGit-CPAN-Changes-0.230680-0/tmp/Lku_9XxdOE/build/Changes to t/data/changes/v1_group_author_email
t/changes.t ............ ok
        # Extracting /tmp/loop_over_bdir-222518-PuFT1x/Dist-Zilla-Plugin-ChangelogFromGit-CPAN-Changes-0.230680-0/t/data/repos/first_release.tar.gz to /tmp/loop_over_bdir-222518-PuFT1x/Dist-Zilla-Plugin-ChangelogFromGit-CPAN-Changes-0.230680-0/tmp/t_first_release_t/default_1
        # Comparing /tmp/loop_over_bdir-222518-PuFT1x/Dist-Zilla-Plugin-ChangelogFromGit-CPAN-Changes-0.230680-0/tmp/S4hdRq9nn0/build/Changes to t/data/changes/first_release
t/first_release.t ...... ok
All tests successful.
Files=5, Tests=36,  8 wallclock secs ( 0.04 usr  0.02 sys +  4.30 cusr  1.64 csys =  6.00 CPU)
Result: PASS

------------------------------
PREREQUISITES
------------------------------

Prerequisite modules loaded:

requires:

    Module                          Need     Have    
    ------------------------------- -------- --------
    Class::Load                     0        0.25    
    CPAN::Changes                   0.400002 0.400002
    CPAN::Changes::Release          0        0       
    DateTime                        0        1.58    
    Dist::Zilla                     6.005    6.028   
    Dist::Zilla::Role::AfterBuild   0        6.028   
    Dist::Zilla::Role::FileGatherer 0        6.028   
    Dist::Zilla::Role::Git::Repo    0        2.048   
    Encode                          0        3.19    
    Git::Wrapper                    0        0.048   
    Moose                           0        2.2201  
    Moose::Util::TypeConstraints    0        2.2201  
    perl                            v5.24.0  5.036000

build_requires:

    Module                          Need     Have    
    ------------------------------- -------- --------
    Archive::Tar                    0        2.40    
    Dist::Zilla::File::InMemory     0        6.028   
    ExtUtils::MakeMaker             0        7.70    
    File::chdir                     0        0.1010  
    File::Spec                      0        3.84    
    IO::Handle                      0        1.51    
    IPC::Open3                      0        1.22    
    lib                             0        0.65    
    Path::Tiny                      0        0.144   
    strict                          0        1.12    
    Test::CheckDeps                 0.010    0.010   
    Test::CPAN::Changes             0        0.400002
    Test::DZil                      0        6.028   
    Test::More                      0.94     1.302195
    Test::Roo                       0        1.004   
    Test::Roo::Role                 0        1.004   
    Test::TempDir::Tiny             0        0.018   
    warnings                        0        1.58    

opt_requires:

    Module                          Need     Have    
    ------------------------------- -------- --------
    Proc::InvokeEditor              0        1.13    


------------------------------
ENVIRONMENT AND OTHER CONTEXT
------------------------------

Environment variables:

    AUTOMATED_TESTING = 1
    LANG = en_US.UTF-8
    LANGUAGE = en_US:en
    PATH = /home/sand/bin:/usr/local/bin:/usr/bin:/bin:/usr/games:/usr/local/perl/bin:/usr/X11/bin:/sbin:/usr/sbin
    PERL5LIB = 
    PERL5OPT = 
    PERL5_CPANPLUS_IS_RUNNING = 3198750
    PERL5_CPAN_IS_RUNNING = 3198750
    PERL_CANARY_STABILITY_NOPROMPT = 1
    PERL_MM_USE_DEFAULT = 1
    PERL_USE_UNSAFE_INC = 1
    SHELL = /usr/bin/zsh
    TERM = screen

Perl special variables (and OS-specific diagnostics, for MSWin32):

    $^X = /home/sand/src/perl/repoperls/installed-perls/host/k93msid/v5.36.0/ac75/bin/perl
    $UID/$EUID = 1005 / 1005
    $GID = 1005 1005
    $EGID = 1005 1005

Perl module toolchain versions installed:

    Module              Have    
    ------------------- --------
    CPAN                2.34    
    CPAN::Meta          2.150010
    Cwd                 3.84    
    ExtUtils::CBuilder  0.280236
    ExtUtils::Command   7.70    
    ExtUtils::Install   2.20    
    ExtUtils::MakeMaker 7.70    
    ExtUtils::Manifest  1.75    
    ExtUtils::ParseXS   3.51    
    File::Spec          3.84    
    JSON                4.10    
    JSON::PP            4.17_01 
    Module::Build       0.4231  
    Module::Signature   0.88    
    Parse::CPAN::Meta   2.150010
    Test::Harness       3.44    
    Test::More          1.302195
    YAML                1.30    
    YAML::Syck          1.34    
    version             0.9929  


--

Summary of my perl5 (revision 5 version 36 subversion 0) configuration:
  Commit id: b3c502b607191da0e743a4fa34501a05442305b3
  Platform:
    osname=linux
    osvers=5.10.0-14-amd64
    archname=x86_64-linux-thread-multi-ld
    uname='linux k93msid 5.10.0-14-amd64 #1 smp debian 5.10.113-1 (2022-04-29) x86_64 gnulinux '
    config_args='-Dprefix=/home/sand/src/perl/repoperls/installed-perls/host/k93msid/v5.36.0/ac75 -Dmyhostname=k93msid -Dinstallusrbinperl=n -Uversiononly -Dusedevel -des -Ui_db -Dlibswanted=cl pthread socket inet nsl gdbm dbm malloc dl ld sun m crypt sec util c cposix posix ucb BSD gdbm_compat -Duseithreads -Duselongdouble -DEBUGGING=both'
    hint=recommended
    useposix=true
    d_sigaction=define
    useithreads=define
    usemultiplicity=define
    use64bitint=define
    use64bitall=define
    uselongdouble=define
    usemymalloc=n
    default_inc_excludes_dot=define
  Compiler:
    cc='cc'
    ccflags ='-D_REENTRANT -D_GNU_SOURCE -fwrapv -DDEBUGGING -fno-strict-aliasing -pipe -fstack-protector-strong -I/usr/local/include -D_LARGEFILE_SOURCE -D_FILE_OFFSET_BITS=64 -D_FORTIFY_SOURCE=2'
    optimize='-O2 -g'
    cppflags='-D_REENTRANT -D_GNU_SOURCE -fwrapv -DDEBUGGING -fno-strict-aliasing -pipe -fstack-protector-strong -I/usr/local/include'
    ccversion=''
    gccversion='11.3.0'
    gccosandvers=''
    intsize=4
    longsize=8
    ptrsize=8
    doublesize=8
    byteorder=12345678
    doublekind=3
    d_longlong=define
    longlongsize=8
    d_longdbl=define
    longdblsize=16
    longdblkind=3
    ivtype='long'
    ivsize=8
    nvtype='long double'
    nvsize=16
    Off_t='off_t'
    lseeksize=8
    alignbytes=16
    prototype=define
  Linker and Libraries:
    ld='cc'
    ldflags =' -fstack-protector-strong -L/usr/local/lib'
    libpth=/usr/local/lib /usr/lib/x86_64-linux-gnu /usr/lib /usr/lib64
    libs=-lpthread -lnsl -ldl -lm -lcrypt -lutil -lc
    perllibs=-lpthread -lnsl -ldl -lm -lcrypt -lutil -lc
    libc=libc-2.33.so
    so=so
    useshrplib=false
    libperl=libperl.a
    gnulibc_version='2.33'
  Dynamic Linking:
    dlsrc=dl_dlopen.xs
    dlext=so
    d_dlsymun=undef
    ccdlflags='-Wl,-E'
    cccdlflags='-fPIC'
    lddlflags='-shared -O2 -g -L/usr/local/lib -fstack-protector-strong'


Characteristics of this binary (from libperl): 
  Compile-time options:
    DEBUGGING
    HAS_TIMES
    MULTIPLICITY
    PERLIO_LAYERS
    PERL_COPY_ON_WRITE
    PERL_DONT_CREATE_GVSV
    PERL_MALLOC_WRAP
    PERL_OP_PARENT
    PERL_PRESERVE_IVUV
    PERL_TRACK_MEMPOOL
    PERL_USE_DEVEL
    USE_64_BIT_ALL
    USE_64_BIT_INT
    USE_ITHREADS
    USE_LARGE_FILES
    USE_LOCALE
    USE_LOCALE_COLLATE
    USE_LOCALE_CTYPE
    USE_LOCALE_NUMERIC
    USE_LOCALE_TIME
    USE_LONG_DOUBLE
    USE_PERLIO
    USE_PERL_ATOF
    USE_REENTRANT_API
    USE_THREAD_SAFE_LOCALE
  Built under linux
  Compiled at May 30 2022 02:56:41
  %ENV:
    PERL5LIB=""
    PERL5OPT=""
    PERL5_CPANPLUS_IS_RUNNING="3198750"
    PERL5_CPAN_IS_RUNNING="3198750"
    PERL_CANARY_STABILITY_NOPROMPT="1"
    PERL_MM_USE_DEFAULT="1"
    PERL_USE_UNSAFE_INC="1"
  @INC:
    /home/sand/src/perl/repoperls/installed-perls/host/k93msid/v5.36.0/ac75/lib/site_perl/5.36.0/x86_64-linux-thread-multi-ld
    /home/sand/src/perl/repoperls/installed-perls/host/k93msid/v5.36.0/ac75/lib/site_perl/5.36.0
    /home/sand/src/perl/repoperls/installed-perls/host/k93msid/v5.36.0/ac75/lib/5.36.0/x86_64-linux-thread-multi-ld
    /home/sand/src/perl/repoperls/installed-perls/host/k93msid/v5.36.0/ac75/lib/5.36.0
    .