Back
From: metabase:user:30ae4450-2aae-11df-837a-5e0a49663a4f
Subject: PASS POE-Devel-Benchmarker-0.05 v5.17.10
Date: 2013-05-14T18:21:02Z
This distribution has been tested as part of the CPAN Testers
project, supporting the Perl programming language. See
http://wiki.cpantesters.org/ for more information or email
questions to cpan-testers-discuss@perl.org
--
Dear Apocalypse,
This is a computer-generated report for POE-Devel-Benchmarker-0.05
on perl 5.17.10, created by CPAN-Reporter-1.2010_01.
Thank you for uploading your work to CPAN. Congratulations!
All tests were successful.
Sections of this report:
* Tester comments
* Program output
* Prerequisites
* Environment and other context
------------------------------
TESTER COMMENTS
------------------------------
Additional comments from tester:
this report is from an automated smoke testing program
and was not reviewed by a human for accuracy
------------------------------
PROGRAM OUTPUT
------------------------------
Output from 'C:\strawberry\perl\bin\perl.exe ./Build test':
t\1_load.t ................ ok
t\a_compile.t ............. skipped: Author test. Sent $ENV{TEST_AUTHOR} to a true value to run.
t\a_critic.t .............. skipped: Author test. Sent $ENV{TEST_AUTHOR} to a true value to run.
t\a_dependencies.t ........ skipped: Author test. Sent $ENV{TEST_AUTHOR} to a true value to run.
t\a_distribution.t ........ skipped: Author test. Sent $ENV{TEST_AUTHOR} to a true value to run.
t\a_dosnewline.t .......... skipped: Author test. Sent $ENV{TEST_AUTHOR} to a true value to run.
t\a_fixme.t ............... skipped: Author test. Sent $ENV{TEST_AUTHOR} to a true value to run.
t\a_hasversion.t .......... skipped: Author test. Sent $ENV{TEST_AUTHOR} to a true value to run.
t\a_is_prereq_outdated.t .. skipped: Author test. Sent $ENV{TEST_AUTHOR} to a true value to run.
t\a_kwalitee.t ............ skipped: Author test. Sent $ENV{TEST_AUTHOR} to a true value to run.
t\a_manifest.t ............ skipped: Author test. Sent $ENV{TEST_AUTHOR} to a true value to run.
t\a_metayml.t ............. skipped: Author test. Sent $ENV{TEST_AUTHOR} to a true value to run.
t\a_minimumversion.t ...... skipped: Author test. Sent $ENV{TEST_AUTHOR} to a true value to run.
t\a_perlmetrics.t ......... skipped: Author test. Sent $ENV{TEST_AUTHOR} to a true value to run.
t\a_pod.t ................. skipped: Author test. Sent $ENV{TEST_AUTHOR} to a true value to run.
t\a_pod_coverage.t ........ skipped: Author test. Sent $ENV{TEST_AUTHOR} to a true value to run.
t\a_pod_spelling.t ........ skipped: Author test. Sent $ENV{TEST_AUTHOR} to a true value to run.
t\a_prereq.t .............. skipped: Author test. Sent $ENV{TEST_AUTHOR} to a true value to run.
t\a_prereq_build.t ........ skipped: Author test. Sent $ENV{TEST_AUTHOR} to a true value to run.
t\a_strict.t .............. skipped: Author test. Sent $ENV{TEST_AUTHOR} to a true value to run.
All tests successful.
Files=20, Tests=7, 2 wallclock secs ( 0.02 usr + 0.06 sys = 0.08 CPU)
Result: PASS
------------------------------
PREREQUISITES
------------------------------
Prerequisite modules loaded:
requires:
Module Need Have
---------------------------- ---- ------
Archive::Tar 0 1.90
Class::Accessor::Fast 0 0.34
Devel::Hide 0 0.0009
GD::Graph::colour 0 1.10
GD::Graph::lines 0 1.15
HTML::LinkExtor 0 3.69
LWP::UserAgent 0 6.05
Module::Pluggable 0 4.7
POE 0 1.354
POE::Driver::SysRW 0 1.354
POE::Filter::Line 0 1.354
POE::Session 0 1.354
POE::Session::AttributeBased 0 0.10
POE::Wheel::ReadWrite 0 1.354
POE::Wheel::SocketFactory 0 1.354
Test::More 0.86 0.98
Time::HiRes 0 1.9725
URI::URL 0 5.04
version 0 0.9902
YAML::Tiny 0 1.51
------------------------------
ENVIRONMENT AND OTHER CONTEXT
------------------------------
Environment variables:
AUTOMATED_TESTING = 1
COMSPEC = C:\WINDOWS\system32\cmd.exe
NUMBER_OF_PROCESSORS = 1
PATH = C:\Program Files\Far Manager\;C:\WINDOWS\system32;C:\WINDOWS;C:\WINDOWS\System32\Wbem;C:\strawberry\c\bin;C:\strawberry\perl\site\bin;C:\strawberry\perl\bin;C:\Git\cmd
PERL5LIB = C:\strawberry\cpan\build\POE-Session-AttributeBased-0.10-k_OQz7/blib/arch;C:\strawberry\cpan\build\POE-Session-AttributeBased-0.10-k_OQz7/blib/lib
PERL5OPT =
PERL5_CPANPLUS_IS_RUNNING = 1728
PERL5_CPAN_IS_RUNNING = 1728
PERL5_CPAN_IS_RUNNING_IN_RECURSION = 1836,1728
PERL_CR_SMOKER_CURRENT = POE-Devel-Benchmarker-0.05
PERL_EXTUTILS_AUTOINSTALL = --defaultdeps
PERL_MM_USE_DEFAULT = 1
PROCESSOR_IDENTIFIER = x86 Family 16 Model 5 Stepping 3, AuthenticAMD
TEMP = C:\DOCUME~1\c\LOCALS~1\Temp
TERM = dumb
Perl special variables (and OS-specific diagnostics, for MSWin32):
$^X = C:\strawberry\perl\bin\perl.exe
$UID/$EUID = 0 / 0
$GID = 0
$EGID = 0
Win32::GetOSName = WinXP/.Net
Win32::GetOSVersion = Service Pack 3, 5, 1, 2600, 2, 3, 0, 256, 1
Win32::FsType = NTFS
Win32::IsAdminUser = 1
Perl module toolchain versions installed:
Module Have
------------------- --------
CPAN 2.00
CPAN::Meta 2.130880
Cwd 3.40
ExtUtils::CBuilder 0.280209
ExtUtils::Command 1.17
ExtUtils::Install 1.59
ExtUtils::MakeMaker 6.65_01
ExtUtils::Manifest 1.63
ExtUtils::ParseXS 3.18
File::Spec 3.40
JSON 2.53
JSON::PP 2.27202
Module::Build 0.4004
Module::Signature n/a
Parse::CPAN::Meta 1.4404
Test::Harness 3.26
Test::More 0.98
YAML 0.84
YAML::Syck 1.25
version 0.9902
--
Summary of my perl5 (revision 5 version 17 subversion 10) configuration:
Platform:
osname=MSWin32, osvers=4.0, archname=MSWin32-x86-multi-thread-64int
uname='Win32 strawberry-perl 5.18.0.1-beta1 #1 Mon Apr 1 23:03:07 2013 i386'
config_args='undef'
hint=recommended, useposix=true, d_sigaction=undef
useithreads=define, usemultiplicity=define
useperlio=define, d_sfio=undef, uselargefiles=define, usesocks=undef
use64bitint=define, use64bitall=undef, uselongdouble=undef
usemymalloc=n, bincompat5005=undef
Compiler:
cc='gcc', ccflags =' -s -O2 -DWIN32 -DPERL_TEXTMODE_SCRIPTS -DPERL_IMPLICIT_CONTEXT -DPERL_IMPLICIT_SYS -fno-strict-aliasing -mms-bitfields',
optimize='-s -O2',
cppflags='-DWIN32'
ccversion='', gccversion='4.6.3', gccosandvers=''
intsize=4, longsize=4, ptrsize=4, doublesize=8, byteorder=12345678
d_longlong=define, longlongsize=8, d_longdbl=define, longdblsize=12
ivtype='long long', ivsize=8, nvtype='double', nvsize=8, Off_t='long long', lseeksize=8
alignbytes=8, prototype=define
Linker and Libraries:
ld='g++', ldflags ='-s -L"C:\strawberry\perl\lib\CORE" -L"C:\strawberry\c\lib"'
libpth=C:\strawberry\c\lib C:\strawberry\c\i686-w64-mingw32\lib
libs=-lmoldname -lkernel32 -luser32 -lgdi32 -lwinspool -lcomdlg32 -ladvapi32 -lshell32 -lole32 -loleaut32 -lnetapi32 -luuid -lws2_32 -lmpr -lwinmm -lversion -lodbc32 -lodbccp32 -lcomctl32
perllibs=-lmoldname -lkernel32 -luser32 -lgdi32 -lwinspool -lcomdlg32 -ladvapi32 -lshell32 -lole32 -loleaut32 -lnetapi32 -luuid -lws2_32 -lmpr -lwinmm -lversion -lodbc32 -lodbccp32 -lcomctl32
libc=, so=dll, useshrplib=true, libperl=libperl517.a
gnulibc_version=''
Dynamic Linking:
dlsrc=dl_win32.xs, dlext=dll, d_dlsymun=undef, ccdlflags=' '
cccdlflags=' ', lddlflags='-mdll -s -L"C:\strawberry\perl\lib\CORE" -L"C:\strawberry\c\lib"'
Characteristics of this binary (from libperl):
Compile-time options: HAS_TIMES HAVE_INTERP_INTERN MULTIPLICITY
PERLIO_LAYERS PERL_DONT_CREATE_GVSV
PERL_IMPLICIT_CONTEXT PERL_IMPLICIT_SYS
PERL_MALLOC_WRAP PERL_PRESERVE_IVUV PERL_SAWAMPERSAND
USE_64_BIT_INT USE_ITHREADS USE_LARGE_FILES
USE_LOCALE USE_LOCALE_COLLATE USE_LOCALE_CTYPE
USE_LOCALE_NUMERIC USE_PERLIO USE_PERL_ATOF
Built under MSWin32
Compiled at Apr 1 2013 23:13:43
%ENV:
PERL5LIB="C:\strawberry\cpan\build\POE-Session-AttributeBased-0.10-k_OQz7/blib/arch;C:\strawberry\cpan\build\POE-Session-AttributeBased-0.10-k_OQz7/blib/lib"
PERL5_CPANPLUS_IS_RUNNING="1728"
PERL5_CPAN_IS_RUNNING="1728"
PERL5_CPAN_IS_RUNNING_IN_RECURSION="1836,1728"
PERL_CR_SMOKER_CURRENT="POE-Devel-Benchmarker-0.05"
PERL_EXTUTILS_AUTOINSTALL="--defaultdeps"
PERL_MM_USE_DEFAULT="1"
@INC:
C:\strawberry\cpan\build\POE-Session-AttributeBased-0.10-k_OQz7/blib/arch
C:\strawberry\cpan\build\POE-Session-AttributeBased-0.10-k_OQz7/blib/lib
C:/strawberry/perl/site/lib
C:/strawberry/perl/vendor/lib
C:/strawberry/perl/lib
.