Math-Prime-Util v0.73 Perl 5 v5.40.0 RC2 x86_64-dragonfly
- Status
- Pass
- From
- Carlos Guevara
- Dist
-
Math-Prime-Util v0.73
- Platform
- Perl 5 v5.40.0 RC2 x86_64-dragonfly
- Date
- 2024-06-09 03:19:03
- ID
- 05979b92-260f-11ef-a33c-adf7f43f427b
This distribution has been tested as part of the CPAN Testers
project, supporting the Perl programming language. See
http://wiki.cpantesters.org/ for more information or email
questions to cpan-testers-discuss@perl.org
--
Dear Dana Jacobsen,
This is a computer-generated report for Math-Prime-Util-0.73
on perl 5.40.0, created by CPAN-Reporter-1.2019.
Thank you for uploading your work to CPAN. Congratulations!
All tests were successful.
Sections of this report:
* Tester comments
* Program output
* Prerequisites
* Environment and other context
------------------------------
TESTER COMMENTS
------------------------------
Additional comments from tester:
this report is from an automated smoke testing program
and was not reviewed by a human for accuracy
------------------------------
PROGRAM OUTPUT
------------------------------
Output from '/usr/bin/make test':
"/home/cpan/bin/perl/bin/perl5.40.0" -MExtUtils::Command::MM -e 'cp_nonempty' -- Util.bs blib/arch/auto/Math/Prime/Util/Util.bs 644
PERL_DL_NONLAZY=1 "/home/cpan/bin/perl/bin/perl5.40.0" "-MExtUtils::Command::MM" "-MTest::Harness" "-e" "undef *Test::Harness::Switches; test_harness(0, 'blib/lib', 'blib/arch')" t/*.t
t/01-load.t .................. ok
t/011-load-ntheory.t ......... ok
t/02-can.t ................... ok
t/022-can-ntheory.t .......... ok
# Using XS with MPU::GMP version 0.52.
t/03-init.t .................. ok
t/04-inputvalidation.t ....... ok
t/10-isprime.t ............... ok
t/11-clusters.t .............. ok
t/11-primes.t ................ ok
t/11-ramanujanprimes.t ....... ok
t/11-semiprimes.t ............ ok
t/11-sumprimes.t ............. ok
t/11-twinprimes.t ............ ok
t/12-nextprime.t ............. ok
t/13-primecount.t ............ ok
t/14-nthprime.t .............. ok
t/15-probprime.t ............. ok
t/16-randomprime.t ........... ok
t/17-pseudoprime.t ........... ok
t/18-functions.t ............. ok
t/19-chebyshev.t ............. ok
t/19-chinese.t ............... ok
t/19-divisorsum.t ............ ok
t/19-gcd.t ................... ok
t/19-kronecker.t ............. ok
t/19-legendrephi.t ........... ok
t/19-liouville.t ............. ok
t/19-mangoldt.t .............. ok
t/19-moebius.t ............... ok
t/19-popcount.t .............. ok
t/19-primroots.t ............. ok
t/19-ramanujan.t ............. ok
t/19-rootint.t ............... ok
t/19-totients.t .............. ok
t/19-valuation.t ............. ok
t/19-znorder.t ............... ok
t/20-jordantotient.t ......... ok
t/20-primorial.t ............. ok
t/21-conseq-lcm.t ............ ok
t/22-aks-prime.t ............. ok
t/23-primality-proofs.t ...... ok
t/23-random-certs.t .......... ok
t/24-partitions.t ............ ok
t/25-lucas_sequences.t ....... ok
t/26-combinatorial.t ......... ok
t/26-digits.t ................ ok
t/26-iscarmichael.t .......... ok
t/26-isfundamental.t ......... ok
t/26-ispower.t ............... ok
t/26-issemiprime.t ........... ok
t/26-issquarefree.t .......... ok
t/26-istotient.t ............. ok
t/26-mod.t ................... ok
t/26-pillai.t ................ ok
t/26-polygonal.t ............. ok
t/26-vec.t ................... ok
t/27-bernfrac.t .............. ok
t/28-pi.t .................... ok
t/29-mersenne.t .............. ok
t/30-relations.t ............. ok
t/31-threading.t ............. skipped: only in release or extended testing
t/32-iterators.t ............. ok
t/33-examples.t .............. skipped: these tests are for release candidate testing
# CORE::rand: drand48 (yech). Our PRNG: ChaCha20
t/34-random.t ................ ok
t/35-cipher.t ................ ok
t/35-rand-tag.t .............. ok
t/50-factoring.t ............. ok
t/51-randfactor.t ............ ok
t/51-znlog.t ................. ok
t/52-primearray.t ............ ok
t/70-rt-bignum.t ............. ok
t/80-pp.t .................... ok
# BigInt 0.67/2.003003, lib: GMP. MPU::GMP 0.52
t/81-bignum.t ................ ok
t/90-release-perlcritic.t .... skipped: these tests are for release candidate testing
t/91-release-pod-syntax.t .... skipped: these tests are for release candidate testing
t/92-release-pod-coverage.t .. skipped: these tests are for release candidate testing
t/93-release-spelling.t ...... skipped: these tests are for release candidate testing
t/94-weaken.t ................ skipped: these tests are for release candidate testing
t/97-synopsis.t .............. skipped: these tests are for release candidate testing
All tests successful.
Files=79, Tests=4067, 8 wallclock secs ( 0.34 usr 0.20 sys + 5.48 cusr 1.51 csys = 7.53 CPU)
Result: PASS
------------------------------
PREREQUISITES
------------------------------
Prerequisite modules loaded:
requires:
Module Need Have
---------------------- -------- --------
base 0 2.27
Carp 0 1.54
Config 0 5.040000
constant 0 1.33
Exporter 5.57 5.78
Math::BigFloat 1.59 2.003003
Math::BigInt 1.88 2.003003
Math::Prime::Util::GMP 0.50 0.52
perl 5.006002 5.040000
Tie::Array 0 1.07
XSLoader 0.01 0.32
build_requires:
Module Need Have
---------------------- -------- --------
bignum 0.22 0.67
ExtUtils::MakeMaker 0 7.70
Test::More 0.45 1.302199
configure_requires:
Module Need Have
---------------------- -------- --------
ExtUtils::MakeMaker 0 7.70
------------------------------
ENVIRONMENT AND OTHER CONTEXT
------------------------------
Environment variables:
AUTOMATED_TESTING = 1
DATE_MANIP_TEST_DM5 = 1
LC_ALL = C
NONINTERACTIVE_TESTING = 1
NO_NETWORK_TESTING = 1
PATH = /home/cpan/bin/perl/bin:/home/cpan/bin:/sbin:/bin:/usr/sbin:/usr/bin:/usr/games:/usr/local/sbin:/usr/local/bin:/usr/pkg/sbin:/usr/pkg/bin:/home/cpan/bin
PERL5LIB =
PERL5OPT =
PERL5_CPANPLUS_IS_RUNNING = 769600
PERL5_CPAN_IS_RUNNING = 769600
PERL_MM_USE_DEFAULT = 1
PERL_USE_UNSAFE_INC = 1
SHELL = /usr/local/bin/bash
TERM = screen
TMPDIR = /home/cpan/tmp
Perl special variables (and OS-specific diagnostics, for MSWin32):
$^X = /home/cpan/bin/perl/bin/perl5.40.0
$UID/$EUID = 1002 / 1002
$GID = 1002 1002
$EGID = 1002 1002
Perl module toolchain versions installed:
Module Have
------------------- --------
CPAN 2.36
CPAN::Meta 2.150010
Cwd 3.90
ExtUtils::CBuilder 0.280240
ExtUtils::Command 7.70
ExtUtils::Install 2.22
ExtUtils::MakeMaker 7.70
ExtUtils::Manifest 1.75
ExtUtils::ParseXS 3.51
File::Spec 3.90
JSON 4.10
JSON::PP 4.16
Module::Build 0.4234
Module::Signature n/a
Parse::CPAN::Meta 2.150010
Test2 1.302199
Test::Harness 3.48
Test::More 1.302199
YAML 1.31
YAML::Syck 1.34
version 0.9932
--
Summary of my perl5 (revision 5 version 40 subversion 0) configuration:
Commit id: c8545878e4ddb53fc492685422a67aa6b658f0ea
Platform:
osname=dragonfly
osvers=6.4-release
archname=x86_64-dragonfly
uname='dragonfly cjg-dragonfly6 6.4-release dragonfly v6.4.0-release #54: fri dec 30 09:06:50 pst 2022 root@pkgbox64.dragonflybsd.org:usrobjusrsrcsysx86_64_generic x86_64 '
config_args='-des -Dprefix=/home/cpan/bin/perl -Dscriptdir=/home/cpan/bin/perl/bin -Dusedevel -Duse64bitall'
hint=recommended
useposix=true
d_sigaction=define
useithreads=undef
usemultiplicity=undef
use64bitint=define
use64bitall=define
uselongdouble=undef
usemymalloc=n
default_inc_excludes_dot=define
Compiler:
cc='cc'
ccflags ='-DHAS_FPSETMASK -DHAS_FLOATINGPOINT_H -DNO_POSIX_2008_LOCALE -fwrapv -fno-strict-aliasing -pipe -fstack-protector-strong -I/usr/local/include -D_FORTIFY_SOURCE=2'
optimize='-O2'
cppflags='-DHAS_FPSETMASK -DHAS_FLOATINGPOINT_H -DNO_POSIX_2008_LOCALE -fwrapv -fno-strict-aliasing -pipe -fstack-protector-strong -I/usr/local/include'
ccversion=''
gccversion='8.3 [DragonFly] Release/2019-02-22'
gccosandvers=''
intsize=4
longsize=8
ptrsize=8
doublesize=8
byteorder=12345678
doublekind=3
d_longlong=define
longlongsize=8
d_longdbl=define
longdblsize=16
longdblkind=3
ivtype='long'
ivsize=8
nvtype='double'
nvsize=8
Off_t='off_t'
lseeksize=8
alignbytes=8
prototype=define
Linker and Libraries:
ld='cc'
ldflags ='-Wl,-E -fstack-protector-strong -L/usr/local/lib'
libpth=/usr/lib /usr/local/lib
libs=-lpthread -lgdbm -ldl -lm -lcrypt -lutil -lc
perllibs=-lpthread -ldl -lm -lcrypt -lutil -lc
libc=
so=so
useshrplib=false
libperl=libperl.a
gnulibc_version=''
Dynamic Linking:
dlsrc=dl_dlopen.xs
dlext=so
d_dlsymun=undef
ccdlflags=' '
cccdlflags='-DPIC -fPIC'
lddlflags='-shared -L/usr/local/lib -fstack-protector-strong'
Characteristics of this binary (from libperl):
Compile-time options:
HAS_LONG_DOUBLE
HAS_STRTOLD
HAS_TIMES
PERLIO_LAYERS
PERL_COPY_ON_WRITE
PERL_DONT_CREATE_GVSV
PERL_HASH_FUNC_SIPHASH13
PERL_HASH_USE_SBOX32
PERL_MALLOC_WRAP
PERL_OP_PARENT
PERL_PRESERVE_IVUV
PERL_USE_DEVEL
PERL_USE_SAFE_PUTENV
USE_64_BIT_ALL
USE_64_BIT_INT
USE_LARGE_FILES
USE_LOCALE
USE_LOCALE_COLLATE
USE_LOCALE_CTYPE
USE_LOCALE_NUMERIC
USE_LOCALE_TIME
USE_PERLIO
USE_PERL_ATOF
Locally applied patches:
RC2
Built under dragonfly
Compiled at Jun 8 2024 15:17:03
%ENV:
PERL5LIB=""
PERL5OPT=""
PERL5_CPANPLUS_IS_RUNNING="769600"
PERL5_CPAN_IS_RUNNING="769600"
PERL_MM_USE_DEFAULT="1"
PERL_USE_UNSAFE_INC="1"
@INC:
/home/cpan/bin/perl/lib/site_perl/5.40.0/x86_64-dragonfly
/home/cpan/bin/perl/lib/site_perl/5.40.0
/home/cpan/bin/perl/lib/5.40.0/x86_64-dragonfly
/home/cpan/bin/perl/lib/5.40.0
.