Filter-Crypto v2.08 Perl 5 v5.30.2 amd64-freebsd
- Status
- Pass
- From
- Slaven Rezić (SREZIC)
- Dist
-
Filter-Crypto v2.08
- Platform
- Perl 5 v5.30.2 amd64-freebsd
- Date
- 2020-03-16 20:59:27
- ID
- 05cd420a-67c9-11ea-95c4-3a441f24ea8f
This distribution has been tested as part of the CPAN Testers
project, supporting the Perl programming language. See
http://wiki.cpantesters.org/ for more information or email
questions to cpan-testers-discuss@perl.org
--
Dear Steve Hay,
This is a computer-generated report for Filter-Crypto-2.08
on perl 5.30.2, created by CPAN-Reporter-1.2018.
Thank you for uploading your work to CPAN. Congratulations!
All tests were successful.
Sections of this report:
* Tester comments
* Program output
* Prerequisites
* Environment and other context
------------------------------
TESTER COMMENTS
------------------------------
Additional comments from tester:
none provided
------------------------------
PROGRAM OUTPUT
------------------------------
Output from '/usr/bin/make test':
"/usr/perl5.30.2p/bin/perl5.30.2" -MExtUtils::Command::MM -e 'cp_nonempty' -- CryptFile.bs ../blib/arch/auto/Filter/Crypto/CryptFile/CryptFile.bs 644
Manifying 1 pod document
"/usr/perl5.30.2p/bin/perl5.30.2" -MExtUtils::Command::MM -e 'cp_nonempty' -- Decrypt.bs ../blib/arch/auto/Filter/Crypto/Decrypt/Decrypt.bs 644
Manifying 1 pod document
PERL_DL_NONLAZY=1 "/usr/perl5.30.2p/bin/perl5.30.2" "-MExtUtils::Command::MM" "-MTest::Harness" "-e" "undef *Test::Harness::Switches; test_harness(0, 'blib/lib', 'blib/arch')" t/*.t
t/01_imports_01.t .... ok
t/01_imports_02.t .... ok
t/01_imports_03.t .... ok
t/01_imports_04.t .... ok
t/02_function.t ...... ok
t/03_script.t ........ ok
t/04_par.t ........... skipped: PAR::Filter required to test PAR::Filter::Crypto
t/05_errstr.t ........ ok
t/06_changes.t ....... skipped: Author testing only
t/07_critic.t ........ skipped: Author testing only
t/08_pod.t ........... skipped: Author testing only
t/09_pod_coverage.t .. skipped: Author testing only
All tests successful.
Files=12, Tests=432, 21 wallclock secs ( 0.17 usr 0.09 sys + 13.90 cusr 6.23 csys = 20.40 CPU)
Result: PASS
------------------------------
PREREQUISITES
------------------------------
Prerequisite modules loaded:
requires:
Module Need Have
--------------------- -------- ---------
Carp 0 1.50
Config 0 5.030002
constant 0 1.33
Cwd 0 3.78
Exporter 0 5.73
ExtUtils::MakeMaker 6.66 7.34
Fcntl 0 1.13
File::Basename 0 2.85
File::Copy 0 2.34
File::Find 0 1.36
File::Spec::Functions 0 3.78
File::Temp 0 0.2309
Getopt::Long 0 2.5
perl 5.008001 5.030002
Pod::Usage 1.15 1.69
Scalar::Util 0 1.50
strict 0 1.11
Text::ParseWords 0 3.30
Text::Wrap 0 2013.0523
warnings 0 1.44
XSLoader 0 0.30
build_requires:
Module Need Have
--------------------- -------- ---------
blib 0 1.07
ExtUtils::MakeMaker 0 7.34
FindBin 0 1.51
Test::More 0 1.302162
configure_requires:
Module Need Have
--------------------- -------- ---------
Carp 0 1.50
Config 0 5.030002
constant 0 1.33
Cwd 0 3.78
ExtUtils::MakeMaker 6.66 7.34
Fcntl 0 1.13
File::Basename 0 2.85
File::Copy 0 2.34
File::Spec::Functions 0 3.78
Getopt::Long 0 2.5
perl 5.008001 5.030002
Pod::Usage 1.15 1.69
strict 0 1.11
Text::Wrap 0 2013.0523
warnings 0 1.44
------------------------------
ENVIRONMENT AND OTHER CONTEXT
------------------------------
Environment variables:
PATH = /usr/local/bin:/usr/bin:/bin:/usr/local/sbin:/usr/sbin:/sbin:/home/cpansand/bin/freebsd13.0:/home/cpansand/bin/sh:/home/cpansand/bin:/usr/games:/home/cpansand/devel:/usr/home/eserte/src/srezic-misc/scripts
PERL5LIB = /home/cpansand/.cpan/build/2020031620/as-0.09-1/blib/arch:/home/cpansand/.cpan/build/2020031620/as-0.09-1/blib/lib
PERL5OPT =
PERL5_CPANPLUS_IS_RUNNING = 41297
PERL5_CPAN_IS_RUNNING = 41297
PERL5_CPAN_IS_RUNNING_IN_RECURSION = 25693,41297
PERLDOC = -MPod::Perldoc::ToTextOverstrike
PERL_BATCH = yes
PERL_CANARY_STABILITY_NOPROMPT = 1
PERL_CPAN_REPORTER_CONFIG = /var/tmp/cpansmoker-1023/2020031620/cpanreporter_001_config.ini
PERL_EXTUTILS_AUTOINSTALL = --defaultdeps
PERL_USE_UNSAFE_INC = 1
SHELL = /usr/local/bin/zsh
TERM = screen
TMPDIR = /var/tmp/cpansmoker-1023/2020031620
Perl special variables (and OS-specific diagnostics, for MSWin32):
$^X = /usr/perl5.30.2p/bin/perl5.30.2
$UID/$EUID = 1023 / 1023
$GID = 1023 1023
$EGID = 1023 1023
Perl module toolchain versions installed:
Module Have
------------------- --------
CPAN 2.22
CPAN::Meta 2.150010
Cwd 3.78
ExtUtils::CBuilder 0.280231
ExtUtils::Command 7.34
ExtUtils::Install 2.14
ExtUtils::MakeMaker 7.34
ExtUtils::Manifest 1.72
ExtUtils::ParseXS 3.40
File::Spec 3.78
JSON n/a
JSON::PP 4.02
Module::Build 0.4231
Module::Signature n/a
Parse::CPAN::Meta 2.150010
Test::Harness 3.42
Test::More 1.302162
YAML 1.30
YAML::Syck 1.32
version 0.9924
--
Summary of my perl5 (revision 5 version 30 subversion 2) configuration:
Platform:
osname=freebsd
osvers=13.0-current
archname=amd64-freebsd
uname='freebsd cloud2.bbbike.org 13.0-current freebsd 13.0-current #14 05d081f5c95-c266832(master): sat feb 22 00:45:50 utc 2020 root@cloud2.bbbike.org:usrobjusrhomeprojectsfreebsdamd64.amd64sysgeneric amd64 '
config_args='-ds -e -Dprefix=/usr/perl5.30.2p -Dcf_email=srezic@cpan.org -Doptimize=-O2 -pipe'
hint=recommended
useposix=true
d_sigaction=define
useithreads=undef
usemultiplicity=undef
use64bitint=define
use64bitall=define
uselongdouble=undef
usemymalloc=n
default_inc_excludes_dot=define
bincompat5005=undef
Compiler:
cc='cc'
ccflags ='-DHAS_FPSETMASK -DHAS_FLOATINGPOINT_H -fno-strict-aliasing -pipe -fstack-protector-strong -I/usr/local/include'
optimize='-O2 -pipe'
cppflags='-DHAS_FPSETMASK -DHAS_FLOATINGPOINT_H -fno-strict-aliasing -pipe -fstack-protector-strong -I/usr/local/include'
ccversion=''
gccversion='FreeBSD Clang 9.0.1 (git@github.com:llvm/llvm-project.git c1a0a213378a458fbea1a5c77b315c7dce08fd05)'
gccosandvers=''
intsize=4
longsize=8
ptrsize=8
doublesize=8
byteorder=12345678
doublekind=3
d_longlong=define
longlongsize=8
d_longdbl=define
longdblsize=16
longdblkind=3
ivtype='long'
ivsize=8
nvtype='double'
nvsize=8
Off_t='off_t'
lseeksize=8
alignbytes=8
prototype=define
Linker and Libraries:
ld='cc'
ldflags ='-pthread -Wl,-E -fstack-protector-strong -L/usr/local/lib'
libpth=/usr/lib /usr/local/lib /usr/lib/clang/9.0.1/lib /usr/lib
libs=-lpthread -lgdbm -ldl -lm -lcrypt -lutil -lc
perllibs=-lpthread -ldl -lm -lcrypt -lutil -lc
libc=
so=so
useshrplib=false
libperl=libperl.a
gnulibc_version=''
Dynamic Linking:
dlsrc=dl_dlopen.xs
dlext=so
d_dlsymun=undef
ccdlflags=' '
cccdlflags='-DPIC -fPIC'
lddlflags='-shared -L/usr/local/lib -fstack-protector-strong'
Characteristics of this binary (from libperl):
Compile-time options:
HAS_TIMES
PERLIO_LAYERS
PERL_COPY_ON_WRITE
PERL_DONT_CREATE_GVSV
PERL_MALLOC_WRAP
PERL_OP_PARENT
PERL_PRESERVE_IVUV
USE_64_BIT_ALL
USE_64_BIT_INT
USE_LARGE_FILES
USE_LOCALE
USE_LOCALE_COLLATE
USE_LOCALE_CTYPE
USE_LOCALE_NUMERIC
USE_LOCALE_TIME
USE_PERLIO
USE_PERL_ATOF
Built under freebsd
Compiled at Mar 14 2020 21:36:39
%ENV:
PERL5LIB="/home/cpansand/.cpan/build/2020031620/as-0.09-1/blib/arch:/home/cpansand/.cpan/build/2020031620/as-0.09-1/blib/lib"
PERL5OPT=""
PERL5_CPANPLUS_IS_RUNNING="41297"
PERL5_CPAN_IS_RUNNING="41297"
PERL5_CPAN_IS_RUNNING_IN_RECURSION="25693,41297"
PERLDOC="-MPod::Perldoc::ToTextOverstrike"
PERL_BATCH="yes"
PERL_CANARY_STABILITY_NOPROMPT="1"
PERL_CPAN_REPORTER_CONFIG="/var/tmp/cpansmoker-1023/2020031620/cpanreporter_001_config.ini"
PERL_EXTUTILS_AUTOINSTALL="--defaultdeps"
PERL_USE_UNSAFE_INC="1"
@INC:
/home/cpansand/.cpan/build/2020031620/as-0.09-1/blib/arch
/home/cpansand/.cpan/build/2020031620/as-0.09-1/blib/lib
/usr/perl5.30.2p/lib/site_perl/5.30.2/amd64-freebsd
/usr/perl5.30.2p/lib/site_perl/5.30.2
/usr/perl5.30.2p/lib/5.30.2/amd64-freebsd
/usr/perl5.30.2p/lib/5.30.2
.