MooseX-Method v0.44 Perl 5 v5.10.1 sun4-solaris-thread-multi
- Status
- Pass
- From
- David Cantrell (DCANTRELL)
- Dist
-
MooseX-Method v0.44
- Platform
- Perl 5 v5.10.1 sun4-solaris-thread-multi
- Date
- 2010-08-15 14:47:27
- ID
- 05cfe13e-a87c-11df-bae3-c8e8977fe13c
This distribution has been tested as part of the CPAN Testers
project, supporting the Perl programming language. See
http://wiki.cpantesters.org/ for more information or email
questions to cpan-testers-discuss@perl.org
--
Dear Cory G Watson,
This is a computer-generated report for MooseX-Method-0.44
on perl 5.10.1, created by CPAN-Reporter-1.1711.
Thank you for uploading your work to CPAN. Congratulations!
All tests were successful.
Sections of this report:
* Tester comments
* Program output
* Prerequisites
* Environment and other context
------------------------------
TESTER COMMENTS
------------------------------
Additional comments from tester:
this report is from an automated smoke testing program
and was not reviewed by a human for accuracy
------------------------------
PROGRAM OUTPUT
------------------------------
Output from '/usr/local/bin/make test':
PERL_DL_NONLAZY=1 /rpool/home/david/cpantesting/perl-5.10.1/bin/perl "-MExtUtils::Command::MM" "-e" "test_harness(0, 'inc', 'blib/lib', 'blib/arch')" t/000_basic.t t/004_constant.t t/100_parameter_moose.t t/150_parameter_moose_compiled.t t/200_signature_positional.t t/201_signature_named.t t/202_signature_combined.t t/250_signature_positional_compiled.t t/251_signature_named_compiled.t t/252_signature_combined_compiled.t t/300_method_signature.t t/301_method_signature_compiled.t t/400_method.t t/401_method_compiled.t t/402_method_role.t t/pod.t t/pod_coverage.t
t/000_basic.t .......................... ok
t/004_constant.t ....................... ok
t/100_parameter_moose.t ................ ok
t/150_parameter_moose_compiled.t ....... ok
t/200_signature_positional.t ........... ok
t/201_signature_named.t ................ ok
t/202_signature_combined.t ............. ok
t/250_signature_positional_compiled.t .. ok
t/251_signature_named_compiled.t ....... ok
t/252_signature_combined_compiled.t .... ok
t/300_method_signature.t ............... ok
t/301_method_signature_compiled.t ...... ok
t/400_method.t ......................... ok
t/401_method_compiled.t ................ ok
t/402_method_role.t .................... ok
t/pod.t ................................ ok
t/pod_coverage.t ....................... skipped: Test::Pod::Coverage 1.00 required for testing POD coverage
All tests successful.
Files=17, Tests=169, 38 wallclock secs ( 0.49 usr 0.22 sys + 32.99 cusr 5.14 csys = 38.84 CPU)
Result: PASS
------------------------------
PREREQUISITES
------------------------------
Prerequisite modules loaded:
requires:
Module Need Have
------------------- ---- -------
Carp 0 1.11
Class::MOP 0.37 1.04
ExtUtils::MakeMaker 6.42 6.55_02
HTML::Template::Pro 0.65 0.9502
Moose 0.22 1.09
Scalar::Util 1.14 1.21
Sub::Name 0.02 0.04
Test::Exception 0.21 0.29
Test::More 0.47 0.96
Test::Pod 1.26 1.44
configure_requires:
Module Need Have
------------------- ---- -------
ExtUtils::MakeMaker 6.42 6.55_02
------------------------------
ENVIRONMENT AND OTHER CONTEXT
------------------------------
Environment variables:
AUTOMATED_TESTING = 1
LD_LIBRARY_PATH = /usr/local/lib:/usr/lib:/usr/openwin/lib:/usr/ucblib:.
PATH = /rpool/home/david/cpantesting/bin:/usr/local/bin:/usr/bin:/sbin:/usr/sbin:/usr/openwin/bin:/usr/ccs/bin:/usr/ucb:/etc:.
PERL5LIB =
PERL5OPT =
PERL5_CPANPLUS_IS_RUNNING = 2026
PERL5_CPAN_IS_RUNNING = 2026
PERLVER = 5.10.1
SHELL = /bin/bash
TERM = screen
Perl special variables (and OS-specific diagnostics, for MSWin32):
$^X = /rpool/home/david/cpantesting/perl-5.10.1/bin/perl
$UID/$EUID = 10217 / 10217
$GID = 1 1
$EGID = 1 1
Perl module toolchain versions installed:
Module Have
------------------- -------
CPAN 1.9402
Cwd 3.31
ExtUtils::CBuilder 0.2703
ExtUtils::Command 1.16
ExtUtils::Install 1.54
ExtUtils::MakeMaker 6.55_02
ExtUtils::Manifest 1.56
ExtUtils::ParseXS 2.2206
File::Spec 3.31
Module::Build 0.3607
Module::Signature n/a
Test::Harness 3.17
Test::More 0.96
YAML 0.71
YAML::Syck n/a
version 0.77
--
Summary of my perl5 (revision 5 version 10 subversion 1) configuration:
Platform:
osname=solaris, osvers=2.10, archname=sun4-solaris-thread-multi
uname='sunos t1k.mrbill.net 5.10 generic_142900-06 sun4v sparc sunw,sun-fire-t1000 solaris '
config_args='-de -Dprefix=/usr/local/home/david/cpantesting/perl-5.10.1 -Dusethreads'
hint=recommended, useposix=true, d_sigaction=define
useithreads=define, usemultiplicity=define
useperlio=define, d_sfio=undef, uselargefiles=define, usesocks=undef
use64bitint=undef, use64bitall=undef, uselongdouble=undef
usemymalloc=n, bincompat5005=undef
Compiler:
cc='cc', ccflags ='-D_REENTRANT -fno-strict-aliasing -pipe -I/usr/local/include -D_LARGEFILE_SOURCE -D_FILE_OFFSET_BITS=64 -DPERL_USE_SAFE_PUTENV',
optimize='-O',
cppflags='-D_REENTRANT -fno-strict-aliasing -pipe -I/usr/local/include'
ccversion='', gccversion='3.4.3 (csl-sol210-3_4-branch+sol_rpath)', gccosandvers='solaris2.10'
intsize=4, longsize=4, ptrsize=4, doublesize=8, byteorder=4321
d_longlong=define, longlongsize=8, d_longdbl=define, longdblsize=16
ivtype='long', ivsize=4, nvtype='double', nvsize=8, Off_t='off_t', lseeksize=8
alignbytes=8, prototype=define
Linker and Libraries:
ld='cc', ldflags =' -L/usr/local/lib '
libpth=/usr/local/lib /usr/lib /usr/ccs/lib
libs=-lsocket -lnsl -ldl -lm -lpthread -lc
perllibs=-lsocket -lnsl -ldl -lm -lpthread -lc
libc=/lib/libc.so, so=so, useshrplib=false, libperl=libperl.a
gnulibc_version=''
Dynamic Linking:
dlsrc=dl_dlopen.xs, dlext=so, d_dlsymun=undef, ccdlflags=' '
cccdlflags='-fPIC', lddlflags='-G -L/usr/local/lib'
Characteristics of this binary (from libperl):
Compile-time options: MULTIPLICITY PERL_DONT_CREATE_GVSV
PERL_IMPLICIT_CONTEXT PERL_MALLOC_WRAP
PERL_USE_SAFE_PUTENV USE_ITHREADS USE_LARGE_FILES
USE_PERLIO USE_REENTRANT_API
Built under solaris
Compiled at Mar 25 2010 15:59:57
%ENV:
PERL5LIB=""
PERL5OPT=""
PERL5_CPANPLUS_IS_RUNNING="2026"
PERL5_CPAN_IS_RUNNING="2026"
PERLVER="5.10.1"
@INC:
/usr/local/home/david/cpantesting/perl-5.10.1/lib/5.10.1/sun4-solaris-thread-multi
/usr/local/home/david/cpantesting/perl-5.10.1/lib/5.10.1
/usr/local/home/david/cpantesting/perl-5.10.1/lib/site_perl/5.10.1/sun4-solaris-thread-multi
/usr/local/home/david/cpantesting/perl-5.10.1/lib/site_perl/5.10.1
.