Report for Debug-Client-0.29

Back
From: metabase:user:8286d1fc-3d52-11e2-9ec4-cb9cdd236785
Subject: PASS Debug-Client-0.29 v5.16.0 GNU/Linux
Date: 2014-05-10T08:28:11Z

This distribution has been tested as part of the CPAN Testers
project, supporting the Perl programming language.  See
http://wiki.cpantesters.org/ for more information or email
questions to cpan-testers-discuss@perl.org


--
Dear Kevin Dawson,

This is a computer-generated report for Debug-Client-0.29
on perl 5.16.0, created by CPAN-Reporter-1.2011.

Thank you for uploading your work to CPAN.  Congratulations!
All tests were successful.

Sections of this report:

    * Tester comments
    * Program output
    * Prerequisites
    * Environment and other context

------------------------------
TESTER COMMENTS
------------------------------

Additional comments from tester:

this report is from an automated smoke testing program
and was not reviewed by a human for accuracy

------------------------------
PROGRAM OUTPUT
------------------------------

Output from '/usr/local/bin/make test':

PERL_DL_NONLAZY=1 /opt/perl444-27-32-5.16.0/bin/perl "-MExtUtils::Command::MM" "-MTest::Harness" "-e" "undef *Test::Harness::Switches; test_harness(0, 'inc', 'blib/lib', 'blib/arch')" t/*.t
t/00-check-deps.t ..... ok
# Info: Testing Debug::Client 0.29
# Info: Perl v5.16.0
t/01-compile.t ........ ok
t/02-exports.t ........ ok
t/03-pod.t ............ skipped: Author tests, not required for installation.
t/04-pod-coverage.t ... skipped: Author tests, not required for installation.
# 
# Info: Perl v5.16.0
# Info: OS linux
# Info: Term::ReadLine::Gnu installed
# Info: Using ReadLine implementation -> Term::ReadLine::Gnu
# INFO: $ENV{TERM} -> xterm
t/06-term.t ........... ok
t/07-initialize.t ..... ok
t/08-io.t ............. ok
t/10-top_tail.t ....... ok
t/10-top_tail_old.t ... ok
t/11-add.t ............ ok
t/13-return.t ......... ok
t/14-run.t ............ ok
# Info: perl5db version 1.37
t/15-run_to_line.t .... ok
t/16-run_to_sub.t ..... ok
t/17-stepin.t ......... ok
t/18-stepout.t ........ ok
t/19-stepover.t ....... ok
t/20-get_value.t ...... ok
t/21-toggle_trace.t ... ok
t/22-subnames.t ....... ok
t/23-breakpoints.t .... ok
t/24-y_zero.t ......... ok
t/25-get_v_vars.t ..... ok
t/26-get_x_vars.t ..... ok
t/27-get_p_exp.t ...... ok
t/28-get_h_var.t ...... ok
# Info: ComamandSet = '580'
t/29-options.t ........ ok
t/40-test_1415-old.t .. ok
t/40-test_1415.t ...... ok
t/99-perldb.t ......... ok
# Prerequisite Report:
#    Version Module               
#   -------- ---------------------
#       1.32 Carp                 
#       5.70 Exporter             
#       6.98 ExtUtils::MakeMaker  
#       1.00 File::HomeDir        
#       3.40 File::Spec           
#       3.40 File::Spec::Functions
#     0.2304 File::Temp           
#       0.24 IO::Socket::IP       
#       1.38 List::Util           
#       1.98 PadWalker            
#       1.14 Term::ReadLine       
#       1.20 Term::ReadLine::Gnu  
#      0.010 Test::CheckDeps      
#       0.41 Test::Class          
#      0.110 Test::Deep           
#   1.001003 Test::More           
#       1.48 Test::Pod            
#       1.08 Test::Pod::Coverage  
#       0.07 Test::Requires       
#    missing Win32                
#    missing Win32::Process       
#       1.27 constant             
#      0.228 parent               
#     0.9908 version              
t/report-prereqs.t .... ok
All tests successful.
Files=32, Tests=181, 56 wallclock secs ( 0.37 usr  0.10 sys + 10.48 cusr  1.52 csys = 12.47 CPU)
Result: PASS

------------------------------
PREREQUISITES
------------------------------

Prerequisite modules loaded:

requires:

    Module                Need     Have    
    --------------------- -------- --------
    Carp                  1.20     1.32    
    constant              1.21     1.27    
    IO::Socket::IP        0.21     0.24    
    PadWalker             1.96     1.98    
    perl                  5.010001 5.016000
    Term::ReadLine        1.1      1.14    
    Term::ReadLine::Gnu   1.2      1.20    

build_requires:

    Module                Need     Have    
    --------------------- -------- --------
    Exporter              5.64     5.70    
    ExtUtils::MakeMaker   6.59     6.98    
    File::HomeDir         1        1.00    
    File::Spec            3.4      3.40    
    File::Temp            0.2301   0.2304  
    parent                0.225    0.228   
    Test::CheckDeps       0.006    0.010   
    Test::Class           0.39     0.41    
    Test::Deep            0.11     0.110   
    Test::More            0.98     1.001003
    Test::Requires        0.07     0.07    
    version               0.9902   0.9908  

configure_requires:

    Module                Need     Have    
    --------------------- -------- --------
    ExtUtils::MakeMaker   6.59     6.98    

opt_requires:

    Module                Need     Have    
    --------------------- -------- --------
    ExtUtils::MakeMaker   6.66     6.98    
    File::Spec::Functions 3.4      3.40    
    List::Util            1.27     1.38    
    Test::Pod             1.48     1.48    
    Test::Pod::Coverage   1.08     1.08    


------------------------------
ENVIRONMENT AND OTHER CONTEXT
------------------------------

Environment variables:

    AUTOMATED_TESTING = 1
    LANG = en_US.UTF-8
    LD_LIBRARY_PATH = /usr/local/lib
    NONINTERACTIVE_TESTING = 1
    PATH = /usr/lib/qt-3.3/bin:/usr/kerberos/sbin:/usr/kerberos/bin:/usr/lib/ccache:/usr/local/sbin:/usr/local/bin:/sbin:/bin:/usr/sbin:/usr/bin:/usr/lib/alliance/bin:/opt/real/RealPlayer:/root/bin:/usr/lib/alliance/bin:/opt/real/RealPlayer
    PERL5LIB = 
    PERL5OPT = 
    PERL5_CPANPLUS_IS_RUNNING = 7646
    PERL5_CPAN_IS_RUNNING = 7646
    PERL_MM_USE_DEFAULT = 1
    SHELL = /bin/bash
    TERM = xterm

Perl special variables (and OS-specific diagnostics, for MSWin32):

    $^X = /opt/perl444-27-32-5.16.0/bin/perl
    $UID/$EUID = 0 / 0
    $GID = 0 0 1 2 3 4 6 10
    $EGID = 0 0 1 2 3 4 6 10

Perl module toolchain versions installed:

    Module              Have    
    ------------------- --------
    CPAN                2.05    
    CPAN::Meta          2.132830
    Cwd                 3.40    
    ExtUtils::CBuilder  0.280216
    ExtUtils::Command   1.18    
    ExtUtils::Install   1.54    
    ExtUtils::MakeMaker 6.98    
    ExtUtils::Manifest  1.63    
    ExtUtils::ParseXS   3.22    
    File::Spec          3.40    
    JSON                2.90    
    JSON::PP            2.27203 
    Module::Build       0.4205  
    Module::Signature   0.73    
    Parse::CPAN::Meta   1.4414  
    Test::Harness       3.30    
    Test::More          1.001003
    YAML                0.90    
    YAML::Syck          1.27    
    version             0.9908  


--

Summary of my perl5 (revision 5 version 16 subversion 0) configuration:
   
  Platform:
    osname=linux, osvers=2.6.27-repin.1, archname=i686-linux-thread-multi-ld
    uname='linux localhost.localdomain 2.6.27-repin.1 #1 smp tue jan 25 20:07:21 msk 2011 i686 i686 i386 gnulinux '
    config_args='-Dcc=/opt/444/bin/gcc -Doptimize=-O3 -DDMALLOC=/usr/local/bin/dmalloc -Dprefix=/opt/perl444-27-32-5.16.0 -DDEBUGGING -Duseithreads'
    hint=recommended, useposix=true, d_sigaction=define
    useithreads=define, usemultiplicity=define
    useperlio=define, d_sfio=undef, uselargefiles=define, usesocks=undef
    use64bitint=undef, use64bitall=undef, uselongdouble=define
    usemymalloc=n, bincompat5005=undef
  Compiler:
    cc='/opt/444/bin/gcc', ccflags ='-DDMALLOC -D_LARGEFILE_SOURCE -D_FILE_OFFSET_BITS=64',
    optimize='-O3 -g',
    cppflags='-DDMALLOC'
    ccversion='', gccversion='4.4.4', gccosandvers=''
    intsize=4, longsize=4, ptrsize=4, doublesize=8, byteorder=1234
    d_longlong=define, longlongsize=8, d_longdbl=define, longdblsize=12
    ivtype='long', ivsize=4, nvtype='long double', nvsize=12, Off_t='off_t', lseeksize=8
    alignbytes=4, prototype=define
  Linker and Libraries:
    ld='/opt/444/bin/gcc', ldflags =' -L/usr/local/lib'
    libpth=/usr/local/lib /lib /usr/lib
    libs=-lnsl -lgdbm -ldb -ldl -lm -lcrypt -lutil -lpthread -lc
    perllibs=-lnsl -ldl -lm -lcrypt -lutil -lpthread -lc
    libc=/lib/libc-2.5.so, so=so, useshrplib=true, libperl=libperl.so
    gnulibc_version='2.5'
  Dynamic Linking:
    dlsrc=dl_dlopen.xs, dlext=so, d_dlsymun=undef, ccdlflags='-Wl,-E -Wl,-rpath,/opt/perl444-27-32-5.16.0/lib/5.16.0/i686-linux-thread-multi-ld/CORE'
    cccdlflags='-fPIC', lddlflags='-shared -O3 -g -L/usr/local/lib'


Characteristics of this binary (from libperl): 
  Compile-time options: HAS_TIMES MULTIPLICITY PERLIO_LAYERS
                        PERL_DONT_CREATE_GVSV PERL_IMPLICIT_CONTEXT PERL_MAD
                        PERL_MALLOC_WRAP PERL_PRESERVE_IVUV USE_FAST_STDIO
                        USE_ITHREADS USE_LARGE_FILES USE_LOCALE
                        USE_LOCALE_COLLATE USE_LOCALE_CTYPE
                        USE_LOCALE_NUMERIC USE_LONG_DOUBLE USE_PERLIO
                        USE_PERL_ATOF USE_REENTRANT_API
  Built under linux
  Compiled at Nov 13 2013 01:27:44
  %ENV:
    PERL5LIB=""
    PERL5OPT=""
    PERL5_CPANPLUS_IS_RUNNING="7646"
    PERL5_CPAN_IS_RUNNING="7646"
    PERL_MM_USE_DEFAULT="1"
  @INC:
    /opt/perl444-27-32-5.16.0/lib/site_perl/5.16.0/i686-linux-thread-multi-ld
    /opt/perl444-27-32-5.16.0/lib/site_perl/5.16.0
    /opt/perl444-27-32-5.16.0/lib/5.16.0/i686-linux-thread-multi-ld
    /opt/perl444-27-32-5.16.0/lib/5.16.0
    .