Report for CGI-Github-Webhook-0.03

Back
From: metabase:user:314402c4-2aae-11df-837a-5e0a49663a4f
Subject: PASS CGI-Github-Webhook-0.03 v5.24.0 FreeBSD
Date: 2016-05-31T12:13:02Z

This distribution has been tested as part of the CPAN Testers
project, supporting the Perl programming language.  See
http://wiki.cpantesters.org/ for more information or email
questions to cpan-testers-discuss@perl.org


--
Dear Axel Beckert,

This is a computer-generated report for CGI-Github-Webhook-0.03
on perl 5.24.0, created by CPAN-Reporter-1.2017.

Thank you for uploading your work to CPAN.  Congratulations!
All tests were successful.

Sections of this report:

    * Tester comments
    * Program output
    * Prerequisites
    * Environment and other context

------------------------------
TESTER COMMENTS
------------------------------

Additional comments from tester:

none provided

------------------------------
PROGRAM OUTPUT
------------------------------

Output from '/usr/bin/make test':

Skip blib/lib/auto/share/module/CGI-Github-Webhook/errored.svg (unchanged)
Skip blib/lib/auto/share/module/CGI-Github-Webhook/errored.png (unchanged)
Skip blib/lib/auto/share/module/CGI-Github-Webhook/success.png (unchanged)
Skip blib/lib/auto/share/module/CGI-Github-Webhook/success.svg (unchanged)
Skip blib/lib/auto/share/module/CGI-Github-Webhook/failed.svg (unchanged)
Skip blib/lib/auto/share/module/CGI-Github-Webhook/failed.png (unchanged)
PERL_DL_NONLAZY=1 "/usr/perl5.24.0p/bin/perl" "-MExtUtils::Command::MM" "-MTest::Harness" "-e" "undef *Test::Harness::Switches; test_harness(0, 'blib/lib', 'blib/arch')" t/*.t
t/author-critic.t ......... skipped: these tests are for testing by the author
t/basic-functionality.t ... ok
t/methods.t ............... ok
t/release-kwalitee.t ...... skipped: these tests are for release candidate testing
t/release-pod-coverage.t .. skipped: these tests are for release candidate testing
t/release-pod-syntax.t .... skipped: these tests are for release candidate testing
All tests successful.
Files=6, Tests=33,  0 wallclock secs ( 0.03 usr  0.00 sys +  0.49 cusr  0.09 csys =  0.62 CPU)
Result: PASS

------------------------------
PREREQUISITES
------------------------------

Prerequisite modules loaded:

requires:

    Module                  Need Have    
    ----------------------- ---- --------
    CGI                     0    4.28    
    Data::Dumper            0    2.160   
    Digest::SHA             0    5.95    
    File::Copy              0    2.31    
    File::ShareDir          0    1.102   
    JSON                    0    2.90    
    Moo                     0    2.001001
    strict                  0    1.11    
    Try::Tiny               0    0.24    
    warnings                0    1.36    

build_requires:

    Module                  Need Have    
    ----------------------- ---- --------
    ExtUtils::MakeMaker     0    7.18    
    File::Basename          0    2.85    
    File::Slurper           0    0.008   
    File::Temp              0    0.2304  
    Test::File              0    1.44    
    Test::File::ShareDir    0    1.001001
    Test::More              0    1.302022

configure_requires:

    Module                  Need Have    
    ----------------------- ---- --------
    ExtUtils::MakeMaker     0    7.18    
    File::ShareDir::Install 0.06 0.10    


------------------------------
ENVIRONMENT AND OTHER CONTEXT
------------------------------

Environment variables:

    LC_ALL = de_DE.UTF-8
    PATH = /usr/local/bin:/usr/bin:/bin:/usr/local/sbin:/usr/sbin:/sbin:/home/eserte/bin/freebsd10.1:/home/eserte/bin/sh:/home/eserte/bin:/home/eserte/bin/pistachio-perl/bin:/usr/games:/home/eserte/devel:/usr/home/eserte/src/srezic-misc/scripts
    PERL5LIB = 
    PERL5OPT = 
    PERL5_CPANPLUS_IS_RUNNING = 30590
    PERL5_CPAN_IS_RUNNING = 30590
    PERL5_CPAN_IS_RUNNING_IN_RECURSION = 97930,30590
    PERLDOC = -MPod::Perldoc::ToTextOverstrike
    PERL_BATCH = yes
    PERL_CANARY_STABILITY_NOPROMPT = 1
    PERL_CPAN_REPORTER_CONFIG = /var/tmp/cpansmoker-1002/2016053103/cpanreporter_001_config.ini
    PERL_EXTUTILS_AUTOINSTALL = --defaultdeps
    PERL_PARALLEL_SMOKER = yes
    SHELL = /usr/local/bin/zsh
    TERM = screen
    TMPDIR = /var/tmp/cpansmoker-1002/2016053103

Perl special variables (and OS-specific diagnostics, for MSWin32):

    $^X = /usr/perl5.24.0p/bin/perl
    $UID/$EUID = 1002 / 1002
    $GID = 1002 1002
    $EGID = 1002 1002

Perl module toolchain versions installed:

    Module              Have    
    ------------------- --------
    CPAN                2.11    
    CPAN::Meta          2.150005
    Cwd                 3.62    
    ExtUtils::CBuilder  0.280225
    ExtUtils::Command   7.18    
    ExtUtils::Install   2.04    
    ExtUtils::MakeMaker 7.18    
    ExtUtils::Manifest  1.70    
    ExtUtils::ParseXS   3.31    
    File::Spec          3.62    
    JSON                2.90    
    JSON::PP            2.27300 
    Module::Build       0.4218  
    Module::Signature   0.79    
    Parse::CPAN::Meta   1.4417  
    Test::Harness       3.36    
    Test::More          1.302022
    YAML                1.15    
    YAML::Syck          1.29    
    version             0.9916  


--

Summary of my perl5 (revision 5 version 24 subversion 0) configuration:
   
  Platform:
    osname=freebsd, osvers=10.3-release, archname=amd64-freebsd
    uname='freebsd freebsd103 10.3-release freebsd 10.3-release #0 r297264: fri mar 25 02:10:02 utc 2016 root@releng1.nyi.freebsd.org:usrobjusrsrcsysgeneric amd64 '
    config_args='-ds -e -Dprefix=/usr/perl5.24.0p -Dcf_email=srezic@cpan.org -Doptimize=-O2 -pipe'
    hint=recommended, useposix=true, d_sigaction=define
    useithreads=undef, usemultiplicity=undef
    use64bitint=define, use64bitall=define, uselongdouble=undef
    usemymalloc=n, bincompat5005=undef
  Compiler:
    cc='cc', ccflags ='-DHAS_FPSETMASK -DHAS_FLOATINGPOINT_H -fno-strict-aliasing -pipe -fstack-protector -I/usr/local/include -D_FORTIFY_SOURCE=2',
    optimize='-O2 -pipe',
    cppflags='-DHAS_FPSETMASK -DHAS_FLOATINGPOINT_H -fno-strict-aliasing -pipe -fstack-protector -I/usr/local/include'
    ccversion='', gccversion='4.2.1 Compatible FreeBSD Clang 3.4.1 (tags/RELEASE_34/dot1-final 208032)', gccosandvers=''
    intsize=4, longsize=8, ptrsize=8, doublesize=8, byteorder=12345678, doublekind=3
    d_longlong=define, longlongsize=8, d_longdbl=define, longdblsize=16, longdblkind=3
    ivtype='long', ivsize=8, nvtype='double', nvsize=8, Off_t='off_t', lseeksize=8
    alignbytes=8, prototype=define
  Linker and Libraries:
    ld='cc', ldflags ='-pthread -Wl,-E  -fstack-protector -L/usr/local/lib'
    libpth=/usr/lib /usr/local/lib /usr/include/clang/3.4.1 /usr/lib
    libs=-lpthread -lm -lcrypt -lutil -lc
    perllibs=-lpthread -lm -lcrypt -lutil -lc
    libc=, so=so, useshrplib=false, libperl=libperl.a
    gnulibc_version=''
  Dynamic Linking:
    dlsrc=dl_dlopen.xs, dlext=so, d_dlsymun=undef, ccdlflags=' '
    cccdlflags='-DPIC -fPIC', lddlflags='-shared  -L/usr/local/lib -fstack-protector'


Characteristics of this binary (from libperl): 
  Compile-time options: HAS_TIMES PERLIO_LAYERS PERL_COPY_ON_WRITE
                        PERL_DONT_CREATE_GVSV
                        PERL_HASH_FUNC_ONE_AT_A_TIME_HARD PERL_MALLOC_WRAP
                        PERL_PRESERVE_IVUV USE_64_BIT_ALL USE_64_BIT_INT
                        USE_LARGE_FILES USE_LOCALE USE_LOCALE_COLLATE
                        USE_LOCALE_CTYPE USE_LOCALE_NUMERIC USE_LOCALE_TIME
                        USE_PERLIO USE_PERL_ATOF
  Built under freebsd
  Compiled at May 30 2016 20:13:31
  %ENV:
    PERL5LIB=""
    PERL5OPT=""
    PERL5_CPANPLUS_IS_RUNNING="30590"
    PERL5_CPAN_IS_RUNNING="30590"
    PERL5_CPAN_IS_RUNNING_IN_RECURSION="97930,30590"
    PERLDOC="-MPod::Perldoc::ToTextOverstrike"
    PERL_BATCH="yes"
    PERL_CANARY_STABILITY_NOPROMPT="1"
    PERL_CPAN_REPORTER_CONFIG="/var/tmp/cpansmoker-1002/2016053103/cpanreporter_001_config.ini"
    PERL_EXTUTILS_AUTOINSTALL="--defaultdeps"
    PERL_PARALLEL_SMOKER="yes"
  @INC:
    /usr/perl5.24.0p/lib/site_perl/5.24.0/amd64-freebsd
    /usr/perl5.24.0p/lib/site_perl/5.24.0
    /usr/perl5.24.0p/lib/5.24.0/amd64-freebsd
    /usr/perl5.24.0p/lib/5.24.0
    .