Report for Astro-Catalog-4.29

Back
From: metabase:user:30ae4450-2aae-11df-837a-5e0a49663a4f
Subject: PASS Astro-Catalog-4.29 v5.12.3 
Date: 2013-12-01T13:34:35Z

This distribution has been tested as part of the CPAN Testers
project, supporting the Perl programming language.  See
http://wiki.cpantesters.org/ for more information or email
questions to cpan-testers-discuss@perl.org


--
Dear Graham Bell,

This is a computer-generated report for Astro-Catalog-4.29
on perl 5.12.3, created by CPAN-Reporter-1.2010_01.

Thank you for uploading your work to CPAN.  Congratulations!
All tests were successful.

Sections of this report:

    * Tester comments
    * Program output
    * Prerequisites
    * Environment and other context

------------------------------
TESTER COMMENTS
------------------------------

Additional comments from tester:

this report is from an automated smoke testing program
and was not reviewed by a human for accuracy

------------------------------
PROGRAM OUTPUT
------------------------------

Output from 'C:\strawberry\perl\bin\perl.exe ./Build test':

# Astro::Catalog::IO::FITSTable can not locate Astro/FITS/CFITSIO.pm
# Astro::Catalog::IO::LCOGTFITSTable can not locate Astro/FITS/CFITSIO.pm
# Astro::Catalog::IO::VOTable can not locate Astro/VO/VOTable/Document.pm
t\1_compile.t ..... ok
t\2_astrom.t ...... ok
t\2_cluster.t ..... ok
t\2_findoff.t ..... ok
t\2_fitstable.t ... skipped: Tests require Astro::FITS::CFITSIO
t\2_gaiapick.t .... ok
t\2_jcmt.t ........ ok
t\2_jcmt_loose.t .. ok
t\2_northstar.t ... ok
t\2_ritmatch.t .... ok
t\2_sextractor.t .. ok
t\2_simple.t ...... ok
t\2_stl.t ......... ok
t\2_tst.t ......... ok
t\2_ukirtbs.t ..... ok
t\2_votable.t ..... skipped: Astro::VO::VOTable not installed
t\2_xy.t .......... ok
t\3_catalog.t ..... ok
t\3_item.t ........ ok
t\3_morphology.t .. ok
t\3_star.t ........ ok
t\4_cmc.t ......... ok
Unable to find plausible coordinate in string '------ ------ ------' at C:\strawberry\cpan\build\Astro-Coords-0.18-P_uZv9\blib\lib/Astro/Coords/Equatorial.pm line 141.
Unable to find plausible coordinate in string '------ ----- ----' at C:\strawberry\cpan\build\Astro-Coords-0.18-P_uZv9\blib\lib/Astro/Coords/Equatorial.pm line 143.
# Cannot connect to ESO GSC: Coordinates must be an Astro::Coords object at C:\strawberry\cpan\build\Astro-Catalog-4.29-GR2P3c\blib\lib/Astro/Catalog/Query/GSC.pm line 228.
t\4_gsc.t ......... ok
# Error 404: Failed to establish network connection using url http://scully.harvard.edu/~cgi/MPCheck.COM?radius=300&which=pos&month=3&tmot=s&needed=f&sort=d&TextArea=&mot=h&decl=-14+02+00&ra=07+13+42&day=1.87&type=p&limit=20&ps=n&oc=500&year=2004 at t\4_mpc.t line 104.
t\4_mpc.t ......... ok
t\4_sesame.t ...... ok
Use of uninitialized value $_[0] in string eq at C:/strawberry/perl/lib/File/Spec/Win32.pm line 134, <DATA> line 9.
# Cannot connect to ESO GSC: Error 404: Failed to establish network connection using url http://archive.eso.org/skycat/servers/gsc-server?01:10:12.9+60:04:35.9&r=0,5&&n=20000&f=8&s=R&F=* at t\4_skycat_gsc.t line 133.
t\4_skycat_gsc.t .. ok
# Cannot connect to USNO-A2: Error 404: Failed to establish network connection using url http://archive.eso.org/skycat/servers/usnoa_res?object=HT Cas&magfaint=100&nout=2000&magbright=0&radmax=1&sort=ra&format=1 at t\4_usnoa2.t line 174.
t\4_usnoa2.t ...... ok
All tests successful.
Files=27, Tests=2974, 34 wallclock secs ( 0.16 usr +  0.26 sys =  0.42 CPU)
Result: PASS

------------------------------
PREREQUISITES
------------------------------

Prerequisite modules loaded:

requires:

    Module                    Need Have  
    ------------------------- ---- ------
    Astro::Coords             0.12 0.14  
    Astro::Flux               0.01 0.01  
    Astro::Telescope          0.5  0.71  
    Carp                      1.01 1.26  
    Class::Struct             0.63 0.63  
    Data::Dumper              2.12 2.128 
    DateTime                  0    0.78  
    DateTime::Format::ISO8601 0    0.08  
    File::Spec                0.84 3.40  
    File::Temp                0.14 0.22  
    LWP                       5.53 6.04  
    Misc::Quality             0.01 0.01  
    Net::Domain               2.13 2.20  
    Number::Uncertainty       0.01 1.4   
    Pod::Usage                1.14 1.36  
    Scalar::Util              1.14 1.27  
    SOAP::Lite                0    0.715 
    Time::Piece               1.08 1.20  

build_requires:

    Module                    Need Have  
    ------------------------- ---- ------
    Test::More                0    0.98  

configure_requires:

    Module                    Need Have  
    ------------------------- ---- ------
    Module::Build             0.3  0.4003


------------------------------
ENVIRONMENT AND OTHER CONTEXT
------------------------------

Environment variables:

    AUTOMATED_TESTING = 1
    COMSPEC = C:\WINDOWS\system32\cmd.exe
    NUMBER_OF_PROCESSORS = 1
    PATH = C:\Program Files\Far Manager\;C:\WINDOWS\system32;C:\WINDOWS;C:\WINDOWS\System32\Wbem;C:\strawberry\c\bin;C:\strawberry\perl\site\bin;C:\strawberry\perl\bin
    PERL5LIB = C:\strawberry\cpan\build\Astro-Flux-0.01-efb82z/blib/arch;C:\strawberry\cpan\build\Astro-Flux-0.01-efb82z/blib/lib;C:\strawberry\cpan\build\Astro-WaveBand-0.08-PkiwK8/blib/arch;C:\strawberry\cpan\build\Astro-WaveBand-0.08-PkiwK8/blib/lib;C:\strawberry\cpan\build\Number-Uncertainty-0.1-Yq5RbP/blib/arch;C:\strawberry\cpan\build\Number-Uncertainty-0.1-Yq5RbP/blib/lib;C:\strawberry\cpan\build\DateTime-Format-ISO8601-0.08-E2TA8J/blib/arch;C:\strawberry\cpan\build\DateTime-Format-ISO8601-0.08-E2TA8J/blib/lib;C:\strawberry\cpan\build\Misc-Quality-0.1-Unkgyk/blib/arch;C:\strawberry\cpan\build\Misc-Quality-0.1-Unkgyk/blib/lib;C:\strawberry\cpan\build\Astro-Coords-0.18-P_uZv9/blib/arch;C:\strawberry\cpan\build\Astro-Coords-0.18-P_uZv9/blib/lib;C:\strawberry\cpan\build\Astro-Telescope-0.71-1Nu9SN/blib/arch;C:\strawberry\cpan\build\Astro-Telescope-0.71-1Nu9SN/blib/lib;C:\strawberry\cpan\build\Astro-PAL-1.05-QWil3f/blib/arch;C:\strawberry\cpan\build\Astro-PAL-1.05-QWil3f/blib/lib
    PERL5OPT = 
    PERL5_CPANPLUS_IS_RUNNING = 392
    PERL5_CPAN_IS_RUNNING = 392
    PERL5_CPAN_IS_RUNNING_IN_RECURSION = 1436,392
    PERL_CR_SMOKER_CURRENT = App-SourcePlot-1.21
    PERL_EXTUTILS_AUTOINSTALL = --defaultdeps
    PERL_JSON_BACKEND = JSON::XS
    PERL_MM_USE_DEFAULT = 1
    PERL_YAML_BACKEND = YAML
    PROCESSOR_IDENTIFIER = x86 Family 16 Model 5 Stepping 3, AuthenticAMD
    TEMP = C:\DOCUME~1\c\LOCALS~1\Temp
    TERM = dumb

Perl special variables (and OS-specific diagnostics, for MSWin32):

    $^X = C:\strawberry\perl\bin\perl.exe
    $UID/$EUID = 0 / 0
    $GID = 0
    $EGID = 0
    Win32::GetOSName = WinXP/.Net
    Win32::GetOSVersion = Service Pack 3, 5, 1, 2600, 2, 3, 0, 256, 1
    Win32::FsType = NTFS
    Win32::IsAdminUser = 1

Perl module toolchain versions installed:

    Module              Have    
    ------------------- --------
    CPAN                1.9800  
    CPAN::Meta          2.120921
    Cwd                 3.40    
    ExtUtils::CBuilder  0.280202
    ExtUtils::Command   1.17    
    ExtUtils::Install   1.55    
    ExtUtils::MakeMaker 6.64    
    ExtUtils::Manifest  1.60    
    ExtUtils::ParseXS   3.18    
    File::Spec          3.40    
    JSON                2.59    
    JSON::PP            2.27200 
    Module::Build       0.4003  
    Module::Signature   0.66    
    Parse::CPAN::Meta   1.4404  
    Test::Harness       3.28    
    Test::More          0.98    
    YAML                0.84    
    YAML::Syck          1.22    
    version             0.9901  


--

Summary of my perl5 (revision 5 version 12 subversion 3) configuration:
   
  Platform:
    osname=MSWin32, osvers=5.1, archname=MSWin32-x86-multi-thread
    uname='Win32 strawberryperl 5.12.3.0 #1 Sun May 15 09:44:53 2011 i386'
    config_args='undef'
    hint=recommended, useposix=true, d_sigaction=undef
    useithreads=define, usemultiplicity=define
    useperlio=define, d_sfio=undef, uselargefiles=define, usesocks=undef
    use64bitint=undef, use64bitall=undef, uselongdouble=undef
    usemymalloc=n, bincompat5005=undef
  Compiler:
    cc='gcc', ccflags =' -s -O2 -DWIN32 -DHAVE_DES_FCRYPT  -DUSE_SITECUSTOMIZE -DPERL_IMPLICIT_CONTEXT -DPERL_IMPLICIT_SYS -fno-strict-aliasing -mms-bitfields -DPERL_MSVCRT_READFIX',
    optimize='-s -O2',
    cppflags='-DWIN32'
    ccversion='', gccversion='4.4.3', gccosandvers=''
    intsize=4, longsize=4, ptrsize=4, doublesize=8, byteorder=1234
    d_longlong=undef, longlongsize=8, d_longdbl=define, longdblsize=12
    ivtype='long', ivsize=4, nvtype='double', nvsize=8, Off_t='long long', lseeksize=8
    alignbytes=8, prototype=define
  Linker and Libraries:
    ld='g++', ldflags ='-s -L"C:\strawberry\perl\lib\CORE" -L"C:\strawberry\c\lib"'
    libpth=C:\strawberry\c\lib C:\strawberry\c\i686-w64-mingw32\lib
    libs=-lmoldname -lkernel32 -luser32 -lgdi32 -lwinspool -lcomdlg32 -ladvapi32 -lshell32 -lole32 -loleaut32 -lnetapi32 -luuid -lws2_32 -lmpr -lwinmm -lversion -lodbc32 -lodbccp32 -lcomctl32
    perllibs=-lmoldname -lkernel32 -luser32 -lgdi32 -lwinspool -lcomdlg32 -ladvapi32 -lshell32 -lole32 -loleaut32 -lnetapi32 -luuid -lws2_32 -lmpr -lwinmm -lversion -lodbc32 -lodbccp32 -lcomctl32
    libc=, so=dll, useshrplib=true, libperl=libperl512.a
    gnulibc_version=''
  Dynamic Linking:
    dlsrc=dl_win32.xs, dlext=dll, d_dlsymun=undef, ccdlflags=' '
    cccdlflags=' ', lddlflags='-mdll -s -L"C:\strawberry\perl\lib\CORE" -L"C:\strawberry\c\lib"'


Characteristics of this binary (from libperl): 
  Compile-time options: MULTIPLICITY PERL_DONT_CREATE_GVSV
                        PERL_IMPLICIT_CONTEXT PERL_IMPLICIT_SYS
                        PERL_MALLOC_WRAP PL_OP_SLAB_ALLOC USE_ITHREADS
                        USE_LARGE_FILES USE_PERLIO USE_PERL_ATOF
                        USE_SITECUSTOMIZE
  Built under MSWin32
  Compiled at May 15 2011 17:02:01
  %ENV:
    PERL5LIB="C:\strawberry\cpan\build\Astro-Flux-0.01-efb82z/blib/arch;C:\strawberry\cpan\build\Astro-Flux-0.01-efb82z/blib/lib;C:\strawberry\cpan\build\Astro-WaveBand-0.08-PkiwK8/blib/arch;C:\strawberry\cpan\build\Astro-WaveBand-0.08-PkiwK8/blib/lib;C:\strawberry\cpan\build\Number-Uncertainty-0.1-Yq5RbP/blib/arch;C:\strawberry\cpan\build\Number-Uncertainty-0.1-Yq5RbP/blib/lib;C:\strawberry\cpan\build\DateTime-Format-ISO8601-0.08-E2TA8J/blib/arch;C:\strawberry\cpan\build\DateTime-Format-ISO8601-0.08-E2TA8J/blib/lib;C:\strawberry\cpan\build\Misc-Quality-0.1-Unkgyk/blib/arch;C:\strawberry\cpan\build\Misc-Quality-0.1-Unkgyk/blib/lib;C:\strawberry\cpan\build\Astro-Coords-0.18-P_uZv9/blib/arch;C:\strawberry\cpan\build\Astro-Coords-0.18-P_uZv9/blib/lib;C:\strawberry\cpan\build\Astro-Telescope-0.71-1Nu9SN/blib/arch;C:\strawberry\cpan\build\Astro-Telescope-0.71-1Nu9SN/blib/lib;C:\strawberry\cpan\build\Astro-PAL-1.05-QWil3f/blib/arch;C:\strawberry\cpan\build\Astro-PAL-1.05-QWil3f/blib/lib"
    PERL5_CPANPLUS_IS_RUNNING="392"
    PERL5_CPAN_IS_RUNNING="392"
    PERL5_CPAN_IS_RUNNING_IN_RECURSION="1436,392"
    PERL_CR_SMOKER_CURRENT="App-SourcePlot-1.21"
    PERL_EXTUTILS_AUTOINSTALL="--defaultdeps"
    PERL_JSON_BACKEND="JSON::XS"
    PERL_MM_USE_DEFAULT="1"
    PERL_YAML_BACKEND="YAML"
  @INC:
    C:\strawberry\cpan\build\Astro-Flux-0.01-efb82z/blib/arch
    C:\strawberry\cpan\build\Astro-Flux-0.01-efb82z/blib/lib
    C:\strawberry\cpan\build\Astro-WaveBand-0.08-PkiwK8/blib/arch
    C:\strawberry\cpan\build\Astro-WaveBand-0.08-PkiwK8/blib/lib
    C:\strawberry\cpan\build\Number-Uncertainty-0.1-Yq5RbP/blib/arch
    C:\strawberry\cpan\build\Number-Uncertainty-0.1-Yq5RbP/blib/lib
    C:\strawberry\cpan\build\DateTime-Format-ISO8601-0.08-E2TA8J/blib/arch
    C:\strawberry\cpan\build\DateTime-Format-ISO8601-0.08-E2TA8J/blib/lib
    C:\strawberry\cpan\build\Misc-Quality-0.1-Unkgyk/blib/arch
    C:\strawberry\cpan\build\Misc-Quality-0.1-Unkgyk/blib/lib
    C:\strawberry\cpan\build\Astro-Coords-0.18-P_uZv9/blib/arch
    C:\strawberry\cpan\build\Astro-Coords-0.18-P_uZv9/blib/lib
    C:\strawberry\cpan\build\Astro-Telescope-0.71-1Nu9SN/blib/arch
    C:\strawberry\cpan\build\Astro-Telescope-0.71-1Nu9SN/blib/lib
    C:\strawberry\cpan\build\Astro-PAL-1.05-QWil3f/blib/arch
    C:\strawberry\cpan\build\Astro-PAL-1.05-QWil3f/blib/lib
    C:/strawberry/perl/site/lib
    C:/strawberry/perl/vendor/lib
    C:/strawberry/perl/lib
    .