Report for Git-PurePerl-Walker-0.004001

Back
From: metabase:user:314402c4-2aae-11df-837a-5e0a49663a4f
Subject: PASS Git-PurePerl-Walker-0.004001 v5.22.3 FreeBSD
Date: 2017-03-09T16:39:54Z

This distribution has been tested as part of the CPAN Testers
project, supporting the Perl programming language.  See
http://wiki.cpantesters.org/ for more information or email
questions to cpan-testers-discuss@perl.org


--
Dear Kent Fredric,

This is a computer-generated report for Git-PurePerl-Walker-0.004001
on perl 5.22.3, created by CPAN-Reporter-1.2018.

Thank you for uploading your work to CPAN.  Congratulations!
All tests were successful.

Sections of this report:

    * Tester comments
    * Program output
    * Prerequisites
    * Environment and other context

------------------------------
TESTER COMMENTS
------------------------------

Additional comments from tester:

none provided

------------------------------
PROGRAM OUTPUT
------------------------------

Output from '/usr/bin/make test':

PERL_DL_NONLAZY=1 "/usr/perl5.22.3p/bin/perl5.22.3" "-MExtUtils::Command::MM" "-MTest::Harness" "-e" "undef *Test::Harness::Switches; test_harness(0, 'blib/lib', 'blib/arch')" t/*.t t/00-compile/*.t
t/00-compile/lib_Git_PurePerl_Walker_Method_FirstParent_FromHEAD_pm.t .. ok
t/00-compile/lib_Git_PurePerl_Walker_Method_FirstParent_pm.t ........... ok
t/00-compile/lib_Git_PurePerl_Walker_OnCommit_CallBack_pm.t ............ ok
t/00-compile/lib_Git_PurePerl_Walker_OnCommit_List_pm.t ................ ok
t/00-compile/lib_Git_PurePerl_Walker_pm.t .............................. ok
t/00-compile/lib_Git_PurePerl_Walker_Role_HasRepo_pm.t ................. ok
t/00-compile/lib_Git_PurePerl_Walker_Role_Method_pm.t .................. ok
t/00-compile/lib_Git_PurePerl_Walker_Role_OnCommit_pm.t ................ ok
t/00-compile/lib_Git_PurePerl_Walker_Types_pm.t ........................ ok
# 
# Versions for all modules listed in MYMETA.json (including optional ones):
# 
# === Configure Requires ===
# 
#     Module              Want Have
#     ------------------- ---- ----
#     ExtUtils::MakeMaker  any 7.24
# 
# === Configure Recommends ===
# 
#     Module              Want Have
#     ------------------- ---- ----
#     ExtUtils::MakeMaker 7.00 7.24
# 
# === Build Requires ===
# 
#     Module              Want Have
#     ------------------- ---- ----
#     ExtUtils::MakeMaker  any 7.24
# 
# === Test Requires ===
# 
#     Module              Want     Have
#     ------------------- ---- --------
#     Archive::Tar         any     2.24
#     ExtUtils::MakeMaker  any     7.24
#     File::Spec           any     3.62
#     File::Temp           any   0.2304
#     File::pushd          any    1.014
#     FindBin              any     1.51
#     Package::Stash       any     0.37
#     Scalar::Util         any     1.47
#     Test::More           any 1.302075
#     lib                  any     0.63
# 
# === Test Recommends ===
# 
#     Module                  Want     Have
#     ------------------- -------- --------
#     CPAN::Meta          2.120900 2.150010
#     ExtUtils::MakeMaker     7.00     7.24
#     Test::More              0.99 1.302075
# 
# === Runtime Requires ===
# 
#     Module               Want   Have
#     -------------------- ---- ------
#     Carp                  any   1.38
#     Git::PurePerl         any   0.53
#     Module::Runtime       any  0.014
#     Moose                 any 2.2000
#     Moose::Role           any 2.2000
#     MooseX::Clone         any   0.06
#     MooseX::Types         any   0.50
#     MooseX::Types::Moose  any   0.50
#     Path::Tiny            any  0.104
#     namespace::autoclean  any   0.28
#     strict                any   1.09
#     warnings              any   1.34
# 
# === Runtime Recommends ===
# 
#     Module      Want   Have
#     ---------- ----- ------
#     Moose      2.000 2.2000
#     Path::Tiny 0.058  0.104
# 
t/00-report-prereqs.t .................................................. ok
t/01_test.t ............................................................ ok
t/0200_firstparent.t ................................................... ok
t/0201_firstparent_fromhead.t .......................................... ok
t/03_callback.t ........................................................ ok
t/04_list.t ............................................................ ok
All tests successful.
Files=15, Tests=36,  6 wallclock secs ( 0.01 usr  0.11 sys +  1.38 cusr  4.12 csys =  5.62 CPU)
Result: PASS

------------------------------
PREREQUISITES
------------------------------

Prerequisite modules loaded:

requires:

    Module               Need  Have    
    -------------------- ----- --------
    Carp                 0     1.38    
    Git::PurePerl        0     0.53    
    Module::Runtime      0     0.014   
    Moose                0     2.2000  
    Moose::Role          0     2.2000  
    MooseX::Clone        0     0.06    
    MooseX::Types        0     0.50    
    MooseX::Types::Moose 0     0.50    
    namespace::autoclean 0     0.28    
    Path::Tiny           0     0.104   
    perl                 5.006 5.022003
    strict               0     1.09    
    warnings             0     1.34    

build_requires:

    Module               Need  Have    
    -------------------- ----- --------
    Archive::Tar         0     2.24    
    ExtUtils::MakeMaker  0     7.24    
    File::pushd          0     1.014   
    File::Spec           0     3.62    
    File::Temp           0     0.2304  
    FindBin              0     1.51    
    lib                  0     0.63    
    Package::Stash       0     0.37    
    Scalar::Util         0     1.47    
    Test::More           0     1.302075

configure_requires:

    Module               Need  Have    
    -------------------- ----- --------
    ExtUtils::MakeMaker  0     7.24    
    perl                 5.006 5.022003


------------------------------
ENVIRONMENT AND OTHER CONTEXT
------------------------------

Environment variables:

    LC_ALL = de_DE.ISO8859-1
    PATH = /usr/local/bin:/usr/bin:/bin:/usr/local/sbin:/usr/sbin:/sbin:/home/cpansand/bin/freebsd10.3:/home/cpansand/bin/sh:/home/cpansand/bin:/usr/games:/home/cpansand/devel:/home/eserte/src/srezic-misc/scripts
    PERL5LIB = 
    PERL5OPT = 
    PERL5_CPANPLUS_IS_RUNNING = 48022
    PERL5_CPAN_IS_RUNNING = 48022
    PERL5_CPAN_IS_RUNNING_IN_RECURSION = 47987,48022
    PERLDOC = -MPod::Perldoc::ToTextOverstrike
    PERL_BATCH = yes
    PERL_CANARY_STABILITY_NOPROMPT = 1
    PERL_CPAN_REPORTER_CONFIG = /var/tmp/cpansmoker-1023/2017030915/cpanreporter_000_config.ini
    PERL_EXTUTILS_AUTOINSTALL = --defaultdeps
    SHELL = /usr/local/bin/zsh
    TERM = screen
    TMPDIR = /var/tmp/cpansmoker-1023/2017030915

Perl special variables (and OS-specific diagnostics, for MSWin32):

    $^X = /usr/perl5.22.3p/bin/perl5.22.3
    $UID/$EUID = 1023 / 1023
    $GID = 1023 1023
    $EGID = 1023 1023

Perl module toolchain versions installed:

    Module              Have    
    ------------------- --------
    CPAN                2.16    
    CPAN::Meta          2.150010
    Cwd                 3.62    
    ExtUtils::CBuilder  0.280221
    ExtUtils::Command   7.24    
    ExtUtils::Install   2.04    
    ExtUtils::MakeMaker 7.24    
    ExtUtils::Manifest  1.70    
    ExtUtils::ParseXS   3.28    
    File::Spec          3.62    
    JSON                2.90    
    JSON::PP            2.27400 
    Module::Build       0.4220  
    Module::Signature   n/a     
    Parse::CPAN::Meta   2.150010
    Test::Harness       3.35_01 
    Test::More          1.302075
    YAML                1.23    
    YAML::Syck          1.29    
    version             0.9917  


--

Summary of my perl5 (revision 5 version 22 subversion 3) configuration:
   
  Platform:
    osname=freebsd, osvers=10.1-release, archname=amd64-freebsd
    uname='freebsd cvrsnica-freebsd-101.herceg.de 10.1-release freebsd 10.1-release #0 r274401: tue nov 11 21:02:49 utc 2014 root@releng1.nyi.freebsd.org:usrobjusrsrcsysgeneric amd64 '
    config_args='-ds -e -Dprefix=/usr/perl5.22.3p -Dcf_email=srezic@cpan.org -Doptimize=-O2 -pipe'
    hint=recommended, useposix=true, d_sigaction=define
    useithreads=undef, usemultiplicity=undef
    use64bitint=define, use64bitall=define, uselongdouble=undef
    usemymalloc=n, bincompat5005=undef
  Compiler:
    cc='cc', ccflags ='-DHAS_FPSETMASK -DHAS_FLOATINGPOINT_H -fno-strict-aliasing -pipe -fstack-protector -I/usr/local/include -D_FORTIFY_SOURCE=2',
    optimize='-O2 -pipe',
    cppflags='-DHAS_FPSETMASK -DHAS_FLOATINGPOINT_H -fno-strict-aliasing -pipe -fstack-protector -I/usr/local/include'
    ccversion='', gccversion='4.2.1 Compatible FreeBSD Clang 3.4.1 (tags/RELEASE_34/dot1-final 208032)', gccosandvers=''
    intsize=4, longsize=8, ptrsize=8, doublesize=8, byteorder=12345678, doublekind=3
    d_longlong=define, longlongsize=8, d_longdbl=define, longdblsize=16, longdblkind=3
    ivtype='long', ivsize=8, nvtype='double', nvsize=8, Off_t='off_t', lseeksize=8
    alignbytes=8, prototype=define
  Linker and Libraries:
    ld='cc', ldflags ='-pthread -Wl,-E  -fstack-protector -L/usr/local/lib'
    libpth=/usr/lib /usr/local/lib /usr/include/clang/3.4.1 /usr/lib
    libs=-lpthread -lgdbm -lm -lcrypt -lutil -lc
    perllibs=-lpthread -lm -lcrypt -lutil -lc
    libc=, so=so, useshrplib=false, libperl=libperl.a
    gnulibc_version=''
  Dynamic Linking:
    dlsrc=dl_dlopen.xs, dlext=so, d_dlsymun=undef, ccdlflags=' '
    cccdlflags='-DPIC -fPIC', lddlflags='-shared  -L/usr/local/lib -fstack-protector'


Characteristics of this binary (from libperl): 
  Compile-time options: HAS_TIMES PERLIO_LAYERS PERL_DONT_CREATE_GVSV
                        PERL_HASH_FUNC_ONE_AT_A_TIME_HARD PERL_MALLOC_WRAP
                        PERL_NEW_COPY_ON_WRITE PERL_PRESERVE_IVUV
                        USE_64_BIT_ALL USE_64_BIT_INT USE_LARGE_FILES
                        USE_LOCALE USE_LOCALE_COLLATE USE_LOCALE_CTYPE
                        USE_LOCALE_NUMERIC USE_LOCALE_TIME USE_PERLIO
                        USE_PERL_ATOF
  Built under freebsd
  Compiled at Jan 15 2017 18:31:13
  %ENV:
    PERL5LIB=""
    PERL5OPT=""
    PERL5_CPANPLUS_IS_RUNNING="48022"
    PERL5_CPAN_IS_RUNNING="48022"
    PERL5_CPAN_IS_RUNNING_IN_RECURSION="47987,48022"
    PERLDOC="-MPod::Perldoc::ToTextOverstrike"
    PERL_BATCH="yes"
    PERL_CANARY_STABILITY_NOPROMPT="1"
    PERL_CPAN_REPORTER_CONFIG="/var/tmp/cpansmoker-1023/2017030915/cpanreporter_000_config.ini"
    PERL_EXTUTILS_AUTOINSTALL="--defaultdeps"
  @INC:
    /usr/perl5.22.3p/lib/site_perl/5.22.3/amd64-freebsd
    /usr/perl5.22.3p/lib/site_perl/5.22.3
    /usr/perl5.22.3p/lib/5.22.3/amd64-freebsd
    /usr/perl5.22.3p/lib/5.22.3
    .