HTTP-Request-Generator v0.11 Perl 5 v5.37.8 x86_64-linux-multi-ld
- Status
- Pass
- From
- Andreas J. König (ANDK)
- Dist
-
HTTP-Request-Generator v0.11
- Platform
- Perl 5 v5.37.8 x86_64-linux-multi-ld
- Date
- 2023-05-18 07:31:37
- ID
- 0623a4fe-f54e-11ed-a9cd-b9ec02e3473a
This distribution has been tested as part of the CPAN Testers
project, supporting the Perl programming language. See
http://wiki.cpantesters.org/ for more information or email
questions to cpan-testers-discuss@perl.org
--
Dear Max Maischein,
This is a computer-generated report for HTTP-Request-Generator-0.11
on perl 5.37.8, created by CPAN-Reporter-1.2018.
Thank you for uploading your work to CPAN. Congratulations!
All tests were successful.
Sections of this report:
* Tester comments
* Program output
* Prerequisites
* Environment and other context
------------------------------
TESTER COMMENTS
------------------------------
Additional comments from tester:
this report is from an automated smoke testing program
and was not reviewed by a human for accuracy
------------------------------
PROGRAM OUTPUT
------------------------------
Output from '/usr/bin/make test':
PERL_DL_NONLAZY=1 "/home/sand/src/perl/repoperls/installed-perls/host/k93msid/v5.37.8/1d53/bin/perl" "-MExtUtils::Command::MM" "-MTest::Harness" "-e" "undef *Test::Harness::Switches; test_harness(0, 'blib/lib', 'blib/arch')" t/00-load.t t/02-http-generator.t t/03-wrap-http-request.t t/03-wrap-plack.t t/03-wrap.t t/04-url-expansion.t
# Testing HTTP::Request::Generator 0.11, Perl 5.037008
# Algorithm::Loops 1.032
# Carp 1.54
# Config 5.037008
# Cwd 3.88
# Encode 3.19
# Encode::Alias 2.25
# Encode::Config 2.05
# Encode::Encoding 2.08
# Encode::MIME::Name 1.03
# Exporter 5.77
# Exporter::Heavy 5.77
# Exporter::Tiny 1.006000
# ExtUtils::Liblist 7.66
# ExtUtils::Liblist::Kid 7.66
# ExtUtils::MM 7.66
# ExtUtils::MM_Any 7.66
# ExtUtils::MM_Unix 7.66
# ExtUtils::MY 7.66
# ExtUtils::MakeMaker 7.66
# ExtUtils::MakeMaker::Config 7.66
# ExtUtils::MakeMaker::Locale 7.66
# ExtUtils::MakeMaker::version 7.66
# Fcntl 1.15
# File::Basename 2.86
# File::Glob 1.39
# File::Path 2.18
# File::Spec 3.88
# File::Spec::Unix 3.88
# Filter::Simple 0.96
# Filter::Util::Call 1.64
# Filter::signatures 0.17
# HTTP::Request::Generator 0.11
# I18N::Langinfo 0.22
# List::MoreUtils 0.430
# List::MoreUtils::PP 0.430
# List::MoreUtils::XS 0.430
# List::Util 1.63
# POSIX 2.11
# PerlIO 1.12
# Scalar::Util 1.63
# Storable 3.29
# Test::Builder 1.302191
# Test::Builder::Formatter 1.302191
# Test::Builder::Module 1.302191
# Test::Builder::TodoDiag 1.302191
# Test::More 1.302191
# Test2::API 1.302191
# Test2::API::Context 1.302191
# Test2::API::Instance 1.302191
# Test2::API::Stack 1.302191
# Test2::Event 1.302191
# Test2::Event::Bail 1.302191
# Test2::Event::Diag 1.302191
# Test2::Event::Exception 1.302191
# Test2::Event::Fail 1.302191
# Test2::Event::Note 1.302191
# Test2::Event::Ok 1.302191
# Test2::Event::Pass 1.302191
# Test2::Event::Plan 1.302191
# Test2::Event::Skip 1.302191
# Test2::Event::Subtest 1.302191
# Test2::Event::V2 1.302191
# Test2::Event::Waiting 1.302191
# Test2::EventFacet 1.302191
# Test2::EventFacet::About 1.302191
# Test2::EventFacet::Amnesty 1.302191
# Test2::EventFacet::Assert 1.302191
# Test2::EventFacet::Control 1.302191
# Test2::EventFacet::Error 1.302191
# Test2::EventFacet::Hub 1.302191
# Test2::EventFacet::Info 1.302191
# Test2::EventFacet::Meta 1.302191
# Test2::EventFacet::Parent 1.302191
# Test2::EventFacet::Plan 1.302191
# Test2::EventFacet::Trace 1.302191
# Test2::Formatter 1.302191
# Test2::Formatter::TAP 1.302191
# Test2::Hub 1.302191
# Test2::Hub::Interceptor 1.302191
# Test2::Hub::Interceptor::Terminator 1.302191
# Test2::Hub::Subtest 1.302191
# Test2::Util 1.302191
# Test2::Util::ExternalMeta 1.302191
# Test2::Util::Facets2Legacy 1.302191
# Test2::Util::HashBase 1.302191
# Test2::Util::Trace 1.302191
# Text::Balanced 2.06
# Tie::Hash 1.06
# Time::HiRes 1.9772
# URI 5.17
# URI::Escape 5.17
# XSLoader 0.32
# base 2.27
# bytes 1.08
# constant 1.33
# feature 1.79
# mro 1.26
# overload 1.36
# overloading 0.02
# parent 0.239
# re 0.44
# strict 1.12
# vars 1.05
# version 0.9929
# version::regex 0.9929
# warnings 1.61
# warnings::register 1.04
t/00-load.t ............... ok
t/02-http-generator.t ..... ok
t/03-wrap-http-request.t .. ok
t/03-wrap-plack.t ......... ok
t/03-wrap.t ............... skipped: Couldn't load test prerequiste modules: Can't locate Dancer/Request.pm in @INC (you may need to install the Dancer::Request module) (@INC entries checked: /tmp/loop_over_bdir-941283-QkTx5k/HTTP-Request-Generator-0.11-0/blib/lib /tmp/loop_over_bdir-941283-QkTx5k/HTTP-Request-Generator-0.11-0/blib/arch /home/sand/src/perl/repoperls/installed-perls/host/k93msid/v5.37.8/1d53/lib/site_perl/5.37.8/x86_64-linux-multi-ld /home/sand/src/perl/repoperls/installed-perls/host/k93msid/v5.37.8/1d53/lib/site_perl/5.37.8 /home/sand/src/perl/repoperls/installed-perls/host/k93msid/v5.37.8/1d53/lib/5.37.8/x86_64-linux-multi-ld /home/sand/src/perl/repoperls/installed-perls/host/k93msid/v5.37.8/1d53/lib/5.37.8 .) at t/03-wrap.t line 11.
t/04-url-expansion.t ...... ok
All tests successful.
Files=6, Tests=59, 3 wallclock secs ( 0.04 usr 0.03 sys + 1.89 cusr 0.22 csys = 2.18 CPU)
Result: PASS
------------------------------
PREREQUISITES
------------------------------
Prerequisite modules loaded:
requires:
Module Need Have
------------------- ----- --------
Algorithm::Loops 0 1.032
Carp 0 1.54
Exporter 5 5.77
Filter::signatures 0 0.17
List::MoreUtils 0 0.430
perl 5.006 5.037008
URI 0 5.17
URI::Escape 0 5.17
build_requires:
Module Need Have
------------------- ----- --------
Data::Dumper 0 2.187
ExtUtils::MakeMaker 0 7.66
File::Spec 0 3.88
Test::More 0 1.302191
configure_requires:
Module Need Have
------------------- ----- --------
ExtUtils::MakeMaker 0 7.66
------------------------------
ENVIRONMENT AND OTHER CONTEXT
------------------------------
Environment variables:
AUTOMATED_TESTING = 1
LANG = en_US.UTF-8
LANGUAGE = en_US:en
PATH = /home/sand/bin:/usr/local/bin:/usr/bin:/bin:/usr/games:/usr/local/perl/bin:/usr/X11/bin:/sbin:/usr/sbin
PERL5LIB =
PERL5OPT =
PERL5_CPANPLUS_IS_RUNNING = 4098062
PERL5_CPAN_IS_RUNNING = 4098062
PERL_CANARY_STABILITY_NOPROMPT = 1
PERL_MM_USE_DEFAULT = 1
PERL_USE_UNSAFE_INC = 1
SHELL = /usr/bin/zsh
TERM = screen
Perl special variables (and OS-specific diagnostics, for MSWin32):
$^X = /home/sand/src/perl/repoperls/installed-perls/host/k93msid/v5.37.8/1d53/bin/perl
$UID/$EUID = 1005 / 1005
$GID = 1005 1005
$EGID = 1005 1005
Perl module toolchain versions installed:
Module Have
------------------- --------
CPAN 2.34
CPAN::Meta 2.150010
Cwd 3.88
ExtUtils::CBuilder 0.280238
ExtUtils::Command 7.66
ExtUtils::Install 2.22
ExtUtils::MakeMaker 7.66
ExtUtils::Manifest 1.73
ExtUtils::ParseXS 3.49
File::Spec 3.88
JSON 4.10
JSON::PP 4.16
Module::Build 0.4232
Module::Signature 0.88
Parse::CPAN::Meta 2.150010
Test::Harness 3.44
Test::More 1.302191
YAML 1.30
YAML::Syck 1.34
version 0.9929
--
Summary of my perl5 (revision 5 version 37 subversion 8) configuration:
Commit id: aaff26e0f2e98dc425f7514531d35dfec6948f6d
Platform:
osname=linux
osvers=6.0.0-5-amd64
archname=x86_64-linux-multi-ld
uname='linux k93msid 6.0.0-5-amd64 #1 smp preempt_dynamic debian 6.0.10-2 (2022-12-01) x86_64 gnulinux '
config_args='-Dprefix=/home/sand/src/perl/repoperls/installed-perls/host/k93msid/v5.37.8/1d53 -Dmyhostname=k93msid -Dinstallusrbinperl=n -Uversiononly -Dusedevel -des -Ui_db -Dlibswanted=cl pthread socket inet nsl gdbm dbm malloc dl ld sun m crypt sec util c cposix posix ucb BSD gdbm_compat -Uuseithreads -Duselongdouble -DEBUGGING=both -Dusemultiplicity'
hint=recommended
useposix=true
d_sigaction=define
useithreads=undef
usemultiplicity=define
use64bitint=define
use64bitall=define
uselongdouble=define
usemymalloc=n
default_inc_excludes_dot=define
Compiler:
cc='cc'
ccflags ='-fwrapv -DDEBUGGING -fno-strict-aliasing -pipe -fstack-protector-strong -I/usr/local/include -D_LARGEFILE_SOURCE -D_FILE_OFFSET_BITS=64 -D_FORTIFY_SOURCE=2'
optimize='-O2 -g'
cppflags='-fwrapv -DDEBUGGING -fno-strict-aliasing -pipe -fstack-protector-strong -I/usr/local/include'
ccversion=''
gccversion='12.2.0'
gccosandvers=''
intsize=4
longsize=8
ptrsize=8
doublesize=8
byteorder=12345678
doublekind=3
d_longlong=define
longlongsize=8
d_longdbl=define
longdblsize=16
longdblkind=3
ivtype='long'
ivsize=8
nvtype='long double'
nvsize=16
Off_t='off_t'
lseeksize=8
alignbytes=16
prototype=define
Linker and Libraries:
ld='cc'
ldflags =' -fstack-protector-strong -L/usr/local/lib'
libpth=/usr/local/lib /usr/lib/x86_64-linux-gnu /usr/lib /usr/lib64
libs=-lpthread -lnsl -ldl -lm -lcrypt -lutil -lc
perllibs=-lpthread -lnsl -ldl -lm -lcrypt -lutil -lc
libc=/lib/x86_64-linux-gnu/libc.so.6
so=so
useshrplib=false
libperl=libperl.a
gnulibc_version='2.36'
Dynamic Linking:
dlsrc=dl_dlopen.xs
dlext=so
d_dlsymun=undef
ccdlflags='-Wl,-E'
cccdlflags='-fPIC'
lddlflags='-shared -O2 -g -L/usr/local/lib -fstack-protector-strong'
Characteristics of this binary (from libperl):
Compile-time options:
DEBUGGING
HAS_TIMES
MULTIPLICITY
PERLIO_LAYERS
PERL_COPY_ON_WRITE
PERL_DONT_CREATE_GVSV
PERL_HASH_FUNC_SIPHASH13
PERL_HASH_USE_SBOX32
PERL_MALLOC_WRAP
PERL_OP_PARENT
PERL_PRESERVE_IVUV
PERL_TRACK_MEMPOOL
PERL_USE_DEVEL
PERL_USE_SAFE_PUTENV
USE_64_BIT_ALL
USE_64_BIT_INT
USE_LARGE_FILES
USE_LOCALE
USE_LOCALE_COLLATE
USE_LOCALE_CTYPE
USE_LOCALE_NUMERIC
USE_LOCALE_TIME
USE_LONG_DOUBLE
USE_PERLIO
USE_PERL_ATOF
Built under linux
Compiled at Jan 20 2023 23:10:13
%ENV:
PERL5LIB=""
PERL5OPT=""
PERL5_CPANPLUS_IS_RUNNING="4098062"
PERL5_CPAN_IS_RUNNING="4098062"
PERL_CANARY_STABILITY_NOPROMPT="1"
PERL_MM_USE_DEFAULT="1"
PERL_USE_UNSAFE_INC="1"
@INC:
/home/sand/src/perl/repoperls/installed-perls/host/k93msid/v5.37.8/1d53/lib/site_perl/5.37.8/x86_64-linux-multi-ld
/home/sand/src/perl/repoperls/installed-perls/host/k93msid/v5.37.8/1d53/lib/site_perl/5.37.8
/home/sand/src/perl/repoperls/installed-perls/host/k93msid/v5.37.8/1d53/lib/5.37.8/x86_64-linux-multi-ld
/home/sand/src/perl/repoperls/installed-perls/host/k93msid/v5.37.8/1d53/lib/5.37.8
.