Report for HTML-Format-2.12

Back
From: metabase:user:320bfe00-2aae-11df-837a-5e0a49663a4f
Subject: PASS HTML-Format-2.12 v5.23.0 GNU/Linux
Date: 2015-10-10T16:57:43Z

This distribution has been tested as part of the CPAN Testers
project, supporting the Perl programming language.  See
http://wiki.cpantesters.org/ for more information or email
questions to cpan-testers-discuss@perl.org


--
Dear Nigel Metheringham,

This is a computer-generated report for HTML-Format-2.12
on perl 5.23.0, created by CPAN-Reporter-1.2015.

Thank you for uploading your work to CPAN.  Congratulations!
All tests were successful.

Sections of this report:

    * Tester comments
    * Program output
    * Prerequisites
    * Environment and other context

------------------------------
TESTER COMMENTS
------------------------------

Additional comments from tester:

this report is from an automated smoke testing program
and was not reviewed by a human for accuracy

------------------------------
PROGRAM OUTPUT
------------------------------

Output from './Build test':

t/00-compile.t ............... ok
# Testing with Perl 5.023000, /home/sand/src/perl/repoperls/installed-perls/perl/v5.23.0/8378/bin/perl
#     Carp version is 1.36
#     Data::Dumper version is 2.158
#     Encode version is 2.78
#     File::Slurper version is 0.008
#     File::Spec version is 3.56
#     Font::Metrics::Courier version is undefined
#     Font::Metrics::CourierBold version is undefined
#     Font::Metrics::CourierBoldOblique version is undefined
#     Font::Metrics::CourierOblique version is undefined
#     Font::Metrics::Helvetica version is undefined
#     Font::Metrics::HelveticaBold version is undefined
#     Font::Metrics::HelveticaBoldOblique version is undefined
#     Font::Metrics::HelveticaOblique version is undefined
#     Font::Metrics::TimesBold version is undefined
#     Font::Metrics::TimesBoldItalic version is undefined
#     Font::Metrics::TimesItalic version is undefined
#     Font::Metrics::TimesRoman version is undefined
#     HTML::Element version is 5.03
#     HTML::TreeBuilder version is 5.03
#     IO::File version is 1.16
#     IO::Handle version is 1.35
#     IPC::Open3 version is 1.18
#     Module::Build version is 0.4214
#     Scalar::Util version is 1.4201
#     Test::CPAN::Meta version is 0.25
#     Test::EOL version is 1.6
#     Test::More version is 1.302012002
#     Test::NoTabs version is 1.4
#     base version is 2.22
#     blib version is 1.06
#     bytes version is 1.04
#     integer version is 1.01
#     parent version is 0.234
#     strict version is 1.09
#     utf8 version is 1.17
#     warnings version is 1.32
t/000-report-versions.t ...... ok
t/01_ps.t .................... ok
Redundant argument in sprintf at /tmp/loop_over_bdir-23161-wQAWZc/HTML-Format-2.12-goQaOP/blib/lib/HTML/FormatRTF.pm line 330, <FH> line 1.
Redundant argument in sprintf at /tmp/loop_over_bdir-23161-wQAWZc/HTML-Format-2.12-goQaOP/blib/lib/HTML/FormatRTF.pm line 330, <FH> line 1.
t/02_rtf.t ................... ok
t/03_text.t .................. ok
t/04_md.t .................... ok
t/author-critic.t ............ skipped: these tests are for testing by the author
t/author-eol.t ............... skipped: these tests are for testing by the author
t/author-no-tabs.t ........... skipped: these tests are for testing by the author
t/author-pod-spell.t ......... skipped: these tests are for testing by the author
t/release-dist-manifest.t .... skipped: these tests are for release candidate testing
t/release-distmeta.t ......... skipped: these tests are for release candidate testing
t/release-has-version.t ...... skipped: these tests are for release candidate testing
t/release-minimum-version.t .. skipped: these tests are for release candidate testing
t/release-pod-syntax.t ....... skipped: these tests are for release candidate testing
t/release-portability.t ...... skipped: these tests are for release candidate testing
t/release-synopsis.t ......... skipped: these tests are for release candidate testing
t/release-unused-vars.t ...... skipped: these tests are for release candidate testing
t/rt69426.t .................. ok
All tests successful.
Files=19, Tests=107,  5 wallclock secs ( 0.08 usr  0.12 sys +  1.87 cusr  0.39 csys =  2.46 CPU)
Result: PASS

------------------------------
PREREQUISITES
------------------------------

Prerequisite modules loaded:

requires:

    Module                              Need  Have        
    ----------------------------------- ----- ------------
    base                                0     2.22        
    Carp                                0     1.36        
    Data::Dumper                        0     2.158       
    Encode                              0     2.78        
    Font::Metrics::Courier              0     0           
    Font::Metrics::CourierBold          0     0           
    Font::Metrics::CourierBoldOblique   0     0           
    Font::Metrics::CourierOblique       0     0           
    Font::Metrics::Helvetica            0     0           
    Font::Metrics::HelveticaBold        0     0           
    Font::Metrics::HelveticaBoldOblique 0     0           
    Font::Metrics::HelveticaOblique     0     0           
    Font::Metrics::TimesBold            0     0           
    Font::Metrics::TimesBoldItalic      0     0           
    Font::Metrics::TimesItalic          0     0           
    Font::Metrics::TimesRoman           0     0           
    HTML::Element                       3.15  5.03        
    HTML::TreeBuilder                   0     5.03        
    integer                             0     1.01        
    IO::File                            0     1.16        
    parent                              0     0.234       
    perl                                5.008 5.023000    
    strict                              0     1.09        
    utf8                                0     1.17        
    warnings                            0     1.32        

build_requires:

    Module                              Need  Have        
    ----------------------------------- ----- ------------
    blib                                1.01  1.06        
    bytes                               0     1.04        
    File::Slurper                       0     0.008       
    File::Spec                          0     3.56        
    IO::Handle                          0     1.35        
    IPC::Open3                          0     1.18        
    Module::Build                       0.28  0.4214      
    Scalar::Util                        0     1.42_01     
    Test::CPAN::Meta                    0     0.25        
    Test::EOL                           0     1.6         
    Test::More                          0.96  1.302012_002
    Test::NoTabs                        0     1.4         

configure_requires:

    Module                              Need  Have        
    ----------------------------------- ----- ------------
    Module::Build                       0.28  0.4214      


------------------------------
ENVIRONMENT AND OTHER CONTEXT
------------------------------

Environment variables:

    AUTOMATED_TESTING = 1
    LANG = en_US.UTF-8
    LANGUAGE = en_US:en
    PATH = /home/sand/bin:/usr/local/bin:/usr/bin:/bin:/usr/games:/usr/local/perl/bin:/usr/X11/bin:/sbin:/usr/sbin
    PERL5LIB = 
    PERL5OPT = 
    PERL5_CPANPLUS_IS_RUNNING = 23162
    PERL5_CPAN_IS_RUNNING = 23162
    PERL_MM_USE_DEFAULT = 1
    SHELL = /usr/bin/zsh
    TERM = screen

Perl special variables (and OS-specific diagnostics, for MSWin32):

    $^X = /home/sand/src/perl/repoperls/installed-perls/perl/v5.23.0/8378/bin/perl
    $UID/$EUID = 1005 / 1005
    $GID = 1005 1005
    $EGID = 1005 1005

Perl module toolchain versions installed:

    Module              Have        
    ------------------- ------------
    CPAN                2.11        
    CPAN::Meta          2.150005    
    Cwd                 3.56        
    ExtUtils::CBuilder  0.280224_1  
    ExtUtils::Command   7.10        
    ExtUtils::Install   2.04        
    ExtUtils::MakeMaker 7.10        
    ExtUtils::Manifest  1.70        
    ExtUtils::ParseXS   3.28        
    File::Spec          3.56        
    JSON                2.90        
    JSON::PP            2.27300     
    Module::Build       0.4214      
    Module::Signature   0.79        
    Parse::CPAN::Meta   1.4417      
    Test::Harness       3.35        
    Test::More          1.302012_002
    YAML                1.15        
    YAML::Syck          1.29        
    version             0.9909      


--

Summary of my perl5 (revision 5 version 23 subversion 0) configuration:
  Commit id: 7c499b7fd47e7232467f4cb7ffd590dc0edf2168
  Platform:
    osname=linux, osvers=4.1.0-2-amd64, archname=x86_64-linux-ld
    uname='linux k83 4.1.0-2-amd64 #1 smp debian 4.1.6-1 (2015-08-23) x86_64 gnulinux '
    config_args='-Dprefix=/home/sand/src/perl/repoperls/installed-perls/perl/v5.23.0/8378 -Dmyhostname=k83 -Dinstallusrbinperl=n -Uversiononly -Dusedevel -des -Ui_db -Uuseithreads -Duselongdouble'
    hint=recommended, useposix=true, d_sigaction=define
    useithreads=undef, usemultiplicity=undef
    use64bitint=define, use64bitall=define, uselongdouble=define
    usemymalloc=n, bincompat5005=undef
  Compiler:
    cc='cc', ccflags ='-fwrapv -fno-strict-aliasing -pipe -fstack-protector-strong -I/usr/local/include -D_LARGEFILE_SOURCE -D_FILE_OFFSET_BITS=64',
    optimize='-O2',
    cppflags='-fwrapv -fno-strict-aliasing -pipe -fstack-protector-strong -I/usr/local/include'
    ccversion='', gccversion='5.2.1 20150911', gccosandvers=''
    intsize=4, longsize=8, ptrsize=8, doublesize=8, byteorder=12345678, doublekind=3
    d_longlong=define, longlongsize=8, d_longdbl=define, longdblsize=16, longdblkind=3
    ivtype='long', ivsize=8, nvtype='long double', nvsize=16, Off_t='off_t', lseeksize=8
    alignbytes=16, prototype=define
  Linker and Libraries:
    ld='cc', ldflags =' -fstack-protector-strong -L/usr/local/lib'
    libpth=/usr/local/lib /usr/lib/gcc/x86_64-linux-gnu/5/include-fixed /usr/include/x86_64-linux-gnu /usr/lib /lib/x86_64-linux-gnu /lib/../lib /usr/lib/x86_64-linux-gnu /usr/lib/../lib /lib
    libs=-lpthread -lnsl -lgdbm -ldb -ldl -lm -lcrypt -lutil -lc -lgdbm_compat
    perllibs=-lpthread -lnsl -ldl -lm -lcrypt -lutil -lc
    libc=libc-2.19.so, so=so, useshrplib=false, libperl=libperl.a
    gnulibc_version='2.19'
  Dynamic Linking:
    dlsrc=dl_dlopen.xs, dlext=so, d_dlsymun=undef, ccdlflags='-Wl,-E'
    cccdlflags='-fPIC', lddlflags='-shared -O2 -L/usr/local/lib -fstack-protector-strong'


Characteristics of this binary (from libperl): 
  Compile-time options: HAS_TIMES PERLIO_LAYERS PERL_DONT_CREATE_GVSV
                        PERL_HASH_FUNC_ONE_AT_A_TIME_HARD PERL_MALLOC_WRAP
                        PERL_NEW_COPY_ON_WRITE PERL_PRESERVE_IVUV
                        PERL_USE_DEVEL USE_64_BIT_ALL USE_64_BIT_INT
                        USE_LARGE_FILES USE_LOCALE USE_LOCALE_COLLATE
                        USE_LOCALE_CTYPE USE_LOCALE_NUMERIC USE_LOCALE_TIME
                        USE_LONG_DOUBLE USE_PERLIO USE_PERL_ATOF
  Built under linux
  Compiled at Sep 24 2015 07:17:03
  %ENV:
    PERL5LIB=""
    PERL5OPT=""
    PERL5_CPANPLUS_IS_RUNNING="23162"
    PERL5_CPAN_IS_RUNNING="23162"
    PERL_MM_USE_DEFAULT="1"
  @INC:
    /home/sand/src/perl/repoperls/installed-perls/perl/v5.23.0/8378/lib/site_perl/5.23.0/x86_64-linux-ld
    /home/sand/src/perl/repoperls/installed-perls/perl/v5.23.0/8378/lib/site_perl/5.23.0
    /home/sand/src/perl/repoperls/installed-perls/perl/v5.23.0/8378/lib/5.23.0/x86_64-linux-ld
    /home/sand/src/perl/repoperls/installed-perls/perl/v5.23.0/8378/lib/5.23.0
    .