Log-Log4perl-Shortcuts v0.024 Perl 5 v5.35.5 x86_64-dragonfly
- Status
- Pass
- From
- Carlos Guevara
- Dist
-
Log-Log4perl-Shortcuts v0.024
- Platform
- Perl 5 v5.35.5 x86_64-dragonfly
- Date
- 2021-09-23 00:56:02
- ID
- 063ea83c-1c09-11ec-895c-3fa9c97f37e5
This distribution has been tested as part of the CPAN Testers
project, supporting the Perl programming language. See
http://wiki.cpantesters.org/ for more information or email
questions to cpan-testers-discuss@perl.org
--
Dear Steve Dondley,
This is a computer-generated report for Log-Log4perl-Shortcuts-0.024
on perl 5.35.5, created by CPAN-Reporter-1.2018.
Thank you for uploading your work to CPAN. Congratulations!
All tests were successful.
Sections of this report:
* Tester comments
* Program output
* Prerequisites
* Environment and other context
------------------------------
TESTER COMMENTS
------------------------------
Additional comments from tester:
this report is from an automated smoke testing program
and was not reviewed by a human for accuracy
------------------------------
PROGRAM OUTPUT
------------------------------
Output from '/usr/bin/make test':
Skip blib/lib/auto/share/dist/Log-Log4perl-Shortcuts/log_config/default.cfg (unchanged)
PERL_DL_NONLAZY=1 "/home/cpan/bin/perl-blead/bin/perl5.35.5" "-MExtUtils::Command::MM" "-MTest::Harness" "-e" "undef *Test::Harness::Switches; test_harness(0, 'blib/lib', 'blib/arch')" t/*.t
t/00-use_ok.t ............ ok
# Running export tests
t/01-export_ok.t ......... ok
# Running my tests
t/02-output_ok.t ......... ok
# Running change log config tests
t/03-set_log_config.t .... ok
# Running my tests
t/04-change_log_level.t .. ok
# Running my tests
t/05-get_log_level.t ..... ok
All tests successful.
Files=6, Tests=20, 2 wallclock secs ( 0.05 usr 0.00 sys + 1.51 cusr 0.30 csys = 1.85 CPU)
Result: PASS
------------------------------
PREREQUISITES
------------------------------
Prerequisite modules loaded:
requires:
Module Need Have
---------------------------- -------- --------
Carp 0 1.52
Data::Dumper 0 2.183
Exporter 0 5.77
File::UserConfig 0 0.06
Log::Log4perl 0 1.54
Log::Log4perl::Level 0 0
Module::Data 0 0.013
Path::Tiny 0 0.118
perl 5.010000 5.035005
build_requires:
Module Need Have
---------------------------- -------- --------
ExtUtils::MakeMaker 0 7.62
File::Copy 0 2.36
File::HomeDir 0 1.006
File::Spec 0 3.81
File::Temp 0 0.2311
File::UserConfig 0 0.06
lib 0 0.65
strict 0 1.12
Test::Exception 0 0.43
Test::Fatal 0 0.016
Test::File::ShareDir::Dist 0 1.001002
Test::File::ShareDir::Module 0 1.001002
Test::More 0 1.302187
Test::NoWarnings 0 1.06
Test::Output 0 1.033
Test::Warn 0 0.36
warnings 0 1.54
configure_requires:
Module Need Have
---------------------------- -------- --------
ExtUtils::MakeMaker 0 7.62
File::ShareDir::Install 0.06 0.13
------------------------------
ENVIRONMENT AND OTHER CONTEXT
------------------------------
Environment variables:
AUTOMATED_TESTING = 1
DATE_MANIP_TEST_DM5 = 1
LC_ALL = C
NONINTERACTIVE_TESTING = 1
PATH = /home/cpan/bin/perl-blead/bin:/home/cpan/bin:/sbin:/bin:/usr/sbin:/usr/bin:/usr/games:/usr/local/sbin:/usr/local/bin:/usr/pkg/sbin:/usr/pkg/bin:/home/cpan/bin
PERL5LIB =
PERL5OPT =
PERL5_CPANPLUS_IS_RUNNING = 291647
PERL5_CPAN_IS_RUNNING = 291647
PERL_MM_USE_DEFAULT = 1
PERL_USE_UNSAFE_INC = 1
PERL_VERSION = blead
SHELL = /usr/local/bin/bash
TERM = screen
TMPDIR = /home/cpan/tmp
Perl special variables (and OS-specific diagnostics, for MSWin32):
$^X = /home/cpan/bin/perl-blead/bin/perl5.35.5
$UID/$EUID = 1002 / 1002
$GID = 1002 1002
$EGID = 1002 1002
Perl module toolchain versions installed:
Module Have
------------------- --------
CPAN 2.28
CPAN::Meta 2.150010
Cwd 3.82
ExtUtils::CBuilder 0.280236
ExtUtils::Command 7.62
ExtUtils::Install 2.20
ExtUtils::MakeMaker 7.62
ExtUtils::Manifest 1.73
ExtUtils::ParseXS 3.44
File::Spec 3.81
JSON 4.03
JSON::PP 4.06
Module::Build 0.4231
Module::Signature n/a
Parse::CPAN::Meta 2.150010
Test::Harness 3.43
Test::More 1.302187
YAML 1.30
YAML::Syck 1.34
version 0.9929
--
Summary of my perl5 (revision 5 version 35 subversion 5) configuration:
Commit id: 2c205b5406a70a5753a289ca1b05dace7c12727a
Platform:
osname=dragonfly
osvers=6.0-release
archname=x86_64-dragonfly
uname='dragonfly cjg-dragonfly6 6.0-release dragonfly v6.0.0-release #2: fri may 7 22:50:16 edt 2021 root@www.shiningsilence.com:usrobjhomejustinrelease6_0sysx86_64_generic x86_64 '
config_args='-des -Dprefix=~/bin/perl-blead -Dscriptdir=~/bin/perl-blead/bin -Dusedevel -Duse64bitall'
hint=recommended
useposix=true
d_sigaction=define
useithreads=undef
usemultiplicity=undef
use64bitint=define
use64bitall=define
uselongdouble=undef
usemymalloc=n
default_inc_excludes_dot=define
Compiler:
cc='cc'
ccflags ='-DHAS_FPSETMASK -DHAS_FLOATINGPOINT_H -fwrapv -fno-strict-aliasing -pipe -fstack-protector-strong -I/usr/local/include -D_FORTIFY_SOURCE=2'
optimize='-O2'
cppflags='-DHAS_FPSETMASK -DHAS_FLOATINGPOINT_H -fwrapv -fno-strict-aliasing -pipe -fstack-protector-strong -I/usr/local/include'
ccversion=''
gccversion='8.3 [DragonFly] Release/2019-02-22'
gccosandvers=''
intsize=4
longsize=8
ptrsize=8
doublesize=8
byteorder=12345678
doublekind=3
d_longlong=define
longlongsize=8
d_longdbl=define
longdblsize=16
longdblkind=3
ivtype='long'
ivsize=8
nvtype='double'
nvsize=8
Off_t='off_t'
lseeksize=8
alignbytes=8
prototype=define
Linker and Libraries:
ld='cc'
ldflags ='-Wl,-E -fstack-protector-strong -L/usr/local/lib'
libpth=/usr/lib /usr/local/lib
libs=-lpthread -lgdbm -ldl -lm -lcrypt -lutil -lc
perllibs=-lpthread -ldl -lm -lcrypt -lutil -lc
libc=
so=so
useshrplib=false
libperl=libperl.a
gnulibc_version=''
Dynamic Linking:
dlsrc=dl_dlopen.xs
dlext=so
d_dlsymun=undef
ccdlflags=' '
cccdlflags='-DPIC -fPIC'
lddlflags='-shared -L/usr/local/lib -fstack-protector-strong'
Characteristics of this binary (from libperl):
Compile-time options:
HAS_TIMES
PERLIO_LAYERS
PERL_COPY_ON_WRITE
PERL_DONT_CREATE_GVSV
PERL_MALLOC_WRAP
PERL_OP_PARENT
PERL_PRESERVE_IVUV
PERL_USE_DEVEL
USE_64_BIT_ALL
USE_64_BIT_INT
USE_LARGE_FILES
USE_LOCALE
USE_LOCALE_COLLATE
USE_LOCALE_CTYPE
USE_LOCALE_NUMERIC
USE_LOCALE_TIME
USE_PERLIO
USE_PERL_ATOF
Built under dragonfly
Compiled at Sep 22 2021 10:53:47
%ENV:
PERL5LIB=""
PERL5OPT=""
PERL5_CPANPLUS_IS_RUNNING="291647"
PERL5_CPAN_IS_RUNNING="291647"
PERL_MM_USE_DEFAULT="1"
PERL_USE_UNSAFE_INC="1"
PERL_VERSION="blead"
@INC:
/home/cpan/bin/perl-blead/lib/site_perl/5.35.5/x86_64-dragonfly
/home/cpan/bin/perl-blead/lib/site_perl/5.35.5
/home/cpan/bin/perl-blead/lib/5.35.5/x86_64-dragonfly
/home/cpan/bin/perl-blead/lib/5.35.5
.