Report for HTML-FormHandlerX-Field-noCAPTCHA-0.07

Back
From: metabase:user:30ae4450-2aae-11df-837a-5e0a49663a4f
Subject: PASS HTML-FormHandlerX-Field-noCAPTCHA-0.07 v5.16.1 
Date: 2016-02-27T17:57:29Z

This distribution has been tested as part of the CPAN Testers
project, supporting the Perl programming language.  See
http://wiki.cpantesters.org/ for more information or email
questions to cpan-testers-discuss@perl.org


--
Dear Chuck Larson,

This is a computer-generated report for HTML-FormHandlerX-Field-noCAPTCHA-0.07
on perl 5.16.1, created by CPAN-Reporter-1.2015.

Thank you for uploading your work to CPAN.  Congratulations!
All tests were successful.

Sections of this report:

    * Tester comments
    * Program output
    * Prerequisites
    * Environment and other context

------------------------------
TESTER COMMENTS
------------------------------

Additional comments from tester:

this report is from an automated smoke testing program
and was not reviewed by a human for accuracy

------------------------------
PROGRAM OUTPUT
------------------------------

Output from 'C:\strawberry5161\c\bin\dmake.exe test':

C:\strawberry5161\perl\bin\perl.exe "-MExtUtils::Command::MM" "-e" "test_harness(0, 'blib\lib', 'blib\arch')" t/*.t
# 
# 
# Generated by Dist::Zilla::Plugin::ReportVersions::Tiny v1.10
# perl: 5.016001 (wanted any version) on MSWin32 from C:\strawberry5161\perl\bin\perl.exe
# 
# Captcha::noCAPTCHA                            => 0.12       (want any version)
# ExtUtils::MakeMaker                           => 6.6302     (want any version)
# HTML::FormHandler                             => 0.40050    (want any version)
# HTML::FormHandler::Field                      => 0.02       (want any version)
# Moose                                         => 2.1005     (want any version)
# Moose::Role                                   => 2.1005     (want any version)
# Moose::Util::TypeConstraints                  => 2.1005     (want any version)
# Test::Mock::Class                             => 0.0303     (want any version)
# Test::More                                    => 0.98       (want 0.88)   
# namespace::autoclean                          => 0.13       (want any version)
# strict                                        => 1.07       (want any version)
# warnings                                      => 1.13       (want any version)
# 
# Thanks for using my code.  I hope it works for you.
# If not, please try and include this output in the bug report.
# That will help me reproduce the issue and solve your problem.
# 
t/000-report-versions-tiny.t .. ok
t/01-success.t ................ ok
t/02-failure.t ................ ok
t/03-no-response.t ............ ok
t/04-render-light.t ........... ok
t/05-render-dark.t ............ ok
t/06-render-default.t ......... ok
t/07-render-noscript.t ........ ok
All tests successful.
Files=8, Tests=22, 21 wallclock secs ( 0.09 usr +  0.03 sys =  0.12 CPU)
Result: PASS

------------------------------
PREREQUISITES
------------------------------

Prerequisite modules loaded:

requires:

    Module                       Need Have   
    ---------------------------- ---- -------
    Captcha::noCAPTCHA           0    0.12   
    ExtUtils::MakeMaker          0    6.63_02
    HTML::FormHandler            0    0.40050
    HTML::FormHandler::Field     0    0.02   
    Moose                        0    2.1005 
    Moose::Role                  0    2.1005 
    Moose::Util::TypeConstraints 0    2.1005 
    namespace::autoclean         0    0.13   
    strict                       0    1.07   
    Test::Mock::Class            0    0.0303 
    Test::More                   0.88 0.98   
    warnings                     0    1.13   

build_requires:

    Module                       Need Have   
    ---------------------------- ---- -------
    ExtUtils::MakeMaker          0    6.63_02


------------------------------
ENVIRONMENT AND OTHER CONTEXT
------------------------------

Environment variables:

    AUTOMATED_TESTING = 1
    COMSPEC = C:\WINDOWS\system32\cmd.exe
    NUMBER_OF_PROCESSORS = 1
    PATH = C:\WINDOWS\system32;C:\WINDOWS;C:\WINDOWS\System32\Wbem;C:\strawberry5161\c\bin;C:\strawberry5161\perl\site\bin;C:\strawberry5161\perl\bin
    PERL5LIB = C:\strawberry5161\cpan\build\Test-Mock-Class-0.0303-0WvQWs/blib/arch;C:\strawberry5161\cpan\build\Test-Mock-Class-0.0303-0WvQWs/blib/lib;C:\strawberry5161\cpan\build\Fatal-Exception-0.05-0OGh2O/blib/arch;C:\strawberry5161\cpan\build\Fatal-Exception-0.05-0OGh2O/blib/lib;C:\strawberry5161\cpan\build\Exception-Died-0.06-YJv7xg/blib/arch;C:\strawberry5161\cpan\build\Exception-Died-0.06-YJv7xg/blib/lib;C:\strawberry5161\cpan\build\Exception-Warning-0.0401-9s60S_/blib/arch;C:\strawberry5161\cpan\build\Exception-Warning-0.0401-9s60S_/blib/lib;C:\strawberry5161\cpan\build\Captcha-noCAPTCHA-0.12-znY4Og/blib/arch;C:\strawberry5161\cpan\build\Captcha-noCAPTCHA-0.12-znY4Og/blib/lib;C:\strawberry5161\cpan\build\Net-SSLeay-1.72-ezy42V/blib/arch;C:\strawberry5161\cpan\build\Net-SSLeay-1.72-ezy42V/blib/lib
    PERL5OPT = 
    PERL5_CPANPLUS_IS_RUNNING = 14412
    PERL5_CPAN_IS_RUNNING = 14412
    PERL5_CPAN_IS_RUNNING_IN_RECURSION = 584,14412
    PERL_CR_SMOKER_CURRENT = HTML-FormHandlerX-Field-noCAPTCHA-0.07
    PERL_CR_SMOKER_RUNONCE = 1
    PERL_EXTUTILS_AUTOINSTALL = --defaultdeps
    PERL_MM_USE_DEFAULT = 1
    PROCESSOR_IDENTIFIER = x86 Family 18 Model 1 Stepping 0, AuthenticAMD
    TEMP = C:\DOCUME~1\c\LOCALS~1\Temp
    TERM = dumb

Perl special variables (and OS-specific diagnostics, for MSWin32):

    $^X = C:\strawberry5161\perl\bin\perl.exe
    $UID/$EUID = 0 / 0
    $GID = 0
    $EGID = 0
    Win32::GetOSName = WinXP/.Net
    Win32::GetOSVersion = Service Pack 3, 5, 1, 2600, 2, 3, 0, 256, 1
    Win32::FsType = NTFS
    Win32::IsAdminUser = 1

Perl module toolchain versions installed:

    Module              Have    
    ------------------- --------
    CPAN                2.00    
    CPAN::Meta          2.132661
    Cwd                 3.40    
    ExtUtils::CBuilder  0.280206
    ExtUtils::Command   1.17    
    ExtUtils::Install   1.58    
    ExtUtils::MakeMaker 6.63_02 
    ExtUtils::Manifest  1.61    
    ExtUtils::ParseXS   3.16    
    File::Spec          3.40    
    JSON                2.59    
    JSON::PP            2.27200 
    Module::Build       0.4007  
    Module::Signature   0.68    
    Parse::CPAN::Meta   1.4404  
    Test::Harness       3.29    
    Test::More          0.98    
    YAML                0.84    
    YAML::Syck          1.27    
    version             0.9904  


--

Summary of my perl5 (revision 5 version 16 subversion 1) configuration:
   
  Platform:
    osname=MSWin32, osvers=4.0, archname=MSWin32-x86-multi-thread
    uname='Win32 strawberry-perl 5.16.1.1 #1 Thu Aug  9 09:54:46 2012 i386'
    config_args='undef'
    hint=recommended, useposix=true, d_sigaction=undef
    useithreads=define, usemultiplicity=define
    useperlio=define, d_sfio=undef, uselargefiles=define, usesocks=undef
    use64bitint=undef, use64bitall=undef, uselongdouble=undef
    usemymalloc=n, bincompat5005=undef
  Compiler:
    cc='gcc', ccflags =' -s -O2 -DWIN32  -DPERL_TEXTMODE_SCRIPTS -DPERL_IMPLICIT_CONTEXT -DPERL_IMPLICIT_SYS -fno-strict-aliasing -mms-bitfields',
    optimize='-s -O2',
    cppflags='-DWIN32'
    ccversion='', gccversion='4.6.3', gccosandvers=''
    intsize=4, longsize=4, ptrsize=4, doublesize=8, byteorder=1234
    d_longlong=undef, longlongsize=8, d_longdbl=define, longdblsize=12
    ivtype='long', ivsize=4, nvtype='double', nvsize=8, Off_t='long long', lseeksize=8
    alignbytes=8, prototype=define
  Linker and Libraries:
    ld='g++', ldflags ='-s -L"C:\strawberry5161\perl\lib\CORE" -L"C:\strawberry5161\c\lib"'
    libpth=C:\strawberry5161\c\lib C:\strawberry5161\c\i686-w64-mingw32\lib
    libs=-lmoldname -lkernel32 -luser32 -lgdi32 -lwinspool -lcomdlg32 -ladvapi32 -lshell32 -lole32 -loleaut32 -lnetapi32 -luuid -lws2_32 -lmpr -lwinmm -lversion -lodbc32 -lodbccp32 -lcomctl32
    perllibs=-lmoldname -lkernel32 -luser32 -lgdi32 -lwinspool -lcomdlg32 -ladvapi32 -lshell32 -lole32 -loleaut32 -lnetapi32 -luuid -lws2_32 -lmpr -lwinmm -lversion -lodbc32 -lodbccp32 -lcomctl32
    libc=, so=dll, useshrplib=true, libperl=libperl516.a
    gnulibc_version=''
  Dynamic Linking:
    dlsrc=dl_win32.xs, dlext=dll, d_dlsymun=undef, ccdlflags=' '
    cccdlflags=' ', lddlflags='-mdll -s -L"C:\strawberry5161\perl\lib\CORE" -L"C:\strawberry5161\c\lib"'


Characteristics of this binary (from libperl): 
  Compile-time options: HAS_TIMES HAVE_INTERP_INTERN MULTIPLICITY
                        PERLIO_LAYERS PERL_DONT_CREATE_GVSV
                        PERL_IMPLICIT_CONTEXT PERL_IMPLICIT_SYS
                        PERL_MALLOC_WRAP PERL_PRESERVE_IVUV PL_OP_SLAB_ALLOC
                        USE_ITHREADS USE_LARGE_FILES USE_LOCALE
                        USE_LOCALE_COLLATE USE_LOCALE_CTYPE
                        USE_LOCALE_NUMERIC USE_PERLIO USE_PERL_ATOF
  Built under MSWin32
  Compiled at Aug  9 2012 10:03:09
  %ENV:
    PERL5LIB="C:\strawberry5161\cpan\build\Test-Mock-Class-0.0303-0WvQWs/blib/arch;C:\strawberry5161\cpan\build\Test-Mock-Class-0.0303-0WvQWs/blib/lib;C:\strawberry5161\cpan\build\Fatal-Exception-0.05-0OGh2O/blib/arch;C:\strawberry5161\cpan\build\Fatal-Exception-0.05-0OGh2O/blib/lib;C:\strawberry5161\cpan\build\Exception-Died-0.06-YJv7xg/blib/arch;C:\strawberry5161\cpan\build\Exception-Died-0.06-YJv7xg/blib/lib;C:\strawberry5161\cpan\build\Exception-Warning-0.0401-9s60S_/blib/arch;C:\strawberry5161\cpan\build\Exception-Warning-0.0401-9s60S_/blib/lib;C:\strawberry5161\cpan\build\Captcha-noCAPTCHA-0.12-znY4Og/blib/arch;C:\strawberry5161\cpan\build\Captcha-noCAPTCHA-0.12-znY4Og/blib/lib;C:\strawberry5161\cpan\build\Net-SSLeay-1.72-ezy42V/blib/arch;C:\strawberry5161\cpan\build\Net-SSLeay-1.72-ezy42V/blib/lib"
    PERL5_CPANPLUS_IS_RUNNING="14412"
    PERL5_CPAN_IS_RUNNING="14412"
    PERL5_CPAN_IS_RUNNING_IN_RECURSION="584,14412"
    PERL_CR_SMOKER_CURRENT="HTML-FormHandlerX-Field-noCAPTCHA-0.07"
    PERL_CR_SMOKER_RUNONCE="1"
    PERL_EXTUTILS_AUTOINSTALL="--defaultdeps"
    PERL_MM_USE_DEFAULT="1"
  @INC:
    C:\strawberry5161\cpan\build\Test-Mock-Class-0.0303-0WvQWs/blib/arch
    C:\strawberry5161\cpan\build\Test-Mock-Class-0.0303-0WvQWs/blib/lib
    C:\strawberry5161\cpan\build\Fatal-Exception-0.05-0OGh2O/blib/arch
    C:\strawberry5161\cpan\build\Fatal-Exception-0.05-0OGh2O/blib/lib
    C:\strawberry5161\cpan\build\Exception-Died-0.06-YJv7xg/blib/arch
    C:\strawberry5161\cpan\build\Exception-Died-0.06-YJv7xg/blib/lib
    C:\strawberry5161\cpan\build\Exception-Warning-0.0401-9s60S_/blib/arch
    C:\strawberry5161\cpan\build\Exception-Warning-0.0401-9s60S_/blib/lib
    C:\strawberry5161\cpan\build\Captcha-noCAPTCHA-0.12-znY4Og/blib/arch
    C:\strawberry5161\cpan\build\Captcha-noCAPTCHA-0.12-znY4Og/blib/lib
    C:\strawberry5161\cpan\build\Net-SSLeay-1.72-ezy42V/blib/arch
    C:\strawberry5161\cpan\build\Net-SSLeay-1.72-ezy42V/blib/lib
    C:/strawberry5161/perl/site/lib
    C:/strawberry5161/perl/vendor/lib
    C:/strawberry5161/perl/lib
    .