Lingua-Identify-CLD v0.10 Perl 5 v5.34.0 x86_64-linux

Status
Pass
From
Slaven Rezić
Dist
Lingua-Identify-CLD v0.10
Platform
Perl 5 v5.34.0 x86_64-linux
Date
2021-05-26 07:43:13
ID
066312d8-bdf6-11eb-a510-f02c1f24ea8f
This distribution has been tested as part of the CPAN Testers
project, supporting the Perl programming language.  See
http://wiki.cpantesters.org/ for more information or email
questions to cpan-testers-discuss@perl.org


--
Dear Alberto Manuel Brandao Simoes,

This is a computer-generated report for Lingua-Identify-CLD-0.10
on perl 5.34.0, created by CPAN-Reporter-1.2018.

Thank you for uploading your work to CPAN.  Congratulations!
All tests were successful.

Sections of this report:

    * Tester comments
    * Program output
    * Prerequisites
    * Environment and other context

------------------------------
TESTER COMMENTS
------------------------------

Additional comments from tester:

none provided

------------------------------
PROGRAM OUTPUT
------------------------------

Output from './Build test':

cc -I/opt/perl-5.34.0/lib/5.34.0/x86_64-linux/CORE -fPIC -c -fwrapv -fno-strict-aliasing -pipe -fstack-protector-strong -I/usr/local/include -D_LARGEFILE_SOURCE -D_FILE_OFFSET_BITS=64 -D_FORTIFY_SOURCE=2 -O2 -o /var/tmp/cpansmoker-1023/2021052522/kd3MMu9leh/library.o /var/tmp/cpansmoker-1023/2021052522/kd3MMu9leh/library.c
cc -I/opt/perl-5.34.0/lib/5.34.0/x86_64-linux/CORE -fPIC -c -fwrapv -fno-strict-aliasing -pipe -fstack-protector-strong -I/usr/local/include -D_LARGEFILE_SOURCE -D_FILE_OFFSET_BITS=64 -D_FORTIFY_SOURCE=2 -O2 -o /var/tmp/cpansmoker-1023/2021052522/kd3MMu9leh/test.o /var/tmp/cpansmoker-1023/2021052522/kd3MMu9leh/test.c
cc -shared -O2 -L/usr/local/lib -fstack-protector-strong -o /var/tmp/cpansmoker-1023/2021052522/kd3MMu9leh/libfoo.so /var/tmp/cpansmoker-1023/2021052522/kd3MMu9leh/library.o
cc -fstack-protector-strong -L/usr/local/lib -o /var/tmp/cpansmoker-1023/2021052522/kd3MMu9leh/foo /var/tmp/cpansmoker-1023/2021052522/kd3MMu9leh/test.o -L/var/tmp/cpansmoker-1023/2021052522/kd3MMu9leh -lfoo

** Preparing XS code
# Testing Lingua::Identify::CLD 0.10, Perl 5.034000, /opt/perl-5.34.0/bin/perl
t/00-load.t ....... ok
t/01-identify.t ... ok
t/02-html.t ....... ok
t/manifest.t ...... skipped: Author tests not required for installation
t/pod-coverage.t .. skipped: Set AUTHOR_TESTS to enable author tests
t/pod.t ........... skipped: Set AUTHOR_TESTS to enable author tests
All tests successful.
Files=6, Tests=27,  1 wallclock secs ( 0.04 usr  0.01 sys +  0.48 cusr  0.10 csys =  0.63 CPU)
Result: PASS

------------------------------
PREREQUISITES
------------------------------

Prerequisite modules loaded:

requires:

    Module               Need  Have    
    -------------------- ----- --------
    perl                 5.008 5.034000
    XSLoader             0.10  0.30    

build_requires:

    Module               Need  Have    
    -------------------- ----- --------
    Config::AutoConf     0.17  0.319   
    ExtUtils::CBuilder   0.27  0.280236
    ExtUtils::LibBuilder 0.04  0.08    
    ExtUtils::ParseXS    0     3.43    
    Test::More           0     1.302183

configure_requires:

    Module               Need  Have    
    -------------------- ----- --------
    Config::AutoConf     0.16  0.319   
    ExtUtils::LibBuilder 0.04  0.08    
    Module::Build        0.38  0.4231  


------------------------------
ENVIRONMENT AND OTHER CONTEXT
------------------------------

Environment variables:

    LANG = en_US.UTF-8
    PATH = /usr/local/bin:/usr/bin:/bin:/usr/local/sbin:/usr/sbin:/sbin:/home/cpansand/bin/linux-gnu:/home/cpansand/bin/sh:/home/cpansand/bin:/usr/games:/home/cpansand/devel:/home/eserte/src/srezic-misc/scripts
    PERL5LIB = /home/cpansand/.cpan/build/2021052609/ExtUtils-LibBuilder-0.08-0/blib/arch:/home/cpansand/.cpan/build/2021052609/ExtUtils-LibBuilder-0.08-0/blib/lib:/home/cpansand/.cpan/build/2021052609/Config-AutoConf-0.319-0/blib/arch:/home/cpansand/.cpan/build/2021052609/Config-AutoConf-0.319-0/blib/lib:/home/cpansand/.cpan/build/2021052609/Cwalitee-Common-0.003-0/blib/arch:/home/cpansand/.cpan/build/2021052609/Cwalitee-Common-0.003-0/blib/lib
    PERL5OPT = 
    PERL5_CPANPLUS_IS_RUNNING = 7203
    PERL5_CPAN_IS_RUNNING = 7203
    PERL5_CPAN_IS_RUNNING_IN_RECURSION = 1682,7203
    PERLDOC = -MPod::Perldoc::ToTextOverstrike
    PERL_BATCH = yes
    PERL_CANARY_STABILITY_NOPROMPT = 1
    PERL_CPAN_REPORTER_CONFIG = /var/tmp/cpansmoker-1023/2021052522/cpanreporter_000_config.ini
    PERL_EXTUTILS_AUTOINSTALL = --defaultdeps
    PERL_USE_UNSAFE_INC = 1
    SHELL = /usr/bin/zsh
    TERM = screen
    TMPDIR = /var/tmp/cpansmoker-1023/2021052522

Perl special variables (and OS-specific diagnostics, for MSWin32):

    $^X = /opt/perl-5.34.0/bin/perl
    $UID/$EUID = 1023 / 1023
    $GID = 1023 1023
    $EGID = 1023 1023

Perl module toolchain versions installed:

    Module              Have    
    ------------------- --------
    CPAN                2.28    
    CPAN::Meta          2.150010
    Cwd                 3.80    
    ExtUtils::CBuilder  0.280236
    ExtUtils::Command   7.62    
    ExtUtils::Install   2.20    
    ExtUtils::MakeMaker 7.62    
    ExtUtils::Manifest  1.73    
    ExtUtils::ParseXS   3.43    
    File::Spec          3.80    
    JSON                4.03    
    JSON::PP            4.06    
    Module::Build       0.4231  
    Module::Signature   n/a     
    Parse::CPAN::Meta   2.150010
    Test::Harness       3.43    
    Test::More          1.302183
    YAML                1.30    
    YAML::Syck          1.34    
    version             0.9928  


--

Summary of my perl5 (revision 5 version 34 subversion 0) configuration:
   
  Platform:
    osname=linux
    osvers=3.10.0-1160.25.1.el7.x86_64
    archname=x86_64-linux
    uname='linux cloud3.bbbike.org 3.10.0-1160.25.1.el7.x86_64 #1 smp wed apr 28 21:49:45 utc 2021 x86_64 x86_64 x86_64 gnulinux '
    config_args='-ds -e -Dprefix=/opt/perl-5.34.0 -Dcf_email=srezic@cpan.org'
    hint=recommended
    useposix=true
    d_sigaction=define
    useithreads=undef
    usemultiplicity=undef
    use64bitint=define
    use64bitall=define
    uselongdouble=undef
    usemymalloc=n
    default_inc_excludes_dot=define
  Compiler:
    cc='cc'
    ccflags ='-fwrapv -fno-strict-aliasing -pipe -fstack-protector-strong -I/usr/local/include -D_LARGEFILE_SOURCE -D_FILE_OFFSET_BITS=64 -D_FORTIFY_SOURCE=2'
    optimize='-O2'
    cppflags='-fwrapv -fno-strict-aliasing -pipe -fstack-protector-strong -I/usr/local/include'
    ccversion=''
    gccversion='4.8.5 20150623 (Red Hat 4.8.5-44)'
    gccosandvers=''
    intsize=4
    longsize=8
    ptrsize=8
    doublesize=8
    byteorder=12345678
    doublekind=3
    d_longlong=define
    longlongsize=8
    d_longdbl=define
    longdblsize=16
    longdblkind=3
    ivtype='long'
    ivsize=8
    nvtype='double'
    nvsize=8
    Off_t='off_t'
    lseeksize=8
    alignbytes=8
    prototype=define
  Linker and Libraries:
    ld='cc'
    ldflags =' -fstack-protector-strong -L/usr/local/lib'
    libpth=/usr/local/lib /usr/lib /usr/lib64 /usr/local/lib64
    libs=-lpthread -lnsl -lgdbm -ldb -ldl -lm -lcrypt -lutil -lc -lgdbm_compat
    perllibs=-lpthread -lnsl -ldl -lm -lcrypt -lutil -lc
    libc=libc-2.17.so
    so=so
    useshrplib=false
    libperl=libperl.a
    gnulibc_version='2.17'
  Dynamic Linking:
    dlsrc=dl_dlopen.xs
    dlext=so
    d_dlsymun=undef
    ccdlflags='-Wl,-E'
    cccdlflags='-fPIC'
    lddlflags='-shared -O2 -L/usr/local/lib -fstack-protector-strong'


Characteristics of this binary (from libperl): 
  Compile-time options:
    HAS_TIMES
    PERLIO_LAYERS
    PERL_COPY_ON_WRITE
    PERL_DONT_CREATE_GVSV
    PERL_MALLOC_WRAP
    PERL_OP_PARENT
    PERL_PRESERVE_IVUV
    USE_64_BIT_ALL
    USE_64_BIT_INT
    USE_LARGE_FILES
    USE_LOCALE
    USE_LOCALE_COLLATE
    USE_LOCALE_CTYPE
    USE_LOCALE_NUMERIC
    USE_LOCALE_TIME
    USE_PERLIO
    USE_PERL_ATOF
  Built under linux
  Compiled at May 25 2021 18:34:40
  %ENV:
    PERL5LIB="/home/cpansand/.cpan/build/2021052609/ExtUtils-LibBuilder-0.08-0/blib/arch:/home/cpansand/.cpan/build/2021052609/ExtUtils-LibBuilder-0.08-0/blib/lib:/home/cpansand/.cpan/build/2021052609/Config-AutoConf-0.319-0/blib/arch:/home/cpansand/.cpan/build/2021052609/Config-AutoConf-0.319-0/blib/lib:/home/cpansand/.cpan/build/2021052609/Cwalitee-Common-0.003-0/blib/arch:/home/cpansand/.cpan/build/2021052609/Cwalitee-Common-0.003-0/blib/lib"
    PERL5OPT=""
    PERL5_CPANPLUS_IS_RUNNING="7203"
    PERL5_CPAN_IS_RUNNING="7203"
    PERL5_CPAN_IS_RUNNING_IN_RECURSION="1682,7203"
    PERLDOC="-MPod::Perldoc::ToTextOverstrike"
    PERL_BATCH="yes"
    PERL_CANARY_STABILITY_NOPROMPT="1"
    PERL_CPAN_REPORTER_CONFIG="/var/tmp/cpansmoker-1023/2021052522/cpanreporter_000_config.ini"
    PERL_EXTUTILS_AUTOINSTALL="--defaultdeps"
    PERL_USE_UNSAFE_INC="1"
  @INC:
    /home/cpansand/.cpan/build/2021052609/ExtUtils-LibBuilder-0.08-0/blib/arch
    /home/cpansand/.cpan/build/2021052609/ExtUtils-LibBuilder-0.08-0/blib/lib
    /home/cpansand/.cpan/build/2021052609/Config-AutoConf-0.319-0/blib/arch
    /home/cpansand/.cpan/build/2021052609/Config-AutoConf-0.319-0/blib/lib
    /home/cpansand/.cpan/build/2021052609/Cwalitee-Common-0.003-0/blib/arch
    /home/cpansand/.cpan/build/2021052609/Cwalitee-Common-0.003-0/blib/lib
    /opt/perl-5.34.0/lib/site_perl/5.34.0/x86_64-linux
    /opt/perl-5.34.0/lib/site_perl/5.34.0
    /opt/perl-5.34.0/lib/5.34.0/x86_64-linux
    /opt/perl-5.34.0/lib/5.34.0
    .