Report for XML-ExtOn-0.17

Back
From: metabase:user:30f0bd62-2aae-11df-837a-5e0a49663a4f
Subject: PASS XML-ExtOn-0.17 v5.14.1 OpenBSD
Date: 2011-12-17T11:05:27Z

This distribution has been tested as part of the CPAN Testers
project, supporting the Perl programming language.  See
http://wiki.cpantesters.org/ for more information or email
questions to cpan-testers-discuss@perl.org


--
Dear Zahatski Aliaksandr,

This is a computer-generated report for XML-ExtOn-0.17
on perl 5.14.1, created by CPAN-Reporter-1.2002.

Thank you for uploading your work to CPAN.  Congratulations!
All tests were successful.

Sections of this report:

    * Tester comments
    * Program output
    * Prerequisites
    * Environment and other context

------------------------------
TESTER COMMENTS
------------------------------

Additional comments from tester:

this report is from an automated smoke testing program
and was not reviewed by a human for accuracy

------------------------------
PROGRAM OUTPUT
------------------------------

Output from './Build test':

t/008_TieAttrs.t .......... ok
t/009_Attributes.t ........ ok
t/009_Context.t ........... ok
t/010_Element.t ........... ok
Use of uninitialized value $uri in concatenation (.) or string at /home/sts/cpansmoke/perl-5.14.1/cpan/build/XML-Filter-SAX1toSAX2-0.03-_PX2BI/blib/lib/XML/Filter/SAX1toSAX2.pm line 81.
Use of uninitialized value in substitution iterator at /home/sts/cpansmoke/perl-5.14.1/cpan/build/XML-SAX-Writer-0.53-HW5x5Z/blib/lib/XML/SAX/Writer.pm line 152.
Use of uninitialized value in substitution iterator at /home/sts/cpansmoke/perl-5.14.1/cpan/build/XML-SAX-Writer-0.53-HW5x5Z/blib/lib/XML/SAX/Writer.pm line 152.
Use of uninitialized value in substitution iterator at /home/sts/cpansmoke/perl-5.14.1/cpan/build/XML-SAX-Writer-0.53-HW5x5Z/blib/lib/XML/SAX/Writer.pm line 152.
Use of uninitialized value in substitution iterator at /home/sts/cpansmoke/perl-5.14.1/cpan/build/XML-SAX-Writer-0.53-HW5x5Z/blib/lib/XML/SAX/Writer.pm line 152.
Use of uninitialized value in substitution iterator at /home/sts/cpansmoke/perl-5.14.1/cpan/build/XML-SAX-Writer-0.53-HW5x5Z/blib/lib/XML/SAX/Writer.pm line 152.
Use of uninitialized value in substitution iterator at /home/sts/cpansmoke/perl-5.14.1/cpan/build/XML-SAX-Writer-0.53-HW5x5Z/blib/lib/XML/SAX/Writer.pm line 152.
Use of uninitialized value in substitution iterator at /home/sts/cpansmoke/perl-5.14.1/cpan/build/XML-SAX-Writer-0.53-HW5x5Z/blib/lib/XML/SAX/Writer.pm line 152.
Use of uninitialized value in substitution iterator at /home/sts/cpansmoke/perl-5.14.1/cpan/build/XML-SAX-Writer-0.53-HW5x5Z/blib/lib/XML/SAX/Writer.pm line 152.
Use of uninitialized value in substitution iterator at /home/sts/cpansmoke/perl-5.14.1/cpan/build/XML-SAX-Writer-0.53-HW5x5Z/blib/lib/XML/SAX/Writer.pm line 152.
Use of uninitialized value in substitution iterator at /home/sts/cpansmoke/perl-5.14.1/cpan/build/XML-SAX-Writer-0.53-HW5x5Z/blib/lib/XML/SAX/Writer.pm line 152.
Use of uninitialized value in substitution iterator at /home/sts/cpansmoke/perl-5.14.1/cpan/build/XML-SAX-Writer-0.53-HW5x5Z/blib/lib/XML/SAX/Writer.pm line 152.
Use of uninitialized value in substitution iterator at /home/sts/cpansmoke/perl-5.14.1/cpan/build/XML-SAX-Writer-0.53-HW5x5Z/blib/lib/XML/SAX/Writer.pm line 152.
Use of uninitialized value in substitution iterator at /home/sts/cpansmoke/perl-5.14.1/cpan/build/XML-SAX-Writer-0.53-HW5x5Z/blib/lib/XML/SAX/Writer.pm line 152.
Use of uninitialized value in substitution iterator at /home/sts/cpansmoke/perl-5.14.1/cpan/build/XML-SAX-Writer-0.53-HW5x5Z/blib/lib/XML/SAX/Writer.pm line 152.
Use of uninitialized value in substitution iterator at /home/sts/cpansmoke/perl-5.14.1/cpan/build/XML-SAX-Writer-0.53-HW5x5Z/blib/lib/XML/SAX/Writer.pm line 152.
Use of uninitialized value in substitution iterator at /home/sts/cpansmoke/perl-5.14.1/cpan/build/XML-SAX-Writer-0.53-HW5x5Z/blib/lib/XML/SAX/Writer.pm line 152.
Use of uninitialized value in substitution iterator at /home/sts/cpansmoke/perl-5.14.1/cpan/build/XML-SAX-Writer-0.53-HW5x5Z/blib/lib/XML/SAX/Writer.pm line 152.
Use of uninitialized value in substitution iterator at /home/sts/cpansmoke/perl-5.14.1/cpan/build/XML-SAX-Writer-0.53-HW5x5Z/blib/lib/XML/SAX/Writer.pm line 152.
Use of uninitialized value in substitution iterator at /home/sts/cpansmoke/perl-5.14.1/cpan/build/XML-SAX-Writer-0.53-HW5x5Z/blib/lib/XML/SAX/Writer.pm line 152.
Use of uninitialized value in substitution iterator at /home/sts/cpansmoke/perl-5.14.1/cpan/build/XML-SAX-Writer-0.53-HW5x5Z/blib/lib/XML/SAX/Writer.pm line 152.
Use of uninitialized value in substitution iterator at /home/sts/cpansmoke/perl-5.14.1/cpan/build/XML-SAX-Writer-0.53-HW5x5Z/blib/lib/XML/SAX/Writer.pm line 152.
Use of uninitialized value in substitution iterator at /home/sts/cpansmoke/perl-5.14.1/cpan/build/XML-SAX-Writer-0.53-HW5x5Z/blib/lib/XML/SAX/Writer.pm line 152.
Use of uninitialized value in substitution iterator at /home/sts/cpansmoke/perl-5.14.1/cpan/build/XML-SAX-Writer-0.53-HW5x5Z/blib/lib/XML/SAX/Writer.pm line 152.
Use of uninitialized value in substitution iterator at /home/sts/cpansmoke/perl-5.14.1/cpan/build/XML-SAX-Writer-0.53-HW5x5Z/blib/lib/XML/SAX/Writer.pm line 152.
Use of uninitialized value in substitution iterator at /home/sts/cpansmoke/perl-5.14.1/cpan/build/XML-SAX-Writer-0.53-HW5x5Z/blib/lib/XML/SAX/Writer.pm line 152.
Use of uninitialized value in substitution iterator at /home/sts/cpansmoke/perl-5.14.1/cpan/build/XML-SAX-Writer-0.53-HW5x5Z/blib/lib/XML/SAX/Writer.pm line 152.
Use of uninitialized value in substitution iterator at /home/sts/cpansmoke/perl-5.14.1/cpan/build/XML-SAX-Writer-0.53-HW5x5Z/blib/lib/XML/SAX/Writer.pm line 152.
Use of uninitialized value in substitution iterator at /home/sts/cpansmoke/perl-5.14.1/cpan/build/XML-SAX-Writer-0.53-HW5x5Z/blib/lib/XML/SAX/Writer.pm line 152.
Use of uninitialized value in substitution iterator at /home/sts/cpansmoke/perl-5.14.1/cpan/build/XML-SAX-Writer-0.53-HW5x5Z/blib/lib/XML/SAX/Writer.pm line 152.
Use of uninitialized value in substitution iterator at /home/sts/cpansmoke/perl-5.14.1/cpan/build/XML-SAX-Writer-0.53-HW5x5Z/blib/lib/XML/SAX/Writer.pm line 152.
Use of uninitialized value in substitution iterator at /home/sts/cpansmoke/perl-5.14.1/cpan/build/XML-SAX-Writer-0.53-HW5x5Z/blib/lib/XML/SAX/Writer.pm line 152.
Use of uninitialized value in substitution iterator at /home/sts/cpansmoke/perl-5.14.1/cpan/build/XML-SAX-Writer-0.53-HW5x5Z/blib/lib/XML/SAX/Writer.pm line 152.
Use of uninitialized value in substitution iterator at /home/sts/cpansmoke/perl-5.14.1/cpan/build/XML-SAX-Writer-0.53-HW5x5Z/blib/lib/XML/SAX/Writer.pm line 152.
Use of uninitialized value in substitution iterator at /home/sts/cpansmoke/perl-5.14.1/cpan/build/XML-SAX-Writer-0.53-HW5x5Z/blib/lib/XML/SAX/Writer.pm line 152.
Use of uninitialized value in substitution iterator at /home/sts/cpansmoke/perl-5.14.1/cpan/build/XML-SAX-Writer-0.53-HW5x5Z/blib/lib/XML/SAX/Writer.pm line 152.
Use of uninitialized value in substitution iterator at /home/sts/cpansmoke/perl-5.14.1/cpan/build/XML-SAX-Writer-0.53-HW5x5Z/blib/lib/XML/SAX/Writer.pm line 152.
Use of uninitialized value in substitution iterator at /home/sts/cpansmoke/perl-5.14.1/cpan/build/XML-SAX-Writer-0.53-HW5x5Z/blib/lib/XML/SAX/Writer.pm line 152.
Use of uninitialized value in substitution iterator at /home/sts/cpansmoke/perl-5.14.1/cpan/build/XML-SAX-Writer-0.53-HW5x5Z/blib/lib/XML/SAX/Writer.pm line 152.
Use of uninitialized value in substitution iterator at /home/sts/cpansmoke/perl-5.14.1/cpan/build/XML-SAX-Writer-0.53-HW5x5Z/blib/lib/XML/SAX/Writer.pm line 152.
Use of uninitialized value in substitution iterator at /home/sts/cpansmoke/perl-5.14.1/cpan/build/XML-SAX-Writer-0.53-HW5x5Z/blib/lib/XML/SAX/Writer.pm line 152.
Use of uninitialized value in substitution iterator at /home/sts/cpansmoke/perl-5.14.1/cpan/build/XML-SAX-Writer-0.53-HW5x5Z/blib/lib/XML/SAX/Writer.pm line 152.
Use of uninitialized value in substitution iterator at /home/sts/cpansmoke/perl-5.14.1/cpan/build/XML-SAX-Writer-0.53-HW5x5Z/blib/lib/XML/SAX/Writer.pm line 152.
Use of uninitialized value in substitution iterator at /home/sts/cpansmoke/perl-5.14.1/cpan/build/XML-SAX-Writer-0.53-HW5x5Z/blib/lib/XML/SAX/Writer.pm line 152.
Use of uninitialized value in substitution iterator at /home/sts/cpansmoke/perl-5.14.1/cpan/build/XML-SAX-Writer-0.53-HW5x5Z/blib/lib/XML/SAX/Writer.pm line 152.
Use of uninitialized value in substitution iterator at /home/sts/cpansmoke/perl-5.14.1/cpan/build/XML-SAX-Writer-0.53-HW5x5Z/blib/lib/XML/SAX/Writer.pm line 152.
Use of uninitialized value in substitution iterator at /home/sts/cpansmoke/perl-5.14.1/cpan/build/XML-SAX-Writer-0.53-HW5x5Z/blib/lib/XML/SAX/Writer.pm line 152.
Use of uninitialized value in substitution iterator at /home/sts/cpansmoke/perl-5.14.1/cpan/build/XML-SAX-Writer-0.53-HW5x5Z/blib/lib/XML/SAX/Writer.pm line 152.
Use of uninitialized value in substitution iterator at /home/sts/cpansmoke/perl-5.14.1/cpan/build/XML-SAX-Writer-0.53-HW5x5Z/blib/lib/XML/SAX/Writer.pm line 152.
Use of uninitialized value in substitution iterator at /home/sts/cpansmoke/perl-5.14.1/cpan/build/XML-SAX-Writer-0.53-HW5x5Z/blib/lib/XML/SAX/Writer.pm line 152.
Use of uninitialized value in substitution iterator at /home/sts/cpansmoke/perl-5.14.1/cpan/build/XML-SAX-Writer-0.53-HW5x5Z/blib/lib/XML/SAX/Writer.pm line 152.
Use of uninitialized value in substitution iterator at /home/sts/cpansmoke/perl-5.14.1/cpan/build/XML-SAX-Writer-0.53-HW5x5Z/blib/lib/XML/SAX/Writer.pm line 152.
Use of uninitialized value in substitution iterator at /home/sts/cpansmoke/perl-5.14.1/cpan/build/XML-SAX-Writer-0.53-HW5x5Z/blib/lib/XML/SAX/Writer.pm line 152.
Use of uninitialized value in substitution iterator at /home/sts/cpansmoke/perl-5.14.1/cpan/build/XML-SAX-Writer-0.53-HW5x5Z/blib/lib/XML/SAX/Writer.pm line 152.
Use of uninitialized value in substitution iterator at /home/sts/cpansmoke/perl-5.14.1/cpan/build/XML-SAX-Writer-0.53-HW5x5Z/blib/lib/XML/SAX/Writer.pm line 152.
Use of uninitialized value in substitution iterator at /home/sts/cpansmoke/perl-5.14.1/cpan/build/XML-SAX-Writer-0.53-HW5x5Z/blib/lib/XML/SAX/Writer.pm line 152.
Use of uninitialized value $uri in concatenation (.) or string at /home/sts/cpansmoke/perl-5.14.1/cpan/build/XML-Filter-SAX1toSAX2-0.03-_PX2BI/blib/lib/XML/Filter/SAX1toSAX2.pm line 81.
Use of uninitialized value $uri in concatenation (.) or string at /home/sts/cpansmoke/perl-5.14.1/cpan/build/XML-Filter-SAX1toSAX2-0.03-_PX2BI/blib/lib/XML/Filter/SAX1toSAX2.pm line 81.
Use of uninitialized value in substitution iterator at /home/sts/cpansmoke/perl-5.14.1/cpan/build/XML-SAX-Writer-0.53-HW5x5Z/blib/lib/XML/SAX/Writer.pm line 152.
Use of uninitialized value in substitution iterator at /home/sts/cpansmoke/perl-5.14.1/cpan/build/XML-SAX-Writer-0.53-HW5x5Z/blib/lib/XML/SAX/Writer.pm line 152.
Use of uninitialized value in substitution iterator at /home/sts/cpansmoke/perl-5.14.1/cpan/build/XML-SAX-Writer-0.53-HW5x5Z/blib/lib/XML/SAX/Writer.pm line 152.
Use of uninitialized value in substitution iterator at /home/sts/cpansmoke/perl-5.14.1/cpan/build/XML-SAX-Writer-0.53-HW5x5Z/blib/lib/XML/SAX/Writer.pm line 152.
Use of uninitialized value in substitution iterator at /home/sts/cpansmoke/perl-5.14.1/cpan/build/XML-SAX-Writer-0.53-HW5x5Z/blib/lib/XML/SAX/Writer.pm line 152.
Use of uninitialized value in substitution iterator at /home/sts/cpansmoke/perl-5.14.1/cpan/build/XML-SAX-Writer-0.53-HW5x5Z/blib/lib/XML/SAX/Writer.pm line 152.
Use of uninitialized value in substitution iterator at /home/sts/cpansmoke/perl-5.14.1/cpan/build/XML-SAX-Writer-0.53-HW5x5Z/blib/lib/XML/SAX/Writer.pm line 152.
Use of uninitialized value in substitution iterator at /home/sts/cpansmoke/perl-5.14.1/cpan/build/XML-SAX-Writer-0.53-HW5x5Z/blib/lib/XML/SAX/Writer.pm line 152.
Use of uninitialized value in substitution iterator at /home/sts/cpansmoke/perl-5.14.1/cpan/build/XML-SAX-Writer-0.53-HW5x5Z/blib/lib/XML/SAX/Writer.pm line 152.
Use of uninitialized value in substitution iterator at /home/sts/cpansmoke/perl-5.14.1/cpan/build/XML-SAX-Writer-0.53-HW5x5Z/blib/lib/XML/SAX/Writer.pm line 152.
Use of uninitialized value $uri in concatenation (.) or string at /home/sts/cpansmoke/perl-5.14.1/cpan/build/XML-Filter-SAX1toSAX2-0.03-_PX2BI/blib/lib/XML/Filter/SAX1toSAX2.pm line 81.
Use of uninitialized value in substitution iterator at /home/sts/cpansmoke/perl-5.14.1/cpan/build/XML-SAX-Writer-0.53-HW5x5Z/blib/lib/XML/SAX/Writer.pm line 152.
Use of uninitialized value in substitution iterator at /home/sts/cpansmoke/perl-5.14.1/cpan/build/XML-SAX-Writer-0.53-HW5x5Z/blib/lib/XML/SAX/Writer.pm line 152.
Use of uninitialized value in substitution iterator at /home/sts/cpansmoke/perl-5.14.1/cpan/build/XML-SAX-Writer-0.53-HW5x5Z/blib/lib/XML/SAX/Writer.pm line 152.
Use of uninitialized value in substitution iterator at /home/sts/cpansmoke/perl-5.14.1/cpan/build/XML-SAX-Writer-0.53-HW5x5Z/blib/lib/XML/SAX/Writer.pm line 152.
Use of uninitialized value in substitution iterator at /home/sts/cpansmoke/perl-5.14.1/cpan/build/XML-SAX-Writer-0.53-HW5x5Z/blib/lib/XML/SAX/Writer.pm line 152.
Use of uninitialized value in substitution iterator at /home/sts/cpansmoke/perl-5.14.1/cpan/build/XML-SAX-Writer-0.53-HW5x5Z/blib/lib/XML/SAX/Writer.pm line 152.
Use of uninitialized value in substitution iterator at /home/sts/cpansmoke/perl-5.14.1/cpan/build/XML-SAX-Writer-0.53-HW5x5Z/blib/lib/XML/SAX/Writer.pm line 152.
Use of uninitialized value in substitution iterator at /home/sts/cpansmoke/perl-5.14.1/cpan/build/XML-SAX-Writer-0.53-HW5x5Z/blib/lib/XML/SAX/Writer.pm line 152.
Use of uninitialized value in substitution iterator at /home/sts/cpansmoke/perl-5.14.1/cpan/build/XML-SAX-Writer-0.53-HW5x5Z/blib/lib/XML/SAX/Writer.pm line 152.
Use of uninitialized value in substitution iterator at /home/sts/cpansmoke/perl-5.14.1/cpan/build/XML-SAX-Writer-0.53-HW5x5Z/blib/lib/XML/SAX/Writer.pm line 152.
Use of uninitialized value in substitution iterator at /home/sts/cpansmoke/perl-5.14.1/cpan/build/XML-SAX-Writer-0.53-HW5x5Z/blib/lib/XML/SAX/Writer.pm line 152.
Use of uninitialized value in substitution iterator at /home/sts/cpansmoke/perl-5.14.1/cpan/build/XML-SAX-Writer-0.53-HW5x5Z/blib/lib/XML/SAX/Writer.pm line 152.
Use of uninitialized value in substitution iterator at /home/sts/cpansmoke/perl-5.14.1/cpan/build/XML-SAX-Writer-0.53-HW5x5Z/blib/lib/XML/SAX/Writer.pm line 152.
Use of uninitialized value in substitution iterator at /home/sts/cpansmoke/perl-5.14.1/cpan/build/XML-SAX-Writer-0.53-HW5x5Z/blib/lib/XML/SAX/Writer.pm line 152.
Use of uninitialized value in substitution iterator at /home/sts/cpansmoke/perl-5.14.1/cpan/build/XML-SAX-Writer-0.53-HW5x5Z/blib/lib/XML/SAX/Writer.pm line 152.
Use of uninitialized value in substitution iterator at /home/sts/cpansmoke/perl-5.14.1/cpan/build/XML-SAX-Writer-0.53-HW5x5Z/blib/lib/XML/SAX/Writer.pm line 152.
Use of uninitialized value in substitution iterator at /home/sts/cpansmoke/perl-5.14.1/cpan/build/XML-SAX-Writer-0.53-HW5x5Z/blib/lib/XML/SAX/Writer.pm line 152.
Use of uninitialized value in substitution iterator at /home/sts/cpansmoke/perl-5.14.1/cpan/build/XML-SAX-Writer-0.53-HW5x5Z/blib/lib/XML/SAX/Writer.pm line 152.
Use of uninitialized value in substitution iterator at /home/sts/cpansmoke/perl-5.14.1/cpan/build/XML-SAX-Writer-0.53-HW5x5Z/blib/lib/XML/SAX/Writer.pm line 152.
Use of uninitialized value in substitution iterator at /home/sts/cpansmoke/perl-5.14.1/cpan/build/XML-SAX-Writer-0.53-HW5x5Z/blib/lib/XML/SAX/Writer.pm line 152.
Use of uninitialized value in substitution iterator at /home/sts/cpansmoke/perl-5.14.1/cpan/build/XML-SAX-Writer-0.53-HW5x5Z/blib/lib/XML/SAX/Writer.pm line 152.
Use of uninitialized value in substitution iterator at /home/sts/cpansmoke/perl-5.14.1/cpan/build/XML-SAX-Writer-0.53-HW5x5Z/blib/lib/XML/SAX/Writer.pm line 152.
Use of uninitialized value in substitution iterator at /home/sts/cpansmoke/perl-5.14.1/cpan/build/XML-SAX-Writer-0.53-HW5x5Z/blib/lib/XML/SAX/Writer.pm line 152.
Use of uninitialized value in substitution iterator at /home/sts/cpansmoke/perl-5.14.1/cpan/build/XML-SAX-Writer-0.53-HW5x5Z/blib/lib/XML/SAX/Writer.pm line 152.
Use of uninitialized value in substitution iterator at /home/sts/cpansmoke/perl-5.14.1/cpan/build/XML-SAX-Writer-0.53-HW5x5Z/blib/lib/XML/SAX/Writer.pm line 152.
Use of uninitialized value in substitution iterator at /home/sts/cpansmoke/perl-5.14.1/cpan/build/XML-SAX-Writer-0.53-HW5x5Z/blib/lib/XML/SAX/Writer.pm line 152.
Use of uninitialized value in substitution iterator at /home/sts/cpansmoke/perl-5.14.1/cpan/build/XML-SAX-Writer-0.53-HW5x5Z/blib/lib/XML/SAX/Writer.pm line 152.
Use of uninitialized value in substitution iterator at /home/sts/cpansmoke/perl-5.14.1/cpan/build/XML-SAX-Writer-0.53-HW5x5Z/blib/lib/XML/SAX/Writer.pm line 152.
Use of uninitialized value in substitution iterator at /home/sts/cpansmoke/perl-5.14.1/cpan/build/XML-SAX-Writer-0.53-HW5x5Z/blib/lib/XML/SAX/Writer.pm line 152.
Use of uninitialized value in substitution iterator at /home/sts/cpansmoke/perl-5.14.1/cpan/build/XML-SAX-Writer-0.53-HW5x5Z/blib/lib/XML/SAX/Writer.pm line 152.
Use of uninitialized value in substitution iterator at /home/sts/cpansmoke/perl-5.14.1/cpan/build/XML-SAX-Writer-0.53-HW5x5Z/blib/lib/XML/SAX/Writer.pm line 152.
Use of uninitialized value in substitution iterator at /home/sts/cpansmoke/perl-5.14.1/cpan/build/XML-SAX-Writer-0.53-HW5x5Z/blib/lib/XML/SAX/Writer.pm line 152.
Use of uninitialized value in substitution iterator at /home/sts/cpansmoke/perl-5.14.1/cpan/build/XML-SAX-Writer-0.53-HW5x5Z/blib/lib/XML/SAX/Writer.pm line 152.
Use of uninitialized value in substitution iterator at /home/sts/cpansmoke/perl-5.14.1/cpan/build/XML-SAX-Writer-0.53-HW5x5Z/blib/lib/XML/SAX/Writer.pm line 152.
Use of uninitialized value in substitution iterator at /home/sts/cpansmoke/perl-5.14.1/cpan/build/XML-SAX-Writer-0.53-HW5x5Z/blib/lib/XML/SAX/Writer.pm line 152.
Use of uninitialized value in substitution iterator at /home/sts/cpansmoke/perl-5.14.1/cpan/build/XML-SAX-Writer-0.53-HW5x5Z/blib/lib/XML/SAX/Writer.pm line 152.
Use of uninitialized value in substitution iterator at /home/sts/cpansmoke/perl-5.14.1/cpan/build/XML-SAX-Writer-0.53-HW5x5Z/blib/lib/XML/SAX/Writer.pm line 152.
Use of uninitialized value in substitution iterator at /home/sts/cpansmoke/perl-5.14.1/cpan/build/XML-SAX-Writer-0.53-HW5x5Z/blib/lib/XML/SAX/Writer.pm line 152.
Use of uninitialized value in substitution iterator at /home/sts/cpansmoke/perl-5.14.1/cpan/build/XML-SAX-Writer-0.53-HW5x5Z/blib/lib/XML/SAX/Writer.pm line 152.
Use of uninitialized value in substitution iterator at /home/sts/cpansmoke/perl-5.14.1/cpan/build/XML-SAX-Writer-0.53-HW5x5Z/blib/lib/XML/SAX/Writer.pm line 152.
Use of uninitialized value in substitution iterator at /home/sts/cpansmoke/perl-5.14.1/cpan/build/XML-SAX-Writer-0.53-HW5x5Z/blib/lib/XML/SAX/Writer.pm line 152.
Use of uninitialized value in substitution iterator at /home/sts/cpansmoke/perl-5.14.1/cpan/build/XML-SAX-Writer-0.53-HW5x5Z/blib/lib/XML/SAX/Writer.pm line 152.
Use of uninitialized value in substitution iterator at /home/sts/cpansmoke/perl-5.14.1/cpan/build/XML-SAX-Writer-0.53-HW5x5Z/blib/lib/XML/SAX/Writer.pm line 152.
Use of uninitialized value in substitution iterator at /home/sts/cpansmoke/perl-5.14.1/cpan/build/XML-SAX-Writer-0.53-HW5x5Z/blib/lib/XML/SAX/Writer.pm line 152.
Use of uninitialized value in substitution iterator at /home/sts/cpansmoke/perl-5.14.1/cpan/build/XML-SAX-Writer-0.53-HW5x5Z/blib/lib/XML/SAX/Writer.pm line 152.
Use of uninitialized value in substitution iterator at /home/sts/cpansmoke/perl-5.14.1/cpan/build/XML-SAX-Writer-0.53-HW5x5Z/blib/lib/XML/SAX/Writer.pm line 152.
Use of uninitialized value in substitution iterator at /home/sts/cpansmoke/perl-5.14.1/cpan/build/XML-SAX-Writer-0.53-HW5x5Z/blib/lib/XML/SAX/Writer.pm line 152.
Use of uninitialized value in substitution iterator at /home/sts/cpansmoke/perl-5.14.1/cpan/build/XML-SAX-Writer-0.53-HW5x5Z/blib/lib/XML/SAX/Writer.pm line 152.
Use of uninitialized value in substitution iterator at /home/sts/cpansmoke/perl-5.14.1/cpan/build/XML-SAX-Writer-0.53-HW5x5Z/blib/lib/XML/SAX/Writer.pm line 152.
Use of uninitialized value in substitution iterator at /home/sts/cpansmoke/perl-5.14.1/cpan/build/XML-SAX-Writer-0.53-HW5x5Z/blib/lib/XML/SAX/Writer.pm line 152.
Use of uninitialized value in substitution iterator at /home/sts/cpansmoke/perl-5.14.1/cpan/build/XML-SAX-Writer-0.53-HW5x5Z/blib/lib/XML/SAX/Writer.pm line 152.
Use of uninitialized value in substitution iterator at /home/sts/cpansmoke/perl-5.14.1/cpan/build/XML-SAX-Writer-0.53-HW5x5Z/blib/lib/XML/SAX/Writer.pm line 152.
Use of uninitialized value in substitution iterator at /home/sts/cpansmoke/perl-5.14.1/cpan/build/XML-SAX-Writer-0.53-HW5x5Z/blib/lib/XML/SAX/Writer.pm line 152.
Use of uninitialized value in substitution iterator at /home/sts/cpansmoke/perl-5.14.1/cpan/build/XML-SAX-Writer-0.53-HW5x5Z/blib/lib/XML/SAX/Writer.pm line 152.
Use of uninitialized value in substitution iterator at /home/sts/cpansmoke/perl-5.14.1/cpan/build/XML-SAX-Writer-0.53-HW5x5Z/blib/lib/XML/SAX/Writer.pm line 152.
Use of uninitialized value in substitution iterator at /home/sts/cpansmoke/perl-5.14.1/cpan/build/XML-SAX-Writer-0.53-HW5x5Z/blib/lib/XML/SAX/Writer.pm line 152.
Use of uninitialized value in substitution iterator at /home/sts/cpansmoke/perl-5.14.1/cpan/build/XML-SAX-Writer-0.53-HW5x5Z/blib/lib/XML/SAX/Writer.pm line 152.
Use of uninitialized value in substitution iterator at /home/sts/cpansmoke/perl-5.14.1/cpan/build/XML-SAX-Writer-0.53-HW5x5Z/blib/lib/XML/SAX/Writer.pm line 152.
Use of uninitialized value $uri in concatenation (.) or string at /home/sts/cpansmoke/perl-5.14.1/cpan/build/XML-Filter-SAX1toSAX2-0.03-_PX2BI/blib/lib/XML/Filter/SAX1toSAX2.pm line 81.
Use of uninitialized value in substitution iterator at /home/sts/cpansmoke/perl-5.14.1/cpan/build/XML-SAX-Writer-0.53-HW5x5Z/blib/lib/XML/SAX/Writer.pm line 152.
Use of uninitialized value in substitution iterator at /home/sts/cpansmoke/perl-5.14.1/cpan/build/XML-SAX-Writer-0.53-HW5x5Z/blib/lib/XML/SAX/Writer.pm line 152.
Use of uninitialized value in substitution iterator at /home/sts/cpansmoke/perl-5.14.1/cpan/build/XML-SAX-Writer-0.53-HW5x5Z/blib/lib/XML/SAX/Writer.pm line 152.
Use of uninitialized value in substitution iterator at /home/sts/cpansmoke/perl-5.14.1/cpan/build/XML-SAX-Writer-0.53-HW5x5Z/blib/lib/XML/SAX/Writer.pm line 152.
Use of uninitialized value in substitution iterator at /home/sts/cpansmoke/perl-5.14.1/cpan/build/XML-SAX-Writer-0.53-HW5x5Z/blib/lib/XML/SAX/Writer.pm line 152.
Use of uninitialized value in substitution iterator at /home/sts/cpansmoke/perl-5.14.1/cpan/build/XML-SAX-Writer-0.53-HW5x5Z/blib/lib/XML/SAX/Writer.pm line 152.
Use of uninitialized value in substitution iterator at /home/sts/cpansmoke/perl-5.14.1/cpan/build/XML-SAX-Writer-0.53-HW5x5Z/blib/lib/XML/SAX/Writer.pm line 152.
Use of uninitialized value in substitution iterator at /home/sts/cpansmoke/perl-5.14.1/cpan/build/XML-SAX-Writer-0.53-HW5x5Z/blib/lib/XML/SAX/Writer.pm line 152.
Use of uninitialized value in substitution iterator at /home/sts/cpansmoke/perl-5.14.1/cpan/build/XML-SAX-Writer-0.53-HW5x5Z/blib/lib/XML/SAX/Writer.pm line 152.
Use of uninitialized value in substitution iterator at /home/sts/cpansmoke/perl-5.14.1/cpan/build/XML-SAX-Writer-0.53-HW5x5Z/blib/lib/XML/SAX/Writer.pm line 152.
Use of uninitialized value in substitution iterator at /home/sts/cpansmoke/perl-5.14.1/cpan/build/XML-SAX-Writer-0.53-HW5x5Z/blib/lib/XML/SAX/Writer.pm line 152.
Use of uninitialized value in substitution iterator at /home/sts/cpansmoke/perl-5.14.1/cpan/build/XML-SAX-Writer-0.53-HW5x5Z/blib/lib/XML/SAX/Writer.pm line 152.
Use of uninitialized value in substitution iterator at /home/sts/cpansmoke/perl-5.14.1/cpan/build/XML-SAX-Writer-0.53-HW5x5Z/blib/lib/XML/SAX/Writer.pm line 152.
Use of uninitialized value in substitution iterator at /home/sts/cpansmoke/perl-5.14.1/cpan/build/XML-SAX-Writer-0.53-HW5x5Z/blib/lib/XML/SAX/Writer.pm line 152.
Use of uninitialized value in substitution iterator at /home/sts/cpansmoke/perl-5.14.1/cpan/build/XML-SAX-Writer-0.53-HW5x5Z/blib/lib/XML/SAX/Writer.pm line 152.
Use of uninitialized value in substitution iterator at /home/sts/cpansmoke/perl-5.14.1/cpan/build/XML-SAX-Writer-0.53-HW5x5Z/blib/lib/XML/SAX/Writer.pm line 152.
Use of uninitialized value in substitution iterator at /home/sts/cpansmoke/perl-5.14.1/cpan/build/XML-SAX-Writer-0.53-HW5x5Z/blib/lib/XML/SAX/Writer.pm line 152.
Use of uninitialized value in substitution iterator at /home/sts/cpansmoke/perl-5.14.1/cpan/build/XML-SAX-Writer-0.53-HW5x5Z/blib/lib/XML/SAX/Writer.pm line 152.
Use of uninitialized value in substitution iterator at /home/sts/cpansmoke/perl-5.14.1/cpan/build/XML-SAX-Writer-0.53-HW5x5Z/blib/lib/XML/SAX/Writer.pm line 152.
Use of uninitialized value in substitution iterator at /home/sts/cpansmoke/perl-5.14.1/cpan/build/XML-SAX-Writer-0.53-HW5x5Z/blib/lib/XML/SAX/Writer.pm line 152.
Use of uninitialized value in substitution iterator at /home/sts/cpansmoke/perl-5.14.1/cpan/build/XML-SAX-Writer-0.53-HW5x5Z/blib/lib/XML/SAX/Writer.pm line 152.
Use of uninitialized value $uri in concatenation (.) or string at /home/sts/cpansmoke/perl-5.14.1/cpan/build/XML-Filter-SAX1toSAX2-0.03-_PX2BI/blib/lib/XML/Filter/SAX1toSAX2.pm line 81.
Use of uninitialized value $uri in concatenation (.) or string at /home/sts/cpansmoke/perl-5.14.1/cpan/build/XML-Filter-SAX1toSAX2-0.03-_PX2BI/blib/lib/XML/Filter/SAX1toSAX2.pm line 81.
Use of uninitialized value in substitution iterator at /home/sts/cpansmoke/perl-5.14.1/cpan/build/XML-SAX-Writer-0.53-HW5x5Z/blib/lib/XML/SAX/Writer.pm line 152.
Use of uninitialized value in substitution iterator at /home/sts/cpansmoke/perl-5.14.1/cpan/build/XML-SAX-Writer-0.53-HW5x5Z/blib/lib/XML/SAX/Writer.pm line 152.
Use of uninitialized value in substitution iterator at /home/sts/cpansmoke/perl-5.14.1/cpan/build/XML-SAX-Writer-0.53-HW5x5Z/blib/lib/XML/SAX/Writer.pm line 152.
Use of uninitialized value in substitution iterator at /home/sts/cpansmoke/perl-5.14.1/cpan/build/XML-SAX-Writer-0.53-HW5x5Z/blib/lib/XML/SAX/Writer.pm line 152.
Use of uninitialized value in substitution iterator at /home/sts/cpansmoke/perl-5.14.1/cpan/build/XML-SAX-Writer-0.53-HW5x5Z/blib/lib/XML/SAX/Writer.pm line 152.
Use of uninitialized value in substitution iterator at /home/sts/cpansmoke/perl-5.14.1/cpan/build/XML-SAX-Writer-0.53-HW5x5Z/blib/lib/XML/SAX/Writer.pm line 152.
Use of uninitialized value in substitution iterator at /home/sts/cpansmoke/perl-5.14.1/cpan/build/XML-SAX-Writer-0.53-HW5x5Z/blib/lib/XML/SAX/Writer.pm line 152.
Use of uninitialized value in substitution iterator at /home/sts/cpansmoke/perl-5.14.1/cpan/build/XML-SAX-Writer-0.53-HW5x5Z/blib/lib/XML/SAX/Writer.pm line 152.
Use of uninitialized value in substitution iterator at /home/sts/cpansmoke/perl-5.14.1/cpan/build/XML-SAX-Writer-0.53-HW5x5Z/blib/lib/XML/SAX/Writer.pm line 152.
Use of uninitialized value in substitution iterator at /home/sts/cpansmoke/perl-5.14.1/cpan/build/XML-SAX-Writer-0.53-HW5x5Z/blib/lib/XML/SAX/Writer.pm line 152.
Use of uninitialized value in substitution iterator at /home/sts/cpansmoke/perl-5.14.1/cpan/build/XML-SAX-Writer-0.53-HW5x5Z/blib/lib/XML/SAX/Writer.pm line 152.
Use of uninitialized value in substitution iterator at /home/sts/cpansmoke/perl-5.14.1/cpan/build/XML-SAX-Writer-0.53-HW5x5Z/blib/lib/XML/SAX/Writer.pm line 152.
Use of uninitialized value in substitution iterator at /home/sts/cpansmoke/perl-5.14.1/cpan/build/XML-SAX-Writer-0.53-HW5x5Z/blib/lib/XML/SAX/Writer.pm line 152.
Use of uninitialized value in substitution iterator at /home/sts/cpansmoke/perl-5.14.1/cpan/build/XML-SAX-Writer-0.53-HW5x5Z/blib/lib/XML/SAX/Writer.pm line 152.
Use of uninitialized value in substitution iterator at /home/sts/cpansmoke/perl-5.14.1/cpan/build/XML-SAX-Writer-0.53-HW5x5Z/blib/lib/XML/SAX/Writer.pm line 152.
Use of uninitialized value in substitution iterator at /home/sts/cpansmoke/perl-5.14.1/cpan/build/XML-SAX-Writer-0.53-HW5x5Z/blib/lib/XML/SAX/Writer.pm line 152.
Use of uninitialized value in substitution iterator at /home/sts/cpansmoke/perl-5.14.1/cpan/build/XML-SAX-Writer-0.53-HW5x5Z/blib/lib/XML/SAX/Writer.pm line 152.
Use of uninitialized value in substitution iterator at /home/sts/cpansmoke/perl-5.14.1/cpan/build/XML-SAX-Writer-0.53-HW5x5Z/blib/lib/XML/SAX/Writer.pm line 152.
Use of uninitialized value in substitution iterator at /home/sts/cpansmoke/perl-5.14.1/cpan/build/XML-SAX-Writer-0.53-HW5x5Z/blib/lib/XML/SAX/Writer.pm line 152.
Use of uninitialized value in substitution iterator at /home/sts/cpansmoke/perl-5.14.1/cpan/build/XML-SAX-Writer-0.53-HW5x5Z/blib/lib/XML/SAX/Writer.pm line 152.
Use of uninitialized value in substitution iterator at /home/sts/cpansmoke/perl-5.14.1/cpan/build/XML-SAX-Writer-0.53-HW5x5Z/blib/lib/XML/SAX/Writer.pm line 152.
Use of uninitialized value in substitution iterator at /home/sts/cpansmoke/perl-5.14.1/cpan/build/XML-SAX-Writer-0.53-HW5x5Z/blib/lib/XML/SAX/Writer.pm line 152.
Use of uninitialized value in substitution iterator at /home/sts/cpansmoke/perl-5.14.1/cpan/build/XML-SAX-Writer-0.53-HW5x5Z/blib/lib/XML/SAX/Writer.pm line 152.
Use of uninitialized value in substitution iterator at /home/sts/cpansmoke/perl-5.14.1/cpan/build/XML-SAX-Writer-0.53-HW5x5Z/blib/lib/XML/SAX/Writer.pm line 152.
Use of uninitialized value in substitution iterator at /home/sts/cpansmoke/perl-5.14.1/cpan/build/XML-SAX-Writer-0.53-HW5x5Z/blib/lib/XML/SAX/Writer.pm line 152.
Use of uninitialized value in substitution iterator at /home/sts/cpansmoke/perl-5.14.1/cpan/build/XML-SAX-Writer-0.53-HW5x5Z/blib/lib/XML/SAX/Writer.pm line 152.
Use of uninitialized value in substitution iterator at /home/sts/cpansmoke/perl-5.14.1/cpan/build/XML-SAX-Writer-0.53-HW5x5Z/blib/lib/XML/SAX/Writer.pm line 152.
Use of uninitialized value in substitution iterator at /home/sts/cpansmoke/perl-5.14.1/cpan/build/XML-SAX-Writer-0.53-HW5x5Z/blib/lib/XML/SAX/Writer.pm line 152.
Use of uninitialized value in substitution iterator at /home/sts/cpansmoke/perl-5.14.1/cpan/build/XML-SAX-Writer-0.53-HW5x5Z/blib/lib/XML/SAX/Writer.pm line 152.
Use of uninitialized value in substitution iterator at /home/sts/cpansmoke/perl-5.14.1/cpan/build/XML-SAX-Writer-0.53-HW5x5Z/blib/lib/XML/SAX/Writer.pm line 152.
Use of uninitialized value in substitution iterator at /home/sts/cpansmoke/perl-5.14.1/cpan/build/XML-SAX-Writer-0.53-HW5x5Z/blib/lib/XML/SAX/Writer.pm line 152.
Use of uninitialized value in substitution iterator at /home/sts/cpansmoke/perl-5.14.1/cpan/build/XML-SAX-Writer-0.53-HW5x5Z/blib/lib/XML/SAX/Writer.pm line 152.
Use of uninitialized value in substitution iterator at /home/sts/cpansmoke/perl-5.14.1/cpan/build/XML-SAX-Writer-0.53-HW5x5Z/blib/lib/XML/SAX/Writer.pm line 152.
Use of uninitialized value in substitution iterator at /home/sts/cpansmoke/perl-5.14.1/cpan/build/XML-SAX-Writer-0.53-HW5x5Z/blib/lib/XML/SAX/Writer.pm line 152.
Use of uninitialized value in substitution iterator at /home/sts/cpansmoke/perl-5.14.1/cpan/build/XML-SAX-Writer-0.53-HW5x5Z/blib/lib/XML/SAX/Writer.pm line 152.
Use of uninitialized value in substitution iterator at /home/sts/cpansmoke/perl-5.14.1/cpan/build/XML-SAX-Writer-0.53-HW5x5Z/blib/lib/XML/SAX/Writer.pm line 152.
Use of uninitialized value in substitution iterator at /home/sts/cpansmoke/perl-5.14.1/cpan/build/XML-SAX-Writer-0.53-HW5x5Z/blib/lib/XML/SAX/Writer.pm line 152.
Use of uninitialized value in substitution iterator at /home/sts/cpansmoke/perl-5.14.1/cpan/build/XML-SAX-Writer-0.53-HW5x5Z/blib/lib/XML/SAX/Writer.pm line 152.
Use of uninitialized value in substitution iterator at /home/sts/cpansmoke/perl-5.14.1/cpan/build/XML-SAX-Writer-0.53-HW5x5Z/blib/lib/XML/SAX/Writer.pm line 152.
Use of uninitialized value in substitution iterator at /home/sts/cpansmoke/perl-5.14.1/cpan/build/XML-SAX-Writer-0.53-HW5x5Z/blib/lib/XML/SAX/Writer.pm line 152.
Use of uninitialized value in substitution iterator at /home/sts/cpansmoke/perl-5.14.1/cpan/build/XML-SAX-Writer-0.53-HW5x5Z/blib/lib/XML/SAX/Writer.pm line 152.
Use of uninitialized value in substitution iterator at /home/sts/cpansmoke/perl-5.14.1/cpan/build/XML-SAX-Writer-0.53-HW5x5Z/blib/lib/XML/SAX/Writer.pm line 152.
Use of uninitialized value in substitution iterator at /home/sts/cpansmoke/perl-5.14.1/cpan/build/XML-SAX-Writer-0.53-HW5x5Z/blib/lib/XML/SAX/Writer.pm line 152.
Use of uninitialized value in substitution iterator at /home/sts/cpansmoke/perl-5.14.1/cpan/build/XML-SAX-Writer-0.53-HW5x5Z/blib/lib/XML/SAX/Writer.pm line 152.
Use of uninitialized value in substitution iterator at /home/sts/cpansmoke/perl-5.14.1/cpan/build/XML-SAX-Writer-0.53-HW5x5Z/blib/lib/XML/SAX/Writer.pm line 152.
Use of uninitialized value in substitution iterator at /home/sts/cpansmoke/perl-5.14.1/cpan/build/XML-SAX-Writer-0.53-HW5x5Z/blib/lib/XML/SAX/Writer.pm line 152.
Use of uninitialized value in substitution iterator at /home/sts/cpansmoke/perl-5.14.1/cpan/build/XML-SAX-Writer-0.53-HW5x5Z/blib/lib/XML/SAX/Writer.pm line 152.
Use of uninitialized value in substitution iterator at /home/sts/cpansmoke/perl-5.14.1/cpan/build/XML-SAX-Writer-0.53-HW5x5Z/blib/lib/XML/SAX/Writer.pm line 152.
Use of uninitialized value in substitution iterator at /home/sts/cpansmoke/perl-5.14.1/cpan/build/XML-SAX-Writer-0.53-HW5x5Z/blib/lib/XML/SAX/Writer.pm line 152.
Use of uninitialized value in substitution iterator at /home/sts/cpansmoke/perl-5.14.1/cpan/build/XML-SAX-Writer-0.53-HW5x5Z/blib/lib/XML/SAX/Writer.pm line 152.
Use of uninitialized value in substitution iterator at /home/sts/cpansmoke/perl-5.14.1/cpan/build/XML-SAX-Writer-0.53-HW5x5Z/blib/lib/XML/SAX/Writer.pm line 152.
Use of uninitialized value in substitution iterator at /home/sts/cpansmoke/perl-5.14.1/cpan/build/XML-SAX-Writer-0.53-HW5x5Z/blib/lib/XML/SAX/Writer.pm line 152.
Use of uninitialized value in substitution iterator at /home/sts/cpansmoke/perl-5.14.1/cpan/build/XML-SAX-Writer-0.53-HW5x5Z/blib/lib/XML/SAX/Writer.pm line 152.
Use of uninitialized value in substitution iterator at /home/sts/cpansmoke/perl-5.14.1/cpan/build/XML-SAX-Writer-0.53-HW5x5Z/blib/lib/XML/SAX/Writer.pm line 152.
Use of uninitialized value in substitution iterator at /home/sts/cpansmoke/perl-5.14.1/cpan/build/XML-SAX-Writer-0.53-HW5x5Z/blib/lib/XML/SAX/Writer.pm line 152.
Use of uninitialized value in substitution iterator at /home/sts/cpansmoke/perl-5.14.1/cpan/build/XML-SAX-Writer-0.53-HW5x5Z/blib/lib/XML/SAX/Writer.pm line 152.
Use of uninitialized value in substitution iterator at /home/sts/cpansmoke/perl-5.14.1/cpan/build/XML-SAX-Writer-0.53-HW5x5Z/blib/lib/XML/SAX/Writer.pm line 152.
Use of uninitialized value in substitution iterator at /home/sts/cpansmoke/perl-5.14.1/cpan/build/XML-SAX-Writer-0.53-HW5x5Z/blib/lib/XML/SAX/Writer.pm line 152.
Use of uninitialized value in substitution iterator at /home/sts/cpansmoke/perl-5.14.1/cpan/build/XML-SAX-Writer-0.53-HW5x5Z/blib/lib/XML/SAX/Writer.pm line 152.
Use of uninitialized value in substitution iterator at /home/sts/cpansmoke/perl-5.14.1/cpan/build/XML-SAX-Writer-0.53-HW5x5Z/blib/lib/XML/SAX/Writer.pm line 152.
Use of uninitialized value in substitution iterator at /home/sts/cpansmoke/perl-5.14.1/cpan/build/XML-SAX-Writer-0.53-HW5x5Z/blib/lib/XML/SAX/Writer.pm line 152.
Use of uninitialized value in substitution iterator at /home/sts/cpansmoke/perl-5.14.1/cpan/build/XML-SAX-Writer-0.53-HW5x5Z/blib/lib/XML/SAX/Writer.pm line 152.
Use of uninitialized value in substitution iterator at /home/sts/cpansmoke/perl-5.14.1/cpan/build/XML-SAX-Writer-0.53-HW5x5Z/blib/lib/XML/SAX/Writer.pm line 152.
Use of uninitialized value in substitution iterator at /home/sts/cpansmoke/perl-5.14.1/cpan/build/XML-SAX-Writer-0.53-HW5x5Z/blib/lib/XML/SAX/Writer.pm line 152.
Use of uninitialized value in substitution iterator at /home/sts/cpansmoke/perl-5.14.1/cpan/build/XML-SAX-Writer-0.53-HW5x5Z/blib/lib/XML/SAX/Writer.pm line 152.
Use of uninitialized value in substitution iterator at /home/sts/cpansmoke/perl-5.14.1/cpan/build/XML-SAX-Writer-0.53-HW5x5Z/blib/lib/XML/SAX/Writer.pm line 152.
Use of uninitialized value $uri in concatenation (.) or string at /home/sts/cpansmoke/perl-5.14.1/cpan/build/XML-Filter-SAX1toSAX2-0.03-_PX2BI/blib/lib/XML/Filter/SAX1toSAX2.pm line 81.
Use of uninitialized value $uri in concatenation (.) or string at /home/sts/cpansmoke/perl-5.14.1/cpan/build/XML-Filter-SAX1toSAX2-0.03-_PX2BI/blib/lib/XML/Filter/SAX1toSAX2.pm line 81.
Use of uninitialized value in substitution iterator at /home/sts/cpansmoke/perl-5.14.1/cpan/build/XML-SAX-Writer-0.53-HW5x5Z/blib/lib/XML/SAX/Writer.pm line 152.
Use of uninitialized value in substitution iterator at /home/sts/cpansmoke/perl-5.14.1/cpan/build/XML-SAX-Writer-0.53-HW5x5Z/blib/lib/XML/SAX/Writer.pm line 152.
Use of uninitialized value in substitution iterator at /home/sts/cpansmoke/perl-5.14.1/cpan/build/XML-SAX-Writer-0.53-HW5x5Z/blib/lib/XML/SAX/Writer.pm line 152.
Use of uninitialized value in substitution iterator at /home/sts/cpansmoke/perl-5.14.1/cpan/build/XML-SAX-Writer-0.53-HW5x5Z/blib/lib/XML/SAX/Writer.pm line 152.
Use of uninitialized value in substitution iterator at /home/sts/cpansmoke/perl-5.14.1/cpan/build/XML-SAX-Writer-0.53-HW5x5Z/blib/lib/XML/SAX/Writer.pm line 152.
Use of uninitialized value in substitution iterator at /home/sts/cpansmoke/perl-5.14.1/cpan/build/XML-SAX-Writer-0.53-HW5x5Z/blib/lib/XML/SAX/Writer.pm line 152.
Use of uninitialized value in substitution iterator at /home/sts/cpansmoke/perl-5.14.1/cpan/build/XML-SAX-Writer-0.53-HW5x5Z/blib/lib/XML/SAX/Writer.pm line 152.
Use of uninitialized value in substitution iterator at /home/sts/cpansmoke/perl-5.14.1/cpan/build/XML-SAX-Writer-0.53-HW5x5Z/blib/lib/XML/SAX/Writer.pm line 152.
Use of uninitialized value in substitution iterator at /home/sts/cpansmoke/perl-5.14.1/cpan/build/XML-SAX-Writer-0.53-HW5x5Z/blib/lib/XML/SAX/Writer.pm line 152.
Use of uninitialized value in substitution iterator at /home/sts/cpansmoke/perl-5.14.1/cpan/build/XML-SAX-Writer-0.53-HW5x5Z/blib/lib/XML/SAX/Writer.pm line 152.
Use of uninitialized value in substitution iterator at /home/sts/cpansmoke/perl-5.14.1/cpan/build/XML-SAX-Writer-0.53-HW5x5Z/blib/lib/XML/SAX/Writer.pm line 152.
Use of uninitialized value in substitution iterator at /home/sts/cpansmoke/perl-5.14.1/cpan/build/XML-SAX-Writer-0.53-HW5x5Z/blib/lib/XML/SAX/Writer.pm line 152.
Use of uninitialized value in substitution iterator at /home/sts/cpansmoke/perl-5.14.1/cpan/build/XML-SAX-Writer-0.53-HW5x5Z/blib/lib/XML/SAX/Writer.pm line 152.
Use of uninitialized value in substitution iterator at /home/sts/cpansmoke/perl-5.14.1/cpan/build/XML-SAX-Writer-0.53-HW5x5Z/blib/lib/XML/SAX/Writer.pm line 152.
Use of uninitialized value in substitution iterator at /home/sts/cpansmoke/perl-5.14.1/cpan/build/XML-SAX-Writer-0.53-HW5x5Z/blib/lib/XML/SAX/Writer.pm line 152.
Use of uninitialized value in substitution iterator at /home/sts/cpansmoke/perl-5.14.1/cpan/build/XML-SAX-Writer-0.53-HW5x5Z/blib/lib/XML/SAX/Writer.pm line 152.
Use of uninitialized value in substitution iterator at /home/sts/cpansmoke/perl-5.14.1/cpan/build/XML-SAX-Writer-0.53-HW5x5Z/blib/lib/XML/SAX/Writer.pm line 152.
Use of uninitialized value in substitution iterator at /home/sts/cpansmoke/perl-5.14.1/cpan/build/XML-SAX-Writer-0.53-HW5x5Z/blib/lib/XML/SAX/Writer.pm line 152.
Use of uninitialized value in substitution iterator at /home/sts/cpansmoke/perl-5.14.1/cpan/build/XML-SAX-Writer-0.53-HW5x5Z/blib/lib/XML/SAX/Writer.pm line 152.
Use of uninitialized value in substitution iterator at /home/sts/cpansmoke/perl-5.14.1/cpan/build/XML-SAX-Writer-0.53-HW5x5Z/blib/lib/XML/SAX/Writer.pm line 152.
Use of uninitialized value in substitution iterator at /home/sts/cpansmoke/perl-5.14.1/cpan/build/XML-SAX-Writer-0.53-HW5x5Z/blib/lib/XML/SAX/Writer.pm line 152.
Use of uninitialized value in substitution iterator at /home/sts/cpansmoke/perl-5.14.1/cpan/build/XML-SAX-Writer-0.53-HW5x5Z/blib/lib/XML/SAX/Writer.pm line 152.
Use of uninitialized value in substitution iterator at /home/sts/cpansmoke/perl-5.14.1/cpan/build/XML-SAX-Writer-0.53-HW5x5Z/blib/lib/XML/SAX/Writer.pm line 152.
Use of uninitialized value in substitution iterator at /home/sts/cpansmoke/perl-5.14.1/cpan/build/XML-SAX-Writer-0.53-HW5x5Z/blib/lib/XML/SAX/Writer.pm line 152.
Use of uninitialized value in substitution iterator at /home/sts/cpansmoke/perl-5.14.1/cpan/build/XML-SAX-Writer-0.53-HW5x5Z/blib/lib/XML/SAX/Writer.pm line 152.
Use of uninitialized value in substitution iterator at /home/sts/cpansmoke/perl-5.14.1/cpan/build/XML-SAX-Writer-0.53-HW5x5Z/blib/lib/XML/SAX/Writer.pm line 152.
Use of uninitialized value in substitution iterator at /home/sts/cpansmoke/perl-5.14.1/cpan/build/XML-SAX-Writer-0.53-HW5x5Z/blib/lib/XML/SAX/Writer.pm line 152.
Use of uninitialized value in substitution iterator at /home/sts/cpansmoke/perl-5.14.1/cpan/build/XML-SAX-Writer-0.53-HW5x5Z/blib/lib/XML/SAX/Writer.pm line 152.
Use of uninitialized value in substitution iterator at /home/sts/cpansmoke/perl-5.14.1/cpan/build/XML-SAX-Writer-0.53-HW5x5Z/blib/lib/XML/SAX/Writer.pm line 152.
Use of uninitialized value in substitution iterator at /home/sts/cpansmoke/perl-5.14.1/cpan/build/XML-SAX-Writer-0.53-HW5x5Z/blib/lib/XML/SAX/Writer.pm line 152.
Use of uninitialized value in substitution iterator at /home/sts/cpansmoke/perl-5.14.1/cpan/build/XML-SAX-Writer-0.53-HW5x5Z/blib/lib/XML/SAX/Writer.pm line 152.
Use of uninitialized value in substitution iterator at /home/sts/cpansmoke/perl-5.14.1/cpan/build/XML-SAX-Writer-0.53-HW5x5Z/blib/lib/XML/SAX/Writer.pm line 152.
Use of uninitialized value in substitution iterator at /home/sts/cpansmoke/perl-5.14.1/cpan/build/XML-SAX-Writer-0.53-HW5x5Z/blib/lib/XML/SAX/Writer.pm line 152.
Use of uninitialized value in substitution iterator at /home/sts/cpansmoke/perl-5.14.1/cpan/build/XML-SAX-Writer-0.53-HW5x5Z/blib/lib/XML/SAX/Writer.pm line 152.
Use of uninitialized value in substitution iterator at /home/sts/cpansmoke/perl-5.14.1/cpan/build/XML-SAX-Writer-0.53-HW5x5Z/blib/lib/XML/SAX/Writer.pm line 152.
Use of uninitialized value in substitution iterator at /home/sts/cpansmoke/perl-5.14.1/cpan/build/XML-SAX-Writer-0.53-HW5x5Z/blib/lib/XML/SAX/Writer.pm line 152.
Use of uninitialized value in substitution iterator at /home/sts/cpansmoke/perl-5.14.1/cpan/build/XML-SAX-Writer-0.53-HW5x5Z/blib/lib/XML/SAX/Writer.pm line 152.
Use of uninitialized value in substitution iterator at /home/sts/cpansmoke/perl-5.14.1/cpan/build/XML-SAX-Writer-0.53-HW5x5Z/blib/lib/XML/SAX/Writer.pm line 152.
Use of uninitialized value in substitution iterator at /home/sts/cpansmoke/perl-5.14.1/cpan/build/XML-SAX-Writer-0.53-HW5x5Z/blib/lib/XML/SAX/Writer.pm line 152.
Use of uninitialized value in substitution iterator at /home/sts/cpansmoke/perl-5.14.1/cpan/build/XML-SAX-Writer-0.53-HW5x5Z/blib/lib/XML/SAX/Writer.pm line 152.
Use of uninitialized value in substitution iterator at /home/sts/cpansmoke/perl-5.14.1/cpan/build/XML-SAX-Writer-0.53-HW5x5Z/blib/lib/XML/SAX/Writer.pm line 152.
Use of uninitialized value in substitution iterator at /home/sts/cpansmoke/perl-5.14.1/cpan/build/XML-SAX-Writer-0.53-HW5x5Z/blib/lib/XML/SAX/Writer.pm line 152.
Use of uninitialized value in substitution iterator at /home/sts/cpansmoke/perl-5.14.1/cpan/build/XML-SAX-Writer-0.53-HW5x5Z/blib/lib/XML/SAX/Writer.pm line 152.
Use of uninitialized value $uri in concatenation (.) or string at /home/sts/cpansmoke/perl-5.14.1/cpan/build/XML-Filter-SAX1toSAX2-0.03-_PX2BI/blib/lib/XML/Filter/SAX1toSAX2.pm line 81.
Use of uninitialized value in substitution iterator at /home/sts/cpansmoke/perl-5.14.1/cpan/build/XML-SAX-Writer-0.53-HW5x5Z/blib/lib/XML/SAX/Writer.pm line 152.
Use of uninitialized value in substitution iterator at /home/sts/cpansmoke/perl-5.14.1/cpan/build/XML-SAX-Writer-0.53-HW5x5Z/blib/lib/XML/SAX/Writer.pm line 152.
Use of uninitialized value in substitution iterator at /home/sts/cpansmoke/perl-5.14.1/cpan/build/XML-SAX-Writer-0.53-HW5x5Z/blib/lib/XML/SAX/Writer.pm line 152.
Use of uninitialized value in substitution iterator at /home/sts/cpansmoke/perl-5.14.1/cpan/build/XML-SAX-Writer-0.53-HW5x5Z/blib/lib/XML/SAX/Writer.pm line 152.
Use of uninitialized value in substitution iterator at /home/sts/cpansmoke/perl-5.14.1/cpan/build/XML-SAX-Writer-0.53-HW5x5Z/blib/lib/XML/SAX/Writer.pm line 152.
Use of uninitialized value in substitution iterator at /home/sts/cpansmoke/perl-5.14.1/cpan/build/XML-SAX-Writer-0.53-HW5x5Z/blib/lib/XML/SAX/Writer.pm line 152.
Use of uninitialized value in substitution iterator at /home/sts/cpansmoke/perl-5.14.1/cpan/build/XML-SAX-Writer-0.53-HW5x5Z/blib/lib/XML/SAX/Writer.pm line 152.
Use of uninitialized value in substitution iterator at /home/sts/cpansmoke/perl-5.14.1/cpan/build/XML-SAX-Writer-0.53-HW5x5Z/blib/lib/XML/SAX/Writer.pm line 152.
Use of uninitialized value in substitution iterator at /home/sts/cpansmoke/perl-5.14.1/cpan/build/XML-SAX-Writer-0.53-HW5x5Z/blib/lib/XML/SAX/Writer.pm line 152.
Use of uninitialized value in substitution iterator at /home/sts/cpansmoke/perl-5.14.1/cpan/build/XML-SAX-Writer-0.53-HW5x5Z/blib/lib/XML/SAX/Writer.pm line 152.
Use of uninitialized value in substitution iterator at /home/sts/cpansmoke/perl-5.14.1/cpan/build/XML-SAX-Writer-0.53-HW5x5Z/blib/lib/XML/SAX/Writer.pm line 152.
Use of uninitialized value in substitution iterator at /home/sts/cpansmoke/perl-5.14.1/cpan/build/XML-SAX-Writer-0.53-HW5x5Z/blib/lib/XML/SAX/Writer.pm line 152.
Use of uninitialized value in substitution iterator at /home/sts/cpansmoke/perl-5.14.1/cpan/build/XML-SAX-Writer-0.53-HW5x5Z/blib/lib/XML/SAX/Writer.pm line 152.
Use of uninitialized value in substitution iterator at /home/sts/cpansmoke/perl-5.14.1/cpan/build/XML-SAX-Writer-0.53-HW5x5Z/blib/lib/XML/SAX/Writer.pm line 152.
Use of uninitialized value in substitution iterator at /home/sts/cpansmoke/perl-5.14.1/cpan/build/XML-SAX-Writer-0.53-HW5x5Z/blib/lib/XML/SAX/Writer.pm line 152.
Use of uninitialized value in substitution iterator at /home/sts/cpansmoke/perl-5.14.1/cpan/build/XML-SAX-Writer-0.53-HW5x5Z/blib/lib/XML/SAX/Writer.pm line 152.
Use of uninitialized value in substitution iterator at /home/sts/cpansmoke/perl-5.14.1/cpan/build/XML-SAX-Writer-0.53-HW5x5Z/blib/lib/XML/SAX/Writer.pm line 152.
Use of uninitialized value in substitution iterator at /home/sts/cpansmoke/perl-5.14.1/cpan/build/XML-SAX-Writer-0.53-HW5x5Z/blib/lib/XML/SAX/Writer.pm line 152.
Use of uninitialized value in substitution iterator at /home/sts/cpansmoke/perl-5.14.1/cpan/build/XML-SAX-Writer-0.53-HW5x5Z/blib/lib/XML/SAX/Writer.pm line 152.
Use of uninitialized value in substitution iterator at /home/sts/cpansmoke/perl-5.14.1/cpan/build/XML-SAX-Writer-0.53-HW5x5Z/blib/lib/XML/SAX/Writer.pm line 152.
Use of uninitialized value in substitution iterator at /home/sts/cpansmoke/perl-5.14.1/cpan/build/XML-SAX-Writer-0.53-HW5x5Z/blib/lib/XML/SAX/Writer.pm line 152.
Use of uninitialized value in substitution iterator at /home/sts/cpansmoke/perl-5.14.1/cpan/build/XML-SAX-Writer-0.53-HW5x5Z/blib/lib/XML/SAX/Writer.pm line 152.
Use of uninitialized value in substitution iterator at /home/sts/cpansmoke/perl-5.14.1/cpan/build/XML-SAX-Writer-0.53-HW5x5Z/blib/lib/XML/SAX/Writer.pm line 152.
Use of uninitialized value in substitution iterator at /home/sts/cpansmoke/perl-5.14.1/cpan/build/XML-SAX-Writer-0.53-HW5x5Z/blib/lib/XML/SAX/Writer.pm line 152.
Use of uninitialized value in substitution iterator at /home/sts/cpansmoke/perl-5.14.1/cpan/build/XML-SAX-Writer-0.53-HW5x5Z/blib/lib/XML/SAX/Writer.pm line 152.
Use of uninitialized value in substitution iterator at /home/sts/cpansmoke/perl-5.14.1/cpan/build/XML-SAX-Writer-0.53-HW5x5Z/blib/lib/XML/SAX/Writer.pm line 152.
Use of uninitialized value in substitution iterator at /home/sts/cpansmoke/perl-5.14.1/cpan/build/XML-SAX-Writer-0.53-HW5x5Z/blib/lib/XML/SAX/Writer.pm line 152.
Use of uninitialized value in substitution iterator at /home/sts/cpansmoke/perl-5.14.1/cpan/build/XML-SAX-Writer-0.53-HW5x5Z/blib/lib/XML/SAX/Writer.pm line 152.
Use of uninitialized value in substitution iterator at /home/sts/cpansmoke/perl-5.14.1/cpan/build/XML-SAX-Writer-0.53-HW5x5Z/blib/lib/XML/SAX/Writer.pm line 152.
Use of uninitialized value in substitution iterator at /home/sts/cpansmoke/perl-5.14.1/cpan/build/XML-SAX-Writer-0.53-HW5x5Z/blib/lib/XML/SAX/Writer.pm line 152.
Use of uninitialized value in substitution iterator at /home/sts/cpansmoke/perl-5.14.1/cpan/build/XML-SAX-Writer-0.53-HW5x5Z/blib/lib/XML/SAX/Writer.pm line 152.
Use of uninitialized value in substitution iterator at /home/sts/cpansmoke/perl-5.14.1/cpan/build/XML-SAX-Writer-0.53-HW5x5Z/blib/lib/XML/SAX/Writer.pm line 152.
t/050.t ................... ok
t/060_ExtOn_skip_root.t ... ok
Use of uninitialized value in substitution iterator at /home/sts/cpansmoke/perl-5.14.1/cpan/build/XML-SAX-Writer-0.53-HW5x5Z/blib/lib/XML/SAX/Writer.pm line 152.
Use of uninitialized value in substitution iterator at /home/sts/cpansmoke/perl-5.14.1/cpan/build/XML-SAX-Writer-0.53-HW5x5Z/blib/lib/XML/SAX/Writer.pm line 152.
Use of uninitialized value in substitution iterator at /home/sts/cpansmoke/perl-5.14.1/cpan/build/XML-SAX-Writer-0.53-HW5x5Z/blib/lib/XML/SAX/Writer.pm line 152.
t/070_characters_cdata.t .. ok
Use of uninitialized value in substitution iterator at /home/sts/cpansmoke/perl-5.14.1/cpan/build/XML-SAX-Writer-0.53-HW5x5Z/blib/lib/XML/SAX/Writer.pm line 152.
Use of uninitialized value in substitution iterator at /home/sts/cpansmoke/perl-5.14.1/cpan/build/XML-SAX-Writer-0.53-HW5x5Z/blib/lib/XML/SAX/Writer.pm line 152.
Use of uninitialized value in substitution iterator at /home/sts/cpansmoke/perl-5.14.1/cpan/build/XML-SAX-Writer-0.53-HW5x5Z/blib/lib/XML/SAX/Writer.pm line 152.
Use of uninitialized value in substitution iterator at /home/sts/cpansmoke/perl-5.14.1/cpan/build/XML-SAX-Writer-0.53-HW5x5Z/blib/lib/XML/SAX/Writer.pm line 152.
Use of uninitialized value in substitution iterator at /home/sts/cpansmoke/perl-5.14.1/cpan/build/XML-SAX-Writer-0.53-HW5x5Z/blib/lib/XML/SAX/Writer.pm line 152.
Use of uninitialized value in substitution iterator at /home/sts/cpansmoke/perl-5.14.1/cpan/build/XML-SAX-Writer-0.53-HW5x5Z/blib/lib/XML/SAX/Writer.pm line 152.
Use of uninitialized value in substitution iterator at /home/sts/cpansmoke/perl-5.14.1/cpan/build/XML-SAX-Writer-0.53-HW5x5Z/blib/lib/XML/SAX/Writer.pm line 152.
t/080_create_pipe.t ....... ok
t/081_split_pipe.t ........ ok
t/090_add_content.t ....... ok
t/093_wrap_around.t ....... ok
All tests successful.
Files=11, Tests=81,  2 wallclock secs ( 0.09 usr  0.08 sys +  1.12 cusr  0.34 csys =  1.63 CPU)
Result: PASS

------------------------------
PREREQUISITES
------------------------------

Prerequisite modules loaded:

requires:

    Module                  Need Have  
    ----------------------- ---- ------
    Tie::UnionHash          0    0.02  
    XML::Filter::SAX1toSAX2 0    0.03  
    XML::Flow               0.85 0.86  
    XML::Parser::PerlSAX    0    0.08  
    XML::SAX                0    0.96  
    XML::SAX::Writer        0    0.53  

configure_requires:

    Module                  Need Have  
    ----------------------- ---- ------
    Module::Build           0.36 0.3800


------------------------------
ENVIRONMENT AND OTHER CONTEXT
------------------------------

Environment variables:

    AUTOMATED_TESTING = 1
    PATH = /home/sts/bin:/bin:/sbin:/usr/bin:/usr/sbin:/usr/X11R6/bin:/usr/local/bin:/usr/local/sbin:/usr/games:.
    PERL5LIB = /home/sts/cpansmoke/perl-5.14.1/cpan/build/XML-Flow-0.86-UHVmbL/blib/arch:/home/sts/cpansmoke/perl-5.14.1/cpan/build/XML-Flow-0.86-UHVmbL/blib/lib:/home/sts/cpansmoke/perl-5.14.1/cpan/build/XML-Writer-0.612-46nH71/blib/arch:/home/sts/cpansmoke/perl-5.14.1/cpan/build/XML-Writer-0.612-46nH71/blib/lib:/home/sts/cpansmoke/perl-5.14.1/cpan/build/libxml-perl-0.08-_YbAse/blib/arch:/home/sts/cpansmoke/perl-5.14.1/cpan/build/libxml-perl-0.08-_YbAse/blib/lib:/home/sts/cpansmoke/perl-5.14.1/cpan/build/Tie-UnionHash-0.02-WJeMWc/blib/arch:/home/sts/cpansmoke/perl-5.14.1/cpan/build/Tie-UnionHash-0.02-WJeMWc/blib/lib:/home/sts/cpansmoke/perl-5.14.1/cpan/build/XML-Filter-SAX1toSAX2-0.03-_PX2BI/blib/arch:/home/sts/cpansmoke/perl-5.14.1/cpan/build/XML-Filter-SAX1toSAX2-0.03-_PX2BI/blib/lib:/home/sts/cpansmoke/perl-5.14.1/cpan/build/XML-SAX-Writer-0.53-HW5x5Z/blib/arch:/home/sts/cpansmoke/perl-5.14.1/cpan/build/XML-SAX-Writer-0.53-HW5x5Z/blib/lib:/home/sts/cpansmoke/perl-5.14.1/cpan/build/XML-Filter-BufferText-1.01-OszJ4_/blib/arch:/home/sts/cpansmoke/perl-5.14.1/cpan/build/XML-Filter-BufferText-1.01-OszJ4_/blib/lib:/home/sts/cpansmoke/perl-5.14.1/cpan/build/Test-Class-0.36-QEfUR9/blib/arch:/home/sts/cpansmoke/perl-5.14.1/cpan/build/Test-Class-0.36-QEfUR9/blib/lib:/home/sts/cpansmoke/perl-5.14.1/cpan/build/MRO-Compat-0.11-wq8L6h/blib/arch:/home/sts/cpansmoke/perl-5.14.1/cpan/build/MRO-Compat-0.11-wq8L6h/blib/lib
    PERL5OPT = 
    PERL5_CPANPLUS_IS_RUNNING = 9238
    PERL5_CPAN_IS_RUNNING = 9238
    PERL5_CPAN_IS_RUNNING_IN_RECURSION = 26101,9238
    PERL_CR_SMOKER_CURRENT = Perl6-Pod-Lib-0.07
    PERL_EXTUTILS_AUTOINSTALL = --defaultdeps
    PERL_MM_USE_DEFAULT = 1
    SHELL = /usr/local/bin/bash
    TERM = screen
    TMPDIR = /home/sts/cpansmoke/tmp

Perl special variables (and OS-specific diagnostics, for MSWin32):

    $^X = /home/sts/cpansmoke/perl-5.14.1/bin/perl
    $UID/$EUID = 1000 / 1000
    $GID = 10 10 0
    $EGID = 10 10 0

Perl module toolchain versions installed:

    Module              Have    
    ------------------- --------
    CPAN                1.9800  
    CPAN::Meta          2.110440
    Cwd                 3.36    
    ExtUtils::CBuilder  0.280203
    ExtUtils::Command   1.17    
    ExtUtils::Install   1.56    
    ExtUtils::MakeMaker 6.57_05 
    ExtUtils::Manifest  1.58    
    ExtUtils::ParseXS   2.2210  
    File::Spec          3.33    
    JSON                2.53    
    JSON::PP            2.27105 
    Module::Build       0.3800  
    Module::Signature   n/a     
    Parse::CPAN::Meta   1.4401  
    Test::Harness       3.23    
    Test::More          0.98    
    YAML                0.73    
    YAML::Syck          n/a     
    version             0.88    


--

Summary of my perl5 (revision 5 version 14 subversion 1) configuration:
   
  Platform:
    osname=openbsd, osvers=4.9, archname=OpenBSD.i386-openbsd-thread-multi
    uname='openbsd cpansmoke3 4.9 generic.mp#794 i386 '
    config_args='-des -Dusethreads -Dprefix=/home/sts/cpansmoke/perl-5.14.1'
    hint=recommended, useposix=true, d_sigaction=define
    useithreads=define, usemultiplicity=define
    useperlio=define, d_sfio=undef, uselargefiles=define, usesocks=undef
    use64bitint=undef, use64bitall=undef, uselongdouble=undef
    usemymalloc=y, bincompat5005=undef
  Compiler:
    cc='cc', ccflags ='-pthread -fno-strict-aliasing -pipe -fstack-protector -I/usr/local/include',
    optimize='-O2',
    cppflags='-pthread -fno-strict-aliasing -pipe -fstack-protector -I/usr/local/include'
    ccversion='', gccversion='4.2.1 20070719 ', gccosandvers='openbsd4.9'
    intsize=4, longsize=4, ptrsize=4, doublesize=8, byteorder=1234
    d_longlong=define, longlongsize=8, d_longdbl=define, longdblsize=12
    ivtype='long', ivsize=4, nvtype='double', nvsize=8, Off_t='off_t', lseeksize=8
    alignbytes=4, prototype=define
  Linker and Libraries:
    ld='cc', ldflags ='-pthread -Wl,-E  -fstack-protector -L/usr/local/lib'
    libpth=/usr/local/lib /usr/lib
    libs=-lgdbm -lm -lutil -lc
    perllibs=-lm -lutil -lc
    libc=/usr/lib/libc.so.58.0, so=so, useshrplib=false, libperl=libperl.a
    gnulibc_version=''
  Dynamic Linking:
    dlsrc=dl_dlopen.xs, dlext=so, d_dlsymun=undef, ccdlflags=' '
    cccdlflags='-DPIC -fPIC ', lddlflags='-shared -fPIC  -L/usr/local/lib -fstack-protector'


Characteristics of this binary (from libperl): 
  Compile-time options: MULTIPLICITY MYMALLOC PERL_DONT_CREATE_GVSV
                        PERL_IMPLICIT_CONTEXT PERL_MALLOC_WRAP
                        PERL_PRESERVE_IVUV USE_ITHREADS USE_LARGE_FILES
                        USE_PERLIO USE_PERL_ATOF USE_REENTRANT_API
  Built under openbsd
  Compiled at Jun 29 2011 16:46:07
  %ENV:
    PERL5LIB="/home/sts/cpansmoke/perl-5.14.1/cpan/build/XML-Flow-0.86-UHVmbL/blib/arch:/home/sts/cpansmoke/perl-5.14.1/cpan/build/XML-Flow-0.86-UHVmbL/blib/lib:/home/sts/cpansmoke/perl-5.14.1/cpan/build/XML-Writer-0.612-46nH71/blib/arch:/home/sts/cpansmoke/perl-5.14.1/cpan/build/XML-Writer-0.612-46nH71/blib/lib:/home/sts/cpansmoke/perl-5.14.1/cpan/build/libxml-perl-0.08-_YbAse/blib/arch:/home/sts/cpansmoke/perl-5.14.1/cpan/build/libxml-perl-0.08-_YbAse/blib/lib:/home/sts/cpansmoke/perl-5.14.1/cpan/build/Tie-UnionHash-0.02-WJeMWc/blib/arch:/home/sts/cpansmoke/perl-5.14.1/cpan/build/Tie-UnionHash-0.02-WJeMWc/blib/lib:/home/sts/cpansmoke/perl-5.14.1/cpan/build/XML-Filter-SAX1toSAX2-0.03-_PX2BI/blib/arch:/home/sts/cpansmoke/perl-5.14.1/cpan/build/XML-Filter-SAX1toSAX2-0.03-_PX2BI/blib/lib:/home/sts/cpansmoke/perl-5.14.1/cpan/build/XML-SAX-Writer-0.53-HW5x5Z/blib/arch:/home/sts/cpansmoke/perl-5.14.1/cpan/build/XML-SAX-Writer-0.53-HW5x5Z/blib/lib:/home/sts/cpansmoke/perl-5.14.1/cpan/build/XML-Filter-BufferText-1.01-OszJ4_/blib/arch:/home/sts/cpansmoke/perl-5.14.1/cpan/build/XML-Filter-BufferText-1.01-OszJ4_/blib/lib:/home/sts/cpansmoke/perl-5.14.1/cpan/build/Test-Class-0.36-QEfUR9/blib/arch:/home/sts/cpansmoke/perl-5.14.1/cpan/build/Test-Class-0.36-QEfUR9/blib/lib:/home/sts/cpansmoke/perl-5.14.1/cpan/build/MRO-Compat-0.11-wq8L6h/blib/arch:/home/sts/cpansmoke/perl-5.14.1/cpan/build/MRO-Compat-0.11-wq8L6h/blib/lib"
    PERL5OPT=""
    PERL5_CPANPLUS_IS_RUNNING="9238"
    PERL5_CPAN_IS_RUNNING="9238"
    PERL5_CPAN_IS_RUNNING_IN_RECURSION="26101,9238"
    PERL_CR_SMOKER_CURRENT="Perl6-Pod-Lib-0.07"
    PERL_EXTUTILS_AUTOINSTALL="--defaultdeps"
    PERL_MM_USE_DEFAULT="1"
  @INC:
    /home/sts/cpansmoke/perl-5.14.1/cpan/build/XML-Flow-0.86-UHVmbL/blib/arch
    /home/sts/cpansmoke/perl-5.14.1/cpan/build/XML-Flow-0.86-UHVmbL/blib/lib
    /home/sts/cpansmoke/perl-5.14.1/cpan/build/XML-Writer-0.612-46nH71/blib/arch
    /home/sts/cpansmoke/perl-5.14.1/cpan/build/XML-Writer-0.612-46nH71/blib/lib
    /home/sts/cpansmoke/perl-5.14.1/cpan/build/libxml-perl-0.08-_YbAse/blib/arch
    /home/sts/cpansmoke/perl-5.14.1/cpan/build/libxml-perl-0.08-_YbAse/blib/lib
    /home/sts/cpansmoke/perl-5.14.1/cpan/build/Tie-UnionHash-0.02-WJeMWc/blib/arch
    /home/sts/cpansmoke/perl-5.14.1/cpan/build/Tie-UnionHash-0.02-WJeMWc/blib/lib
    /home/sts/cpansmoke/perl-5.14.1/cpan/build/XML-Filter-SAX1toSAX2-0.03-_PX2BI/blib/arch
    /home/sts/cpansmoke/perl-5.14.1/cpan/build/XML-Filter-SAX1toSAX2-0.03-_PX2BI/blib/lib
    /home/sts/cpansmoke/perl-5.14.1/cpan/build/XML-SAX-Writer-0.53-HW5x5Z/blib/arch
    /home/sts/cpansmoke/perl-5.14.1/cpan/build/XML-SAX-Writer-0.53-HW5x5Z/blib/lib
    /home/sts/cpansmoke/perl-5.14.1/cpan/build/XML-Filter-BufferText-1.01-OszJ4_/blib/arch
    /home/sts/cpansmoke/perl-5.14.1/cpan/build/XML-Filter-BufferText-1.01-OszJ4_/blib/lib
    /home/sts/cpansmoke/perl-5.14.1/cpan/build/Test-Class-0.36-QEfUR9/blib/arch
    /home/sts/cpansmoke/perl-5.14.1/cpan/build/Test-Class-0.36-QEfUR9/blib/lib
    /home/sts/cpansmoke/perl-5.14.1/cpan/build/MRO-Compat-0.11-wq8L6h/blib/arch
    /home/sts/cpansmoke/perl-5.14.1/cpan/build/MRO-Compat-0.11-wq8L6h/blib/lib
    /home/sts/cpansmoke/perl-5.14.1/lib/site_perl/5.14.1/OpenBSD.i386-openbsd-thread-multi
    /home/sts/cpansmoke/perl-5.14.1/lib/site_perl/5.14.1
    /home/sts/cpansmoke/perl-5.14.1/lib/5.14.1/OpenBSD.i386-openbsd-thread-multi
    /home/sts/cpansmoke/perl-5.14.1/lib/5.14.1
    .