Back
From: metabase:user:0b91ce32-3676-11e1-a1bc-bfed0df65b4f
Subject: PASS Fey-SQL-Pg-0.005 v5.17.1 GNU/Linux
Date: 2012-08-03T09:10:09Z
This distribution has been tested as part of the CPAN Testers
project, supporting the Perl programming language. See
http://wiki.cpantesters.org/ for more information or email
questions to cpan-testers-discuss@perl.org
--
Dear Oliver Charles,
This is a computer-generated report for Fey-SQL-Pg-0.005
on perl 5.17.1, created by CPAN-Reporter-1.2006.
Thank you for uploading your work to CPAN. Congratulations!
All tests were successful.
Sections of this report:
* Tester comments
* Program output
* Prerequisites
* Environment and other context
------------------------------
TESTER COMMENTS
------------------------------
Additional comments from tester:
this report is from an automated smoke testing program
and was not reviewed by a human for accuracy
------------------------------
PROGRAM OUTPUT
------------------------------
Output from '/usr/bin/make test':
PERL_DL_NONLAZY=1 /opt/perl32-5.17.1/bin/perl "-MExtUtils::Command::MM" "-e" "test_harness(0, 'blib/lib', 'blib/arch')" t/*.t
[02:10:00] t/delete.t ................ ok 3685 ms
[02:10:04] t/insert.t ................ ok 3642 ms
[02:10:04] t/release-no-tabs.t ....... ok 122 ms
# Fey::SQL::Pg: no public symbols defined
# Fey::SQL::Pg::Insert: no public symbols defined
# Fey::SQL::Pg::Delete: no public symbols defined
# Fey::SQL::Pg::Role::Returning: no public symbols defined
[02:10:07] t/release-pod-coverage.t .. ok 3040 ms
[02:10:07] t/release-pod-syntax.t .... ok 220 ms
[02:10:07]
All tests successful.
Files=5, Tests=33, 11 wallclock secs ( 0.09 usr 0.03 sys + 10.32 cusr 0.30 csys = 10.74 CPU)
Result: PASS
------------------------------
PREREQUISITES
------------------------------
Prerequisite modules loaded:
requires:
Module Need Have
-------------------------- ---- ------
! Fey::SQL 0.34 broken
Method::Signatures::Simple 0.05 1.02
! Moose 0.90 broken
! MooseX::Params::Validate 0.13 broken
! MooseX::StrictConstructor 0.08 broken
namespace::autoclean 0.09 0.13
configure_requires:
Module Need Have
-------------------------- ---- ------
ExtUtils::MakeMaker 6.31 6.62
------------------------------
ENVIRONMENT AND OTHER CONTEXT
------------------------------
Environment variables:
AUTHOR_TESTING = 1
AUTOMATED_TESTING = 1
LANG = en_US.UTF-8
PATH = /usr/kerberos/sbin:/usr/kerberos/bin:/usr/local/sbin:/usr/local/bin:/sbin:/bin:/usr/sbin:/usr/bin:/opt/real/RealPlayer:/root/bin:/opt/real/RealPlayer
PERL5LIB =
PERL5OPT =
PERL5_CPANPLUS_IS_RUNNING = 25755
PERL5_CPAN_IS_RUNNING = 25755
PERL_ANYEVENT_LOOP_TESTS = 1
PERL_AUTOINSTALL_PREFER_CPAN = 1
PERL_EXTUTILS_AUTOINSTALL = -defaultdeps
PERL_MM_USE_DEFAULT = 1
PERL_TEST_HARNESS_DUMP_TAP = 1
PERL_VALIDATION = 1
SHELL = /bin/bash
TERM = xterm
Perl special variables (and OS-specific diagnostics, for MSWin32):
$^X = /opt/perl32-5.17.1/bin/perl
$UID/$EUID = 0 / 0
$GID = 0 0 1 2 3 4 6 10
$EGID = 0 0 1 2 3 4 6 10
Perl module toolchain versions installed:
Module Have
------------------- --------
CPAN 1.9800
CPAN::Meta 2.120921
Cwd 3.33
ExtUtils::CBuilder 0.280205
ExtUtils::Command 1.17
ExtUtils::Install 1.54
ExtUtils::MakeMaker 6.62
ExtUtils::Manifest 1.60
ExtUtils::ParseXS 3.15
File::Spec 3.33
JSON 2.53
JSON::PP 2.27200
Module::Build 0.4002
Module::Signature 0.68
Parse::CPAN::Meta 1.4404
Test::Harness 3.25
Test::More 0.98
YAML 0.84
YAML::Syck 1.20
version 0.99
--
Summary of my perl5 (revision 5 version 17 subversion 1) configuration:
Platform:
osname=linux, osvers=2.6.18-1.2798.fc6, archname=i686-linux
uname='linux localhost.localdomain 2.6.18-1.2798.fc6 #1 smp mon oct 16 14:37:32 edt 2006 i686 i686 i386 gnulinux '
config_args='-Dcc=gcc -Dprefix=/opt/perl32-5.17.1'
hint=recommended, useposix=true, d_sigaction=define
useithreads=undef, usemultiplicity=undef
useperlio=define, d_sfio=undef, uselargefiles=undef, usesocks=undef
use64bitint=undef, use64bitall=undef, uselongdouble=undef
usemymalloc=n, bincompat5005=undef
Compiler:
cc='gcc', ccflags ='-fno-strict-aliasing -pipe -fstack-protector -I/usr/local/include',
optimize='-O2',
cppflags='-fno-strict-aliasing -pipe -fstack-protector -I/usr/local/include'
ccversion='', gccversion='4.1.1 20061011 (Red Hat 4.1.1-30)', gccosandvers=''
intsize=4, longsize=4, ptrsize=4, doublesize=8, byteorder=1234
d_longlong=define, longlongsize=8, d_longdbl=define, longdblsize=12
ivtype='long', ivsize=4, nvtype='double', nvsize=8, Off_t='off_t', lseeksize=4
alignbytes=4, prototype=define
Linker and Libraries:
ld='gcc', ldflags =' -fstack-protector -L/usr/local/lib'
libpth=/usr/local/lib /lib /usr/lib
libs=-lnsl -lgdbm -ldb -ldl -lm -lcrypt -lutil -lc
perllibs=-lnsl -ldl -lm -lcrypt -lutil -lc
libc=/lib/libc-2.5.so, so=so, useshrplib=false, libperl=libperl.a
gnulibc_version='2.5'
Dynamic Linking:
dlsrc=dl_dlopen.xs, dlext=so, d_dlsymun=undef, ccdlflags='-Wl,-E'
cccdlflags='-fPIC', lddlflags='-shared -O2 -L/usr/local/lib -fstack-protector'
Characteristics of this binary (from libperl):
Compile-time options: HAS_TIMES PERLIO_LAYERS PERL_DONT_CREATE_GVSV
PERL_MALLOC_WRAP PERL_PRESERVE_IVUV USE_LOCALE
USE_LOCALE_COLLATE USE_LOCALE_CTYPE
USE_LOCALE_NUMERIC USE_PERLIO USE_PERL_ATOF
Built under linux
Compiled at Jul 2 2012 08:13:36
%ENV:
PERL5LIB=""
PERL5OPT=""
PERL5_CPANPLUS_IS_RUNNING="25755"
PERL5_CPAN_IS_RUNNING="25755"
PERL_ANYEVENT_LOOP_TESTS="1"
PERL_AUTOINSTALL_PREFER_CPAN="1"
PERL_EXTUTILS_AUTOINSTALL="-defaultdeps"
PERL_MM_USE_DEFAULT="1"
PERL_TEST_HARNESS_DUMP_TAP="1"
PERL_VALIDATION="1"
@INC:
/opt/perl32-5.17.1/lib/site_perl/5.17.1/i686-linux
/opt/perl32-5.17.1/lib/site_perl/5.17.1
/opt/perl32-5.17.1/lib/5.17.1/i686-linux
/opt/perl32-5.17.1/lib/5.17.1
.