Report for Sort-DataTypes-2.06

Back
From: metabase:user:31dd1d2e-2aae-11df-837a-5e0a49663a4f
Subject: PASS Sort-DataTypes-2.06 v5.10.1 
Date: 2010-09-16T12:09:05Z

This distribution has been tested as part of the CPAN Testers
project, supporting the Perl programming language.  See
http://wiki.cpantesters.org/ for more information or email
questions to cpan-testers-discuss@perl.org


--
Dear Sullivan Beck,

This is a computer-generated report for Sort-DataTypes-2.06
on perl 5.10.1, created by CPAN-Reporter-1.18.

Thank you for uploading your work to CPAN.  Congratulations!
All tests were successful.

Sections of this report:

    * Tester comments
    * Program output
    * Prerequisites
    * Environment and other context

------------------------------
TESTER COMMENTS
------------------------------

Additional comments from tester:

this report is from an automated smoke testing program
and was not reviewed by a human for accuracy

------------------------------
PROGRAM OUTPUT
------------------------------

Output from 'C:\Perl\bin\perl.exe ./Build test':

Set up gcc environment - 3.4.5 (mingw-vista special r3)
Set up gcc environment - 3.4.5 (mingw-vista special r3)
Set up gcc environment - 3.4.5 (mingw-vista special r3)
t\alphabetic.t ........... ok
t\alphabetic_hash.t ...... ok
t\alphabetic_rev.t ....... ok
t\alphabetic_rev_hash.t .. ok
t\date.t ................. ok
t\date_hash.t ............ ok
t\date_rev.t ............. ok
t\date_rev_hash.t ........ ok
t\domain.t ............... ok
t\domain_hash.t .......... ok
t\domain_rev.t ........... ok
t\domain_rev_hash.t ...... ok
t\function.t ............. ok
t\ip.t ................... ok
t\ip_hash.t .............. ok
t\ip_rev.t ............... ok
t\ip_rev_hash.t .......... ok
t\length.t ............... ok
t\length_hash.t .......... ok
t\length_rev.t ........... ok
t\length_rev_hash.t ...... ok
t\line.t ................. ok
t\line_hash.t ............ ok
t\line_rev.t ............. ok
t\line_rev_hash.t ........ ok
t\numdomain.t ............ ok
t\numdomain_hash.t ....... ok
t\numdomain_rev.t ........ ok
t\numdomain_rev_hash.t ... ok
t\numerical.t ............ ok
t\numerical_hash.t ....... ok
t\numerical_rev.t ........ ok
t\numerical_rev_hash.t ... ok
t\numline.t .............. ok
t\numline_hash.t ......... ok
t\numline_rev.t .......... ok
t\numline_rev_hash.t ..... ok
t\numpath.t .............. ok
t\numpath_hash.t ......... ok
t\numpath_rev.t .......... ok
t\numpath_rev_hash.t ..... ok
t\path.t ................. ok
t\path_hash.t ............ ok
t\path_rev.t ............. ok
t\path_rev_hash.t ........ ok
t\pod.t .................. ok
t\pod_coverage.t ......... ok
t\sort.t ................. ok
t\valid_method.t ......... ok
t\version.t .............. ok
t\version_hash.t ......... ok
t\version_rev.t .......... ok
t\version_rev_hash.t ..... ok
All tests successful.
Files=53, Tests=172,  8 wallclock secs ( 0.11 usr +  0.00 sys =  0.11 CPU)
Result: PASS

------------------------------
PREREQUISITES
------------------------------

Prerequisite modules loaded:

requires:

    Module              Need  Have    
    ------------------- ----- --------
    Date::Manip         0     6.11    
    Exporter            0     5.63    
    perl                5.000 5.010001

build_requires:

    Module              Need  Have    
    ------------------- ----- --------
    Test::Inter         0     1.01    
    Test::Pod           0     1.44    
    Test::Pod::Coverage 0     1.08    

configure_requires:

    Module              Need  Have    
    ------------------- ----- --------
    Module::Build       0.36  0.3601  


------------------------------
ENVIRONMENT AND OTHER CONTEXT
------------------------------

Environment variables:

    AUTOMATED_TESTING = 1
    COMSPEC = C:\Windows\system32\cmd.exe
    NUMBER_OF_PROCESSORS = 2
    PATH = C:\Perl64\site\bin;C:\Perl64\bin;c:\Program Files (x86)\NVIDIA Corporation\PhysX\Common;C:\Program Files (x86)\PC Connectivity Solution\;C:\Ruby\bin;C:\Program Files (x86)\ActiveState Komodo IDE 5\;C:\Perl\site\bin;C:\Perl\bin;C:\Windows\system32;C:\Windows;C:\Windows\System32\Wbem;C:\Windows\System32\WindowsPowerShell\v1.0\;C:\strawberry\c\bin;C:\strawberry\perl\bin;C:\Program Files (x86)\TortoiseSVN\bin;c:\Python26\Scripts;C:\strawberry\perl\site\bin;C:\Program Files (x86)\IDM Computer Solutions\UltraEdit\
    PERL5LIB = C:\Perl\cpan\build\Test-Pod-1.44-66KFta/blib/arch;C:\Perl\cpan\build\Test-Pod-1.44-66KFta/blib/lib;C:\Perl\cpan\build\Devel-Symdump-2.08-PnHfsl/blib/arch;C:\Perl\cpan\build\Devel-Symdump-2.08-PnHfsl/blib/lib;C:\Perl\cpan\build\Date-Manip-6.11-pW2YwS/blib/arch;C:\Perl\cpan\build\Date-Manip-6.11-pW2YwS/blib/lib;C:\Perl\cpan\build\Test-Pod-Coverage-1.08-JA9pyf/blib/arch;C:\Perl\cpan\build\Test-Pod-Coverage-1.08-JA9pyf/blib/lib;C:\Perl\cpan\build\Pod-Coverage-0.21-CJ5jgH/blib/arch;C:\Perl\cpan\build\Pod-Coverage-0.21-CJ5jgH/blib/lib;C:\Perl\cpan\build\Test-Inter-1.01-Wy819I/blib/arch;C:\Perl\cpan\build\Test-Inter-1.01-Wy819I/blib/lib
    PERL5OPT = 
    PERL5_CPANPLUS_IS_RUNNING = 1072
    PERL5_CPAN_IS_RUNNING = 1072
    PERL5_CPAN_IS_RUNNING_IN_RECURSION = 2216,1072
    PERL_CR_SMOKER_CURRENT = Sort-DataTypes-2.06
    PERL_EXTUTILS_AUTOINSTALL = --defaultdeps
    PERL_MM_USE_DEFAULT = 1
    PROCESSOR_IDENTIFIER = AMD64 Family 16 Model 4 Stepping 2, AuthenticAMD
    TEMP = C:\Users\Mithaldu\AppData\Local\Temp
    TERM = dumb

Perl special variables (and OS-specific diagnostics, for MSWin32):

    $^X = C:\Perl\bin\perl.exe
    $UID/$EUID = 0 / 0
    $GID = 0
    $EGID = 0
    Win32::GetOSName = Win7
    Win32::GetOSVersion = , 6, 1, 7600, 2, 0, 0, 256, 1
    Win32::FsType = NTFS
    Win32::IsAdminUser = 0

Perl module toolchain versions installed:

    Module              Have   
    ------------------- -------
    CPAN                1.9402 
    Cwd                 3.31   
    ExtUtils::CBuilder  0.27   
    ExtUtils::Command   1.16   
    ExtUtils::Install   1.54_01
    ExtUtils::MakeMaker 6.55_02
    ExtUtils::Manifest  1.58   
    ExtUtils::ParseXS   2.22   
    File::Spec          3.31   
    Module::Build       0.3601 
    Module::Signature   n/a    
    Test::Harness       3.17   
    Test::More          0.94   
    YAML                n/a    
    YAML::Syck          1.14   
    version             0.78   


--

Summary of my perl5 (revision 5 version 10 subversion 1) configuration:
   
  Platform:
    osname=MSWin32, osvers=5.00, archname=MSWin32-x86-multi-thread
    uname=''
    config_args='undef'
    hint=recommended, useposix=true, d_sigaction=undef
    useithreads=define, usemultiplicity=define
    useperlio=define, d_sfio=undef, uselargefiles=define, usesocks=undef
    use64bitint=undef, use64bitall=undef, uselongdouble=undef
    usemymalloc=n, bincompat5005=undef
  Compiler:
    cc='C:/Perl/site/bin/gcc.exe', ccflags ='-DNDEBUG -DWIN32 -D_CONSOLE -DNO_STRICT -DHAVE_DES_FCRYPT -DUSE_SITECUSTOMIZE -DPRIVLIB_LAST_IN_INC -DPERL_IMPLICIT_CONTEXT -DPERL_IMPLICIT_SYS -DUSE_PERLIO -DPERL_MSVCRT_READFIX -DHASATTRIBUTE -fno-strict-aliasing -mms-bitfields',
    optimize='-O2',
    cppflags='-DWIN32'
    ccversion='', gccversion='3.4.5 (mingw-vista special r3)', gccosandvers=''
    intsize=4, longsize=4, ptrsize=4, doublesize=8, byteorder=1234
    d_longlong=undef, longlongsize=8, d_longdbl=define, longdblsize=8
    ivtype='long', ivsize=4, nvtype='double', nvsize=8, Off_t='__int64', lseeksize=8
    alignbytes=8, prototype=define
  Linker and Libraries:
    ld='C:\Perl\site\bin\g++.exe', ldflags ='-L"C:\Perl\lib\CORE"'
    libpth=\lib
    libs=-lkernel32 -luser32 -lgdi32 -lwinspool -lcomdlg32 -ladvapi32 -lshell32 -lole32 -loleaut32 -lnetapi32 -luuid -lws2_32 -lmpr -lwinmm -lversion -lodbc32 -lodbccp32 -lcomctl32 -lmsvcrt
    perllibs=-lkernel32 -luser32 -lgdi32 -lwinspool -lcomdlg32 -ladvapi32 -lshell32 -lole32 -loleaut32 -lnetapi32 -luuid -lws2_32 -lmpr -lwinmm -lversion -lodbc32 -lodbccp32 -lcomctl32 -lmsvcrt
    libc=msvcrt.lib, so=dll, useshrplib=true, libperl=perl510.lib
    gnulibc_version=''
  Dynamic Linking:
    dlsrc=dl_win32.xs, dlext=dll, d_dlsymun=undef, ccdlflags=' '
    cccdlflags=' ', lddlflags='-mdll -L"C:\Perl\lib\CORE"'


Characteristics of this binary (from libperl): 
  Compile-time options: MULTIPLICITY PERL_DONT_CREATE_GVSV
                        PERL_IMPLICIT_CONTEXT PERL_IMPLICIT_SYS
                        PERL_MALLOC_WRAP PL_OP_SLAB_ALLOC USE_ITHREADS
                        USE_LARGE_FILES USE_PERLIO USE_SITECUSTOMIZE
  Locally applied patches:
	ActivePerl Build 1007 [291969]
	0abd0d disable non-unicode case insensitive trie matching
  Built under MSWin32
  Compiled at Jan 26 2010 23:15:11
  %ENV:
    PERL5LIB="C:\Perl\cpan\build\Test-Pod-1.44-66KFta/blib/arch;C:\Perl\cpan\build\Test-Pod-1.44-66KFta/blib/lib;C:\Perl\cpan\build\Devel-Symdump-2.08-PnHfsl/blib/arch;C:\Perl\cpan\build\Devel-Symdump-2.08-PnHfsl/blib/lib;C:\Perl\cpan\build\Date-Manip-6.11-pW2YwS/blib/arch;C:\Perl\cpan\build\Date-Manip-6.11-pW2YwS/blib/lib;C:\Perl\cpan\build\Test-Pod-Coverage-1.08-JA9pyf/blib/arch;C:\Perl\cpan\build\Test-Pod-Coverage-1.08-JA9pyf/blib/lib;C:\Perl\cpan\build\Pod-Coverage-0.21-CJ5jgH/blib/arch;C:\Perl\cpan\build\Pod-Coverage-0.21-CJ5jgH/blib/lib;C:\Perl\cpan\build\Test-Inter-1.01-Wy819I/blib/arch;C:\Perl\cpan\build\Test-Inter-1.01-Wy819I/blib/lib"
    PERL5_CPANPLUS_IS_RUNNING="1072"
    PERL5_CPAN_IS_RUNNING="1072"
    PERL5_CPAN_IS_RUNNING_IN_RECURSION="2216,1072"
    PERL_CR_SMOKER_CURRENT="Sort-DataTypes-2.06"
    PERL_EXTUTILS_AUTOINSTALL="--defaultdeps"
    PERL_MM_USE_DEFAULT="1"
  @INC:
    C:\Perl\cpan\build\Test-Pod-1.44-66KFta/blib/arch
    C:\Perl\cpan\build\Test-Pod-1.44-66KFta/blib/lib
    C:\Perl\cpan\build\Devel-Symdump-2.08-PnHfsl/blib/arch
    C:\Perl\cpan\build\Devel-Symdump-2.08-PnHfsl/blib/lib
    C:\Perl\cpan\build\Date-Manip-6.11-pW2YwS/blib/arch
    C:\Perl\cpan\build\Date-Manip-6.11-pW2YwS/blib/lib
    C:\Perl\cpan\build\Test-Pod-Coverage-1.08-JA9pyf/blib/arch
    C:\Perl\cpan\build\Test-Pod-Coverage-1.08-JA9pyf/blib/lib
    C:\Perl\cpan\build\Pod-Coverage-0.21-CJ5jgH/blib/arch
    C:\Perl\cpan\build\Pod-Coverage-0.21-CJ5jgH/blib/lib
    C:\Perl\cpan\build\Test-Inter-1.01-Wy819I/blib/arch
    C:\Perl\cpan\build\Test-Inter-1.01-Wy819I/blib/lib
    C:/Perl/site/lib
    C:/Perl/lib
    .