Test-Deep-UnorderedPairs v0.006 Perl 5 v5.8.4 x86_64-linux

Status
Pass
From
Nigel Horne
Dist
Test-Deep-UnorderedPairs v0.006
Platform
Perl 5 v5.8.4 x86_64-linux
Date
2019-06-27 10:33:38
ID
069c5792-98c7-11e9-8fa9-99a29f1e7dde
This distribution has been tested as part of the CPAN Testers
project, supporting the Perl programming language.  See
http://wiki.cpantesters.org/ for more information or email
questions to cpan-testers-discuss@perl.org


--
Dear Karen Etheridge,

This is a computer-generated report for Test-Deep-UnorderedPairs-0.006
on perl 5.8.4, created by CPAN-Reporter-1.2018.

Thank you for uploading your work to CPAN.  Congratulations!
All tests were successful.

Sections of this report:

    * Tester comments
    * Program output
    * Prerequisites
    * Environment and other context

------------------------------
TESTER COMMENTS
------------------------------

Additional comments from tester:

this report is from an automated smoke testing program
and was not reviewed by a human for accuracy

------------------------------
PROGRAM OUTPUT
------------------------------

Output from '/usr/bin/make test':

PERL_DL_NONLAZY=1 "/home/njh/perl5/perlbrew/perls/perl-5.8.4/bin/perl" "-MExtUtils::Command::MM" "-MTest::Harness" "-e" "undef *Test::Harness::Switches; test_harness(0, 'blib/lib', 'blib/arch')" t/*.t
t/01-basic.t ........... ok
t/02-repeated-keys.t ... ok
# 
# Versions for all modules listed in MYMETA.json (including optional ones):
# 
# === Configure Requires ===
# 
#     Module              Want Have
#     ------------------- ---- ----
#     ExtUtils::MakeMaker  any 7.34
# 
# === Build Requires ===
# 
#     Module              Want Have
#     ------------------- ---- ----
#     ExtUtils::MakeMaker  any 7.34
# 
# === Test Requires ===
# 
#     Module              Want     Have
#     ------------------- ---- --------
#     ExtUtils::MakeMaker  any     7.34
#     File::Spec           any     3.75
#     Test::Deep           any    1.128
#     Test::Fatal          any    0.014
#     Test::More          0.88 1.302140
#     if                   any     0.03
#     lib                  any   0.5565
# 
# === Test Recommends ===
# 
#     Module         Want     Have
#     ---------- -------- --------
#     CPAN::Meta 2.120900 2.143240
# 
# === Runtime Requires ===
# 
#     Module                  Want  Have
#     ----------------------- ---- -----
#     Carp                     any  1.50
#     Exporter                5.57  5.58
#     Test::Deep::ArrayLength  any undef
#     Test::Deep::Cmp          any undef
#     Test::Deep::Set          any undef
#     parent                   any 0.237
#     strict                   any  1.03
#     warnings                 any  1.03
# 
# === Other Modules ===
# 
#     Module           Have
#     ------------- -------
#     JSON::PP      2.27203
#     Pod::Coverage missing
#     Sub::Name     missing
#     YAML          missing
#     autodie       missing
# 
t/00-report-prereqs.t .. ok
All tests successful.
Files=3, Tests=15,  1 wallclock secs ( 0.04 usr  0.00 sys +  0.67 cusr  0.07 csys =  0.78 CPU)
Result: PASS

------------------------------
PREREQUISITES
------------------------------

Prerequisite modules loaded:

requires:

    Module                  Need  Have    
    ----------------------- ----- --------
    Carp                    0     1.50    
    Exporter                5.57  5.58    
    parent                  0     0.237   
    perl                    5.006 5.008004
    strict                  0     1.03    
    Test::Deep::ArrayLength 0     0       
    Test::Deep::Cmp         0     0       
    Test::Deep::Set         0     0       
    warnings                0     1.03    

build_requires:

    Module                  Need  Have    
    ----------------------- ----- --------
    ExtUtils::MakeMaker     0     7.34    
    File::Spec              0     3.75    
    if                      0     0.03    
    lib                     0     0.5565  
    Test::Deep              0     1.128   
    Test::Fatal             0     0.014   
    Test::More              0.88  1.302140

configure_requires:

    Module                  Need  Have    
    ----------------------- ----- --------
    ExtUtils::MakeMaker     0     7.34    
    perl                    5.006 5.008004


------------------------------
ENVIRONMENT AND OTHER CONTEXT
------------------------------

Environment variables:

    AUTOMATED_TESTING = 1
    HARNESS_OPTIONS = j2
    LANG = en_US.UTF-8
    PATH = /home/njh/perl5/perlbrew/bin:/home/njh/perl5/perlbrew/perls/perl-5.8.4/bin:/home/njh/src/njh/smoker/bin:/usr/bin:/bin
    PERL5LIB = /tmp/build/Package-Stash-0.38-9/blib/arch:/tmp/build/Package-Stash-0.38-9/blib/lib:/tmp/build/Package-Stash-XS-0.29-9/blib/arch:/tmp/build/Package-Stash-XS-0.29-9/blib/lib:/tmp/build/Module-Implementation-0.09-11/blib/arch:/tmp/build/Module-Implementation-0.09-11/blib/lib:/tmp/build/Dist-CheckConflicts-0.11-9/blib/arch:/tmp/build/Dist-CheckConflicts-0.11-9/blib/lib:/tmp/build/Module-Runtime-0.016-8/blib/arch:/tmp/build/Module-Runtime-0.016-8/blib/lib:/tmp/build/Class-Method-Modifiers-2.12-29/blib/arch:/tmp/build/Class-Method-Modifiers-2.12-29/blib/lib
    PERL5OPT = 
    PERL5_CPANPLUS_IS_RUNNING = 32367
    PERL5_CPAN_IS_RUNNING = 32367
    PERL5_CPAN_IS_RUNNING_IN_RECURSION = 32350,32367
    PERLBREW_HOME = /home/njh/.perlbrew
    PERLBREW_MANPATH = /home/njh/perl5/perlbrew/perls/perl-5.8.4/man
    PERLBREW_PATH = /home/njh/perl5/perlbrew/bin:/home/njh/perl5/perlbrew/perls/perl-5.8.4/bin
    PERLBREW_PERL = perl-5.8.4
    PERLBREW_ROOT = /home/njh/perl5/perlbrew
    PERLBREW_SHELLRC_VERSION = 0.86
    PERLBREW_VERSION = 0.86
    PERL_USE_UNSAFE_INC = 1
    SHELL = /bin/sh
    TEMP = /tmp/user/1000
    TMPDIR = /tmp/user/1000/testwrapper.32353

Perl special variables (and OS-specific diagnostics, for MSWin32):

    $^X = /home/njh/perl5/perlbrew/perls/perl-5.8.4/bin/perl
    $UID/$EUID = 1000 / 1000
    $GID = 1000 1000 996 123 115 108 103 46 44 30 29 25 24 4
    $EGID = 1000 1000 996 123 115 108 103 46 44 30 29 25 24 4

Perl module toolchain versions installed:

    Module              Have    
    ------------------- --------
    CPAN                2.25    
    CPAN::Meta          2.143240
    Cwd                 3.75    
    ExtUtils::CBuilder  0.280230
    ExtUtils::Command   7.34    
    ExtUtils::Install   2.06    
    ExtUtils::MakeMaker 7.34    
    ExtUtils::Manifest  1.70    
    ExtUtils::ParseXS   3.35    
    File::Spec          3.75    
    JSON                4.02    
    JSON::PP            2.27203 
    Module::Build       0.4224  
    Module::Signature   n/a     
    Parse::CPAN::Meta   1.4414  
    Test::Harness       3.42    
    Test::More          1.302140
    YAML                n/a     
    YAML::Syck          1.31    
    version             0.9924  


--

Summary of my perl5 (revision 5 version 8 subversion 4) configuration:
  Platform:
    osname=linux, osvers=4.16.0-2-amd64, archname=x86_64-linux
    uname='linux amelia 4.16.0-2-amd64 #1 smp debian 4.16.16-2 (2018-06-22) x86_64 gnulinux '
    config_args='-de -Dprefix=/home/njh/perl5/perlbrew/perls/perl-5.8.4 -Aeval:scriptdir=/home/njh/perl5/perlbrew/perls/perl-5.8.4/bin'
    hint=recommended, useposix=true, d_sigaction=define
    usethreads=undef use5005threads=undef useithreads=undef usemultiplicity=undef
    useperlio=define d_sfio=undef uselargefiles=define usesocks=undef
    use64bitint=define use64bitall=define uselongdouble=undef
    usemymalloc=n, bincompat5005=undef
  Compiler:
    cc='cc', ccflags ='-fno-strict-aliasing -I/usr/local/include -D_LARGEFILE_SOURCE -D_FILE_OFFSET_BITS=64',
    optimize='-O2',
    cppflags='-fno-strict-aliasing -I/usr/local/include'
    ccversion='', gccversion='8.2.0', gccosandvers=''
    intsize=4, longsize=8, ptrsize=8, doublesize=8, byteorder=12345678
    d_longlong=define, longlongsize=8, d_longdbl=define, longdblsize=16
    ivtype='long', ivsize=8, nvtype='double', nvsize=8, Off_t='off_t', lseeksize=8
    alignbytes=8, prototype=define
  Linker and Libraries:
    ld='cc', ldflags =' -L/usr/local/lib'
    libpth=/usr/local/lib /lib/x86_64-linux-gnu /lib/../lib /usr/lib/x86_64-linux-gnu /usr/lib/../lib /lib /usr/lib
    libs=-lnsl -lgdbm -ldb -ldl -lm -lcrypt -lutil -lc
    perllibs=-lnsl -ldl -lm -lcrypt -lutil -lc
    libc=libc-2.27.so, so=so, useshrplib=false, libperl=libperl.a
    gnulibc_version='2.27'
  Dynamic Linking:
    dlsrc=dl_dlopen.xs, dlext=so, d_dlsymun=undef, ccdlflags='-Wl,-E'
    cccdlflags='-fpic', lddlflags='-shared -L/usr/local/lib'


Characteristics of this binary (from libperl): 
  Compile-time options: USE_64_BIT_INT USE_64_BIT_ALL USE_LARGE_FILES
  Locally applied patches:
  	Devel::PatchPerl 1.48
  Built under linux
  Compiled at Sep 16 2018 00:33:02
  %ENV:
    PERL5LIB="/tmp/build/Package-Stash-0.38-9/blib/arch:/tmp/build/Package-Stash-0.38-9/blib/lib:/tmp/build/Package-Stash-XS-0.29-9/blib/arch:/tmp/build/Package-Stash-XS-0.29-9/blib/lib:/tmp/build/Module-Implementation-0.09-11/blib/arch:/tmp/build/Module-Implementation-0.09-11/blib/lib:/tmp/build/Dist-CheckConflicts-0.11-9/blib/arch:/tmp/build/Dist-CheckConflicts-0.11-9/blib/lib:/tmp/build/Module-Runtime-0.016-8/blib/arch:/tmp/build/Module-Runtime-0.016-8/blib/lib:/tmp/build/Class-Method-Modifiers-2.12-29/blib/arch:/tmp/build/Class-Method-Modifiers-2.12-29/blib/lib"
    PERL5OPT=""
    PERL5_CPANPLUS_IS_RUNNING="32367"
    PERL5_CPAN_IS_RUNNING="32367"
    PERL5_CPAN_IS_RUNNING_IN_RECURSION="32350,32367"
    PERLBREW_HOME="/home/njh/.perlbrew"
    PERLBREW_MANPATH="/home/njh/perl5/perlbrew/perls/perl-5.8.4/man"
    PERLBREW_PATH="/home/njh/perl5/perlbrew/bin:/home/njh/perl5/perlbrew/perls/perl-5.8.4/bin"
    PERLBREW_PERL="perl-5.8.4"
    PERLBREW_ROOT="/home/njh/perl5/perlbrew"
    PERLBREW_SHELLRC_VERSION="0.86"
    PERLBREW_VERSION="0.86"
    PERL_USE_UNSAFE_INC="1"
  @INC:
    /tmp/build/Package-Stash-0.38-9/blib/arch
    /tmp/build/Package-Stash-0.38-9/blib/lib
    /tmp/build/Package-Stash-XS-0.29-9/blib/arch
    /tmp/build/Package-Stash-XS-0.29-9/blib/lib
    /tmp/build/Module-Implementation-0.09-11/blib/arch
    /tmp/build/Module-Implementation-0.09-11/blib/lib
    /tmp/build/Dist-CheckConflicts-0.11-9/blib/arch
    /tmp/build/Dist-CheckConflicts-0.11-9/blib/lib
    /tmp/build/Module-Runtime-0.016-8/blib/arch
    /tmp/build/Module-Runtime-0.016-8/blib/lib
    /tmp/build/Class-Method-Modifiers-2.12-29/blib/arch
    /tmp/build/Class-Method-Modifiers-2.12-29/blib/lib
    /home/njh/perl5/perlbrew/perls/perl-5.8.4/lib/5.8.4/x86_64-linux
    /home/njh/perl5/perlbrew/perls/perl-5.8.4/lib/5.8.4
    /home/njh/perl5/perlbrew/perls/perl-5.8.4/lib/site_perl/5.8.4/x86_64-linux
    /home/njh/perl5/perlbrew/perls/perl-5.8.4/lib/site_perl/5.8.4
    /home/njh/perl5/perlbrew/perls/perl-5.8.4/lib/site_perl
    .