Net-Upwork-API v1.3.5 Perl 5 v5.30.2 x86_64-linux
- Status
- Pass
- From
- Slaven Rezić
- Dist
-
Net-Upwork-API v1.3.5
- Platform
- Perl 5 v5.30.2 x86_64-linux
- Date
- 2021-06-25 11:18:11
- ID
- 06b86f30-d5a7-11eb-901b-84731f24ea8f
This distribution has been tested as part of the CPAN Testers
project, supporting the Perl programming language. See
http://wiki.cpantesters.org/ for more information or email
questions to cpan-testers-discuss@perl.org
--
Dear Maksym Novozhylov,
This is a computer-generated report for Net-Upwork-API-1.3.5
on perl 5.30.2, created by CPAN-Reporter-1.2018.
Thank you for uploading your work to CPAN. Congratulations!
All tests were successful.
Sections of this report:
* Tester comments
* Program output
* Prerequisites
* Environment and other context
------------------------------
TESTER COMMENTS
------------------------------
Additional comments from tester:
none provided
------------------------------
PROGRAM OUTPUT
------------------------------
Output from './Build test':
t/0-signature.t ............................. ok
t/00.load.t ................................. ok
t/01.core_packages.t ........................ ok
t/02.routers_auth.t ......................... ok
t/03.routers_messages.t ..................... ok
t/04.routers_snapshot.t ..................... ok
t/05.routers_metadata.t ..................... ok
t/06.routers_payments.t ..................... ok
t/07.routers_workdays.t ..................... ok
t/08.routers_workdiary.t .................... ok
t/09.routers_activities_engagement.t ........ ok
t/10.routers_activities_team.t .............. ok
t/11.routers_freelancers_profile.t .......... ok
t/12.routers_freelancers_search.t ........... ok
t/13.routers_jobs_profile.t ................. ok
t/14.routers_jobs_search.t .................. ok
t/15.routers_organization_companies.t ....... ok
t/16.routers_organization_teams.t ........... ok
t/17.routers_organization_users.t ........... ok
t/18.routers_hr_contracts.t ................. ok
t/19.routers_hr_engagements.t ............... ok
t/20.routers_hr_interviews.t ................ ok
t/21.routers_hr_jobs.t ...................... ok
t/22.routers_hr_milestones.t ................ ok
t/23.routers_hr_submissions.t ............... ok
t/24.routers_hr_clients_applications.t ...... ok
t/25.routers_hr_clients_offers.t ............ ok
t/26.routers_hr_freelancers_offers.t ........ ok
t/27.routers_hr_freelancers_applications.t .. ok
t/28.routers_reports_time.t ................. ok
t/29.routers_reports_finance_accounts.t ..... ok
t/30.routers_reports_finance_billings.t ..... ok
t/31.routers_reports_finance_earnings.t ..... ok
All tests successful.
Files=33, Tests=177, 5 wallclock secs ( 0.13 usr 0.05 sys + 3.99 cusr 0.57 csys = 4.74 CPU)
Result: PASS
------------------------------
PREREQUISITES
------------------------------
Prerequisite modules loaded:
requires:
Module Need Have
--------------- ----- --------
IO::Socket::SSL 1.965 2.069
Net::OAuth 0.28 0.28
build_requires:
Module Need Have
--------------- ----- --------
Test::More 0.66 1.302183
Test::Warn 0.21 0.36
configure_requires:
Module Need Have
--------------- ----- --------
Module::Build 0.42 0.4231
------------------------------
ENVIRONMENT AND OTHER CONTEXT
------------------------------
Environment variables:
LANG = en_US.UTF-8
PATH = /usr/local/bin:/usr/bin:/bin:/usr/local/sbin:/usr/sbin:/sbin:/home/cpansand/bin/linux-gnu:/home/cpansand/bin/sh:/home/cpansand/bin:/usr/games:/home/cpansand/devel:/home/eserte/src/srezic-misc/scripts
PERL5LIB =
PERL5OPT =
PERL5_CPANPLUS_IS_RUNNING = 1522
PERL5_CPAN_IS_RUNNING = 1522
PERL5_CPAN_IS_RUNNING_IN_RECURSION = 28627,1522
PERLDOC = -MPod::Perldoc::ToTextOverstrike
PERL_BATCH = yes
PERL_CANARY_STABILITY_NOPROMPT = 1
PERL_CPAN_REPORTER_CONFIG = /var/tmp/cpansmoker-1023/2021062513/cpanreporter_000_config.ini
PERL_EXTUTILS_AUTOINSTALL = --defaultdeps
PERL_USE_UNSAFE_INC = 1
SHELL = /usr/bin/zsh
TERM = screen
TMPDIR = /var/tmp/cpansmoker-1023/2021062513
Perl special variables (and OS-specific diagnostics, for MSWin32):
$^X = /opt/perl-5.30.2/bin/perl
$UID/$EUID = 1023 / 1023
$GID = 1023 1023
$EGID = 1023 1023
Perl module toolchain versions installed:
Module Have
------------------- --------
CPAN 2.22
CPAN::Meta 2.150010
Cwd 3.78
ExtUtils::CBuilder 0.280231
ExtUtils::Command 7.58
ExtUtils::Install 2.20
ExtUtils::MakeMaker 7.58
ExtUtils::Manifest 1.72
ExtUtils::ParseXS 3.40
File::Spec 3.78
JSON 4.03
JSON::PP 4.06
Module::Build 0.4231
Module::Signature 0.83
Parse::CPAN::Meta 2.150010
Test::Harness 3.42
Test::More 1.302183
YAML 1.30
YAML::Syck 1.32
version 0.9927
--
Summary of my perl5 (revision 5 version 30 subversion 2) configuration:
Platform:
osname=linux
osvers=3.10.0-1062.12.1.el7.x86_64
archname=x86_64-linux
uname='linux cloud3.bbbike.org 3.10.0-1062.12.1.el7.x86_64 #1 smp tue feb 4 23:02:59 utc 2020 x86_64 x86_64 x86_64 gnulinux '
config_args='-ds -e -Dprefix=/opt/perl-5.30.2 -Dcf_email=srezic@cpan.org'
hint=recommended
useposix=true
d_sigaction=define
useithreads=undef
usemultiplicity=undef
use64bitint=define
use64bitall=define
uselongdouble=undef
usemymalloc=n
default_inc_excludes_dot=define
bincompat5005=undef
Compiler:
cc='cc'
ccflags ='-fwrapv -fno-strict-aliasing -pipe -fstack-protector-strong -I/usr/local/include -D_LARGEFILE_SOURCE -D_FILE_OFFSET_BITS=64 -D_FORTIFY_SOURCE=2'
optimize='-O2'
cppflags='-fwrapv -fno-strict-aliasing -pipe -fstack-protector-strong -I/usr/local/include'
ccversion=''
gccversion='4.8.5 20150623 (Red Hat 4.8.5-39)'
gccosandvers=''
intsize=4
longsize=8
ptrsize=8
doublesize=8
byteorder=12345678
doublekind=3
d_longlong=define
longlongsize=8
d_longdbl=define
longdblsize=16
longdblkind=3
ivtype='long'
ivsize=8
nvtype='double'
nvsize=8
Off_t='off_t'
lseeksize=8
alignbytes=8
prototype=define
Linker and Libraries:
ld='cc'
ldflags =' -fstack-protector-strong -L/usr/local/lib'
libpth=/usr/local/lib /usr/lib /lib/../lib64 /usr/lib/../lib64 /lib /lib64 /usr/lib64 /usr/local/lib64
libs=-lpthread -lnsl -lgdbm -ldb -ldl -lm -lcrypt -lutil -lc -lgdbm_compat
perllibs=-lpthread -lnsl -ldl -lm -lcrypt -lutil -lc
libc=libc-2.17.so
so=so
useshrplib=false
libperl=libperl.a
gnulibc_version='2.17'
Dynamic Linking:
dlsrc=dl_dlopen.xs
dlext=so
d_dlsymun=undef
ccdlflags='-Wl,-E'
cccdlflags='-fPIC'
lddlflags='-shared -O2 -L/usr/local/lib -fstack-protector-strong'
Characteristics of this binary (from libperl):
Compile-time options:
HAS_TIMES
PERLIO_LAYERS
PERL_COPY_ON_WRITE
PERL_DONT_CREATE_GVSV
PERL_MALLOC_WRAP
PERL_OP_PARENT
PERL_PRESERVE_IVUV
USE_64_BIT_ALL
USE_64_BIT_INT
USE_LARGE_FILES
USE_LOCALE
USE_LOCALE_COLLATE
USE_LOCALE_CTYPE
USE_LOCALE_NUMERIC
USE_LOCALE_TIME
USE_PERLIO
USE_PERL_ATOF
Built under linux
Compiled at Mar 14 2020 22:35:05
%ENV:
PERL5LIB=""
PERL5OPT=""
PERL5_CPANPLUS_IS_RUNNING="1522"
PERL5_CPAN_IS_RUNNING="1522"
PERL5_CPAN_IS_RUNNING_IN_RECURSION="28627,1522"
PERLDOC="-MPod::Perldoc::ToTextOverstrike"
PERL_BATCH="yes"
PERL_CANARY_STABILITY_NOPROMPT="1"
PERL_CPAN_REPORTER_CONFIG="/var/tmp/cpansmoker-1023/2021062513/cpanreporter_000_config.ini"
PERL_EXTUTILS_AUTOINSTALL="--defaultdeps"
PERL_USE_UNSAFE_INC="1"
@INC:
/opt/perl-5.30.2/lib/site_perl/5.30.2/x86_64-linux
/opt/perl-5.30.2/lib/site_perl/5.30.2
/opt/perl-5.30.2/lib/5.30.2/x86_64-linux
/opt/perl-5.30.2/lib/5.30.2
.