Math-Float128 v0.16 Perl 5 v5.35.6 x86_64-linux-thread-multi

Status
Pass
From
Andreas J. König (ANDK)
Dist
Math-Float128 v0.16
Platform
Perl 5 v5.35.6 x86_64-linux-thread-multi
Date
2022-04-28 13:28:01
ID
06bedc20-c6f7-11ec-a0ec-192d49f44c72
This distribution has been tested as part of the CPAN Testers
project, supporting the Perl programming language.  See
http://wiki.cpantesters.org/ for more information or email
questions to cpan-testers-discuss@perl.org


--
Dear Sisyphus,

This is a computer-generated report for Math-Float128-0.16
on perl 5.35.6, created by CPAN-Reporter-1.2018.

Thank you for uploading your work to CPAN.  Congratulations!
All tests were successful.

Sections of this report:

    * Tester comments
    * Program output
    * Prerequisites
    * Environment and other context

------------------------------
TESTER COMMENTS
------------------------------

Additional comments from tester:

this report is from an automated smoke testing program
and was not reviewed by a human for accuracy

------------------------------
PROGRAM OUTPUT
------------------------------

Output from '/usr/bin/make test':

"/home/sand/src/perl/repoperls/installed-perls/host/k93msid/v5.35.6/1e0c/bin/perl" -MExtUtils::Command::MM -e 'cp_nonempty' -- Float128.bs blib/arch/auto/Math/Float128/Float128.bs 644
make[1]: Entering directory '/tmp/loop_over_bdir-3662940-hIwoJx/Math-Float128-0.16-0/Constant'
"/home/sand/src/perl/repoperls/installed-perls/host/k93msid/v5.35.6/1e0c/bin/perl" -MExtUtils::Command::MM -e 'cp_nonempty' -- Constant.bs ../blib/arch/auto/Math/Float128/Constant/Constant.bs 644
make[1]: Leaving directory '/tmp/loop_over_bdir-3662940-hIwoJx/Math-Float128-0.16-0/Constant'
make[1]: Entering directory '/tmp/loop_over_bdir-3662940-hIwoJx/Math-Float128-0.16-0/Constant'
"/home/sand/src/perl/repoperls/installed-perls/host/k93msid/v5.35.6/1e0c/bin/perl" -MExtUtils::Command::MM -e 'cp_nonempty' -- Constant.bs ../blib/arch/auto/Math/Float128/Constant/Constant.bs 644
No tests defined for Math::Float128::Constant extension.
make[1]: Leaving directory '/tmp/loop_over_bdir-3662940-hIwoJx/Math-Float128-0.16-0/Constant'
PERL_DL_NONLAZY=1 "/home/sand/src/perl/repoperls/installed-perls/host/k93msid/v5.35.6/1e0c/bin/perl" "-MExtUtils::Command::MM" "-MTest::Harness" "-e" "undef *Test::Harness::Switches; test_harness(0, 'blib/lib', 'blib/arch')" t/*.t
t/01load.t ................... ok
t/02abs.t .................... ok
t/03arith.t .................. ok
t/04bool.t ................... ok
t/05cmp.t .................... ok

Rounding mode: Rounding mode undetermined - fenv.h not loaded
t/06inc_dec.t ................ ok
t/07int.t .................... ok
t/08log_exp.t ................ ok
t/09new.t .................... ok
t/10pow.t .................... ok
t/11stringification.t ........ ok
t/12trig.t ................... ok
t/13constants.t .............. ok
t/14f128_bytes.t ............. ok
t/15special.t ................ ok
t/16overload.t ............... ok
t/17overload_cmp_reversal.t .. ok

FYI: AVOID_INF_CAST is NOT DEFINED
t/infnan_overloading.t ....... ok
t/nnum.t ..................... ok
ISSUE_19550 not set
t/NOK_and_POK.t .............. ok
t/overload_switch.t .......... ok

Test::Pod version: 1.52

Pod::Simple version: 3.43
t/pod.t ...................... ok

FYI:
 FLT128_DIG = 33
 Default precision = 36
t/prec.t ..................... ok

 F128_PV_NV_BUG set to 0
t/PV_NV_BUG.t ................ ok
All tests successful.
Files=24, Tests=434,  2 wallclock secs ( 0.07 usr  0.07 sys +  0.36 cusr  0.24 csys =  0.74 CPU)
Result: PASS

------------------------------
PREREQUISITES
------------------------------

Prerequisite modules loaded:

build_requires:

    Module              Need Have
    ------------------- ---- ----
    ExtUtils::MakeMaker 0    7.64

configure_requires:

    Module              Need Have
    ------------------- ---- ----
    ExtUtils::MakeMaker 0    7.64


------------------------------
ENVIRONMENT AND OTHER CONTEXT
------------------------------

Environment variables:

    AUTOMATED_TESTING = 1
    LANG = en_US.UTF-8
    PATH = /home/sand/bin:/usr/local/bin:/usr/bin:/bin:/usr/games:/usr/local/perl/bin:/usr/X11/bin:/sbin:/usr/sbin
    PERL5LIB = 
    PERL5OPT = 
    PERL5_CPANPLUS_IS_RUNNING = 3490723
    PERL5_CPAN_IS_RUNNING = 3490723
    PERL_CANARY_STABILITY_NOPROMPT = 1
    PERL_MM_USE_DEFAULT = 1
    PERL_USE_UNSAFE_INC = 1
    SHELL = /usr/bin/zsh
    TERM = screen

Perl special variables (and OS-specific diagnostics, for MSWin32):

    $^X = /home/sand/src/perl/repoperls/installed-perls/host/k93msid/v5.35.6/1e0c/bin/perl
    $UID/$EUID = 1005 / 1005
    $GID = 1005 1005
    $EGID = 1005 1005

Perl module toolchain versions installed:

    Module              Have    
    ------------------- --------
    CPAN                2.33    
    CPAN::Meta          2.150010
    Cwd                 3.82    
    ExtUtils::CBuilder  0.280236
    ExtUtils::Command   7.64    
    ExtUtils::Install   2.20    
    ExtUtils::MakeMaker 7.64    
    ExtUtils::Manifest  1.73    
    ExtUtils::ParseXS   3.44    
    File::Spec          3.81    
    JSON                4.05    
    JSON::PP            4.08    
    Module::Build       0.4231  
    Module::Signature   0.88    
    Parse::CPAN::Meta   2.150010
    Test::Harness       3.43_04 
    Test::More          1.302188
    YAML                1.30    
    YAML::Syck          1.34    
    version             0.9929  


--

Summary of my perl5 (revision 5 version 35 subversion 6) configuration:
  Commit id: 7badc7c896a8f12c680283f7fbf93fb1e22a24da
  Platform:
    osname=linux
    osvers=5.15.0-2-amd64
    archname=x86_64-linux-thread-multi
    uname='linux k93msid 5.15.0-2-amd64 #1 smp debian 5.15.5-2 (2021-12-18) x86_64 gnulinux '
    config_args='-Dprefix=/home/sand/src/perl/repoperls/installed-perls/host/k93msid/v5.35.6/1e0c -Dmyhostname=k93msid -Dinstallusrbinperl=n -Uversiononly -Dusedevel -des -Ui_db -Dlibswanted=cl pthread socket inet nsl gdbm dbm malloc dl ld sun m crypt sec util c cposix posix ucb BSD gdbm_compat -Duseithreads -Uuselongdouble -DEBUGGING=-g'
    hint=recommended
    useposix=true
    d_sigaction=define
    useithreads=define
    usemultiplicity=define
    use64bitint=define
    use64bitall=define
    uselongdouble=undef
    usemymalloc=n
    default_inc_excludes_dot=define
  Compiler:
    cc='cc'
    ccflags ='-D_REENTRANT -D_GNU_SOURCE -fwrapv -fno-strict-aliasing -pipe -fstack-protector-strong -I/usr/local/include -D_LARGEFILE_SOURCE -D_FILE_OFFSET_BITS=64 -D_FORTIFY_SOURCE=2'
    optimize='-O2 -g'
    cppflags='-D_REENTRANT -D_GNU_SOURCE -fwrapv -fno-strict-aliasing -pipe -fstack-protector-strong -I/usr/local/include'
    ccversion=''
    gccversion='11.2.0'
    gccosandvers=''
    intsize=4
    longsize=8
    ptrsize=8
    doublesize=8
    byteorder=12345678
    doublekind=3
    d_longlong=define
    longlongsize=8
    d_longdbl=define
    longdblsize=16
    longdblkind=3
    ivtype='long'
    ivsize=8
    nvtype='double'
    nvsize=8
    Off_t='off_t'
    lseeksize=8
    alignbytes=8
    prototype=define
  Linker and Libraries:
    ld='cc'
    ldflags =' -fstack-protector-strong -L/usr/local/lib'
    libpth=/usr/local/lib /usr/lib/x86_64-linux-gnu /usr/lib /lib/x86_64-linux-gnu /lib
    libs=-lpthread -lnsl -ldl -lm -lcrypt -lutil -lc
    perllibs=-lpthread -lnsl -ldl -lm -lcrypt -lutil -lc
    libc=libc-2.33.so
    so=so
    useshrplib=false
    libperl=libperl.a
    gnulibc_version='2.33'
  Dynamic Linking:
    dlsrc=dl_dlopen.xs
    dlext=so
    d_dlsymun=undef
    ccdlflags='-Wl,-E'
    cccdlflags='-fPIC'
    lddlflags='-shared -O2 -g -L/usr/local/lib -fstack-protector-strong'


Characteristics of this binary (from libperl): 
  Compile-time options:
    HAS_TIMES
    MULTIPLICITY
    PERLIO_LAYERS
    PERL_COPY_ON_WRITE
    PERL_DONT_CREATE_GVSV
    PERL_MALLOC_WRAP
    PERL_OP_PARENT
    PERL_PRESERVE_IVUV
    PERL_USE_DEVEL
    USE_64_BIT_ALL
    USE_64_BIT_INT
    USE_ITHREADS
    USE_LARGE_FILES
    USE_LOCALE
    USE_LOCALE_COLLATE
    USE_LOCALE_CTYPE
    USE_LOCALE_NUMERIC
    USE_LOCALE_TIME
    USE_PERLIO
    USE_PERL_ATOF
    USE_REENTRANT_API
    USE_THREAD_SAFE_LOCALE
  Built under linux
  Compiled at Jan 30 2022 10:41:31
  %ENV:
    PERL5LIB=""
    PERL5OPT=""
    PERL5_CPANPLUS_IS_RUNNING="3490723"
    PERL5_CPAN_IS_RUNNING="3490723"
    PERL_CANARY_STABILITY_NOPROMPT="1"
    PERL_MM_USE_DEFAULT="1"
    PERL_USE_UNSAFE_INC="1"
  @INC:
    /home/sand/src/perl/repoperls/installed-perls/host/k93msid/v5.35.6/1e0c/lib/site_perl/5.35.6/x86_64-linux-thread-multi
    /home/sand/src/perl/repoperls/installed-perls/host/k93msid/v5.35.6/1e0c/lib/site_perl/5.35.6
    /home/sand/src/perl/repoperls/installed-perls/host/k93msid/v5.35.6/1e0c/lib/5.35.6/x86_64-linux-thread-multi
    /home/sand/src/perl/repoperls/installed-perls/host/k93msid/v5.35.6/1e0c/lib/5.35.6
    .