Dezi-App v0.016 Perl 5 v5.10.1 x86_64-linux

Status
Pass
From
Slaven Rezić (SREZIC)
Dist
Dezi-App v0.016
Platform
Perl 5 v5.10.1 x86_64-linux
Date
2018-06-27 05:00:35
ID
06bfa442-79c7-11e8-8c69-9da5512c7126
This distribution has been tested as part of the CPAN Testers
project, supporting the Perl programming language.  See
http://wiki.cpantesters.org/ for more information or email
questions to cpan-testers-discuss@perl.org


--
Dear Peter Karman,

This is a computer-generated report for Dezi-App-0.016
on perl 5.10.1, created by CPAN-Reporter-1.2018.

Thank you for uploading your work to CPAN.  Congratulations!
All tests were successful.

Sections of this report:

    * Tester comments
    * Program output
    * Prerequisites
    * Environment and other context

------------------------------
TESTER COMMENTS
------------------------------

Additional comments from tester:

none provided

------------------------------
PROGRAM OUTPUT
------------------------------

Output from '/usr/bin/make test':

PERL_DL_NONLAZY=1 "/bbbike/perl-5.10.1/bin/perl" "-MExtUtils::Command::MM" "-MTest::Harness" "-e" "undef *Test::Harness::Switches; test_harness(0, 'blib/lib', 'blib/arch')" t/*.t t/lucy/*.t
# Testing Dezi::App 0.016
# Lucy 0.006002
# SWISH::3 1.000015, libswish3 version 1.0.2480a0b libxml2 version 2.9.1
# Perl 5.010001, /bbbike/perl-5.10.1/bin/perl
t/000-load.t .......................... ok
# testing Dezi::App version 0.016
# doc filter on t/test2.html
# doc filter on t/test.xml
# doc filter on t/test.pdf
# doc filter on t/test.pdf
# doc filter on t/test.html
# doc filter on t/test-gz.xml
# doc filter on t/test-gz.html
t/000-synopsis.t ...................... ok
t/001-fs.t ............................ ok
# Checking on Mail::Box
# Checking on Dezi::Aggregator::Mail
t/002-mail.t .......................... ok
# set TEST_SPIDER env var to test the spider
t/003-spider.t ........................ ok
t/004-indexer-config.t ................ ok
# { Format => "Test", Locale => "en_US.UTF-8", Name => "index.swish" }
t/005-invindex-header.t ............... ok
# converting t/config2/example9.config
# converting t/config2/example8.config
# converting t/config2/example7.config
# converting t/config2/example6.config
# converting t/config2/example5.config
# converting t/config2/example4.config
# converting t/config2/example3.config
# converting t/config2/example2.config
# converting t/config2/example1.config
# converting t/config2/complex.conf
t/006-indexer-config.t ................ ok
t/007-leak-test.t ..................... ok
# Checking on Mail::Box
# Checking on Dezi::Aggregator::MailFS
# t/mailfs/somedir/cur/1201404060.V802I5f9e4M893922.louvin.peknet.com:2,
t/008-mail-fs.t ....................... ok
# t/test-gz.xml
# t/test.xml
# t/test.html
# t/test2.html
# t/test-gz.html
t/009-searcher.t ...................... ok
Overriding invindex->path 'dezi.index' with IndexFile value from config 'foo/bar'
t/010-invindex-config.t ............... ok
t/011-replace-rules.t ................. ok
# Checking on Dezi::Aggregator::Spider
Can't locate WWW/Sitemap/XML.pm in @INC (@INC contains: /tmpfs/.cpan-build-cpansand/2018062703/Dezi-App-0.016-5/blib/lib /tmpfs/.cpan-build-cpansand/2018062703/Dezi-App-0.016-5/blib/arch /home/cpansand/.cpan/build/2018062703/MooseX-XSAccessor-0.009-5/blib/arch /home/cpansand/.cpan/build/2018062703/MooseX-XSAccessor-0.009-5/blib/lib /home/cpansand/.cpan/build/2018062703/MooseX-XSAccessor-0.009-5/blib/arch /home/cpansand/.cpan/build/2018062703/MooseX-XSAccessor-0.009-5/blib/lib /opt/perl-5.10.1/lib/5.10.1/x86_64-linux /opt/perl-5.10.1/lib/5.10.1 /opt/perl-5.10.1/lib/site_perl/5.10.1/x86_64-linux /opt/perl-5.10.1/lib/site_perl/5.10.1 .) at /tmpfs/.cpan-build-cpansand/2018062703/Dezi-App-0.016-5/blib/lib/Dezi/Aggregator/Spider.pm line 16.
BEGIN failed--compilation aborted at /tmpfs/.cpan-build-cpansand/2018062703/Dezi-App-0.016-5/blib/lib/Dezi/Aggregator/Spider.pm line 16.
Compilation failed in require at t/012-spider-server.t line 23.
	main::try {...} () called at /opt/perl-5.10.1/lib/site_perl/5.10.1/Try/Tiny.pm line 97
	eval {...} called at /opt/perl-5.10.1/lib/site_perl/5.10.1/Try/Tiny.pm line 93
	Try::Tiny::try(CODE(0x1f59598), Try::Tiny::Catch=REF(0x1ef8320)) called at t/012-spider-server.t line 33
# ----------------------------------------
# Do you need to install WWW::Sitemap::XML ?
# ----------------------------------------
t/012-spider-server.t ................. ok
t/013-utils.t ......................... ok
t/014-logging.t ....................... ok
# Checking on Dezi::Aggregator::DBI
# Checking on DBI
# Checking on Rose::DBx::TestDB
Can't locate Rose/DBx/TestDB.pm in @INC (@INC contains: /tmpfs/.cpan-build-cpansand/2018062703/Dezi-App-0.016-5/blib/lib /tmpfs/.cpan-build-cpansand/2018062703/Dezi-App-0.016-5/blib/arch /home/cpansand/.cpan/build/2018062703/MooseX-XSAccessor-0.009-5/blib/arch /home/cpansand/.cpan/build/2018062703/MooseX-XSAccessor-0.009-5/blib/lib /home/cpansand/.cpan/build/2018062703/MooseX-XSAccessor-0.009-5/blib/arch /home/cpansand/.cpan/build/2018062703/MooseX-XSAccessor-0.009-5/blib/lib /opt/perl-5.10.1/lib/5.10.1/x86_64-linux /opt/perl-5.10.1/lib/5.10.1 /opt/perl-5.10.1/lib/site_perl/5.10.1/x86_64-linux /opt/perl-5.10.1/lib/site_perl/5.10.1 .) at t/015-dbi.t line 29.
	main::try {...} () called at /opt/perl-5.10.1/lib/site_perl/5.10.1/Try/Tiny.pm line 97
	eval {...} called at /opt/perl-5.10.1/lib/site_perl/5.10.1/Try/Tiny.pm line 93
	Try::Tiny::try(CODE(0x1bb3238), Try::Tiny::Catch=REF(0x21a3138)) called at t/015-dbi.t line 39
# ----------------------------------------
# Do you need to install Rose::DBx::TestDB ?
# ----------------------------------------
t/015-dbi.t ........................... ok
# Testing Dezi::Lucy 0.016 Lucy 0.006002 , Perl 5.010001, /bbbike/perl-5.10.1/bin/perl
t/lucy/000-load.t ..................... ok
# 16
# result2: ["doc"]
# result3: ["swishdefault"]
# result3: ["doc"]
# t/lucy/test.html
# t/lucy/test.xml
# t/lucy/test.xml
# t/lucy/test.html
t/lucy/001-fs.t ....................... ok
t/lucy/002-leak-trace.t ............... ok
# pass 1
# pass 2
# pass 3
t/lucy/003-update-index.t ............. ok
t/lucy/004-auto-reconnect-searcher.t .. ok
t/lucy/005-stemmer.t .................. ok
t/lucy/006-fields.t ................... ok
t/pod-coverage.t ...................... skipped: set RELEASE_TESTING to test POD
t/pod.t ............................... skipped: set RELEASE_TESTING to test POD
All tests successful.
Files=26, Tests=388, 13 wallclock secs ( 0.06 usr  0.10 sys +  9.09 cusr  1.23 csys = 10.48 CPU)
Result: PASS

------------------------------
PREREQUISITES
------------------------------

Prerequisite modules loaded:

requires:

    Module                       Need     Have    
    ---------------------------- -------- --------
    Carp                         0        1.38    
    Class::Load                  0        0.24    
    Config::General              2.31     2.63    
    Data::Dump                   0        1.23    
    DateTime::Format::DateParse  0        0.05    
    Digest::MD5                  0        2.55    
    File::Basename               0        2.77    
    File::Rules                  0.02     0.02    
    File::Spec                   0        3.74    
    File::Temp                   0        0.2306  
    HTTP::Date                   0        6.02    
    Lucy                         0.006002 0.006002
    Moose                        0        2.2011  
    MooseX::Getopt               0        0.71    
    MooseX::StrictConstructor    0        0.19    
    MooseX::Types::DateTime      0        0.13    
    MooseX::Types::Path::Class   0        0.08    
    MooseX::XSAccessor           0        0.009   
    namespace::autoclean         0        0.28    
    Path::Class                  0.32     0.37    
    Path::Class::File::Lockable  0        0.03    
    Path::Class::File::Stat      0.05     0.05    
    perl                         5.008003 5.010001
    Scalar::Util                 0        1.50    
    Search::Query                0.307    0.307   
    Search::Query::Dialect::Lucy 0.202    0.202   
    Search::Tools                1.000    1.006   
    Sort::SQL                    0        0.08    
    SWISH::3                     1.000015 1.000015
    SWISH::Filter                0.191    0.191   
    Sys::Hostname                0        1.11    
    Text::ParseWords             0        3.27    
    Time::HiRes                  0        1.9758  
    Try::Tiny                    0        0.30    
    Type::Tiny                   0        1.002001
    Types::Standard              0        1.002001

build_requires:

    Module                       Need     Have    
    ---------------------------- -------- --------
    CAM::PDF                     0        1.60    
    Compress::Zlib               0        2.081   
    ExtUtils::MakeMaker          0        7.34    
    Test::LeakTrace              0        0.16    
    Test::More                   0        1.302136

configure_requires:

    Module                       Need     Have    
    ---------------------------- -------- --------
    ExtUtils::MakeMaker          0        7.34    


------------------------------
ENVIRONMENT AND OTHER CONTEXT
------------------------------

Environment variables:

    LANG = C
    PATH = /usr/local/bin:/usr/bin:/bin:/usr/local/sbin:/usr/sbin:/sbin:/home/cpansand/bin/linux-gnu:/home/cpansand/bin/sh:/home/cpansand/bin:/usr/games:/home/cpansand/devel:/home/eserte/src/srezic-misc/scripts
    PERL5LIB = /home/cpansand/.cpan/build/2018062703/MooseX-XSAccessor-0.009-5/blib/arch:/home/cpansand/.cpan/build/2018062703/MooseX-XSAccessor-0.009-5/blib/lib
    PERL5OPT = 
    PERL5_CPANPLUS_IS_RUNNING = 15272
    PERL5_CPAN_IS_RUNNING = 15272
    PERL5_CPAN_IS_RUNNING_IN_RECURSION = 1749,15272
    PERLDOC = -MPod::Perldoc::ToTextOverstrike
    PERL_BATCH = yes
    PERL_CANARY_STABILITY_NOPROMPT = 1
    PERL_CPAN_REPORTER_CONFIG = /var/tmp/cpansmoker-1023/2018062618/cpanreporter_003_config.ini
    PERL_EXTUTILS_AUTOINSTALL = --defaultdeps
    SHELL = /bin/zsh
    TERM = screen
    TMPDIR = /var/tmp/cpansmoker-1023/2018062618

Perl special variables (and OS-specific diagnostics, for MSWin32):

    $^X = /bbbike/perl-5.10.1/bin/perl
    $UID/$EUID = 1023 / 1023
    $GID = 1023 1023
    $EGID = 1023 1023

Perl module toolchain versions installed:

    Module              Have    
    ------------------- --------
    CPAN                2.16    
    CPAN::Meta          2.150010
    Cwd                 3.74    
    ExtUtils::CBuilder  0.280230
    ExtUtils::Command   7.34    
    ExtUtils::Install   2.12    
    ExtUtils::MakeMaker 7.34    
    ExtUtils::Manifest  1.71    
    ExtUtils::ParseXS   3.30    
    File::Spec          3.74    
    JSON                2.97001 
    JSON::PP            2.27400 
    Module::Build       0.4224  
    Module::Signature   0.81    
    Parse::CPAN::Meta   2.150010
    Test::Harness       3.42    
    Test::More          1.302136
    YAML                1.24    
    YAML::Syck          1.30    
    version             0.9918  


--

Summary of my perl5 (revision 5 version 10 subversion 1) configuration:
   
  Platform:
    osname=linux, osvers=3.16.0-4-amd64, archname=x86_64-linux
    uname='linux eserte 3.16.0-4-amd64 #1 smp debian 3.16.7-ckt25-2 (2016-04-08) x86_64 gnulinux '
    config_args='-ds -e -Dprefix=/opt/perl-5.10.1 -Dcf_email=srezic@cpan.org'
    hint=recommended, useposix=true, d_sigaction=define
    useithreads=undef, usemultiplicity=undef
    useperlio=define, d_sfio=undef, uselargefiles=define, usesocks=undef
    use64bitint=define, use64bitall=define, uselongdouble=undef
    usemymalloc=n, bincompat5005=undef
  Compiler:
    cc='cc', ccflags ='-fno-strict-aliasing -pipe -fstack-protector -I/usr/local/include -D_LARGEFILE_SOURCE -D_FILE_OFFSET_BITS=64',
    optimize='-O2',
    cppflags='-fno-strict-aliasing -pipe -fstack-protector -I/usr/local/include'
    ccversion='', gccversion='4.9.2', gccosandvers=''
    intsize=4, longsize=8, ptrsize=8, doublesize=8, byteorder=12345678
    d_longlong=define, longlongsize=8, d_longdbl=define, longdblsize=16
    ivtype='long', ivsize=8, nvtype='double', nvsize=8, Off_t='off_t', lseeksize=8
    alignbytes=8, prototype=define
  Linker and Libraries:
    ld='cc', ldflags =' -fstack-protector -L/usr/local/lib'
    libpth=/usr/local/lib /lib/x86_64-linux-gnu /lib/../lib /usr/lib/x86_64-linux-gnu /usr/lib/../lib /lib /usr/lib
    libs=-lnsl -ldl -lm -lcrypt -lutil -lc
    perllibs=-lnsl -ldl -lm -lcrypt -lutil -lc
    libc=libc-2.19.so, so=so, useshrplib=false, libperl=libperl.a
    gnulibc_version='2.19'
  Dynamic Linking:
    dlsrc=dl_dlopen.xs, dlext=so, d_dlsymun=undef, ccdlflags='-Wl,-E'
    cccdlflags='-fPIC', lddlflags='-shared -O2 -L/usr/local/lib -fstack-protector'


Characteristics of this binary (from libperl): 
  Compile-time options: PERL_DONT_CREATE_GVSV PERL_MALLOC_WRAP USE_64_BIT_ALL
                        USE_64_BIT_INT USE_LARGE_FILES USE_PERLIO
  Locally applied patches:
	Devel::PatchPerl 1.42
  Built under linux
  Compiled at May  7 2016 09:04:56
  %ENV:
    PERL5LIB="/home/cpansand/.cpan/build/2018062703/MooseX-XSAccessor-0.009-5/blib/arch:/home/cpansand/.cpan/build/2018062703/MooseX-XSAccessor-0.009-5/blib/lib"
    PERL5OPT=""
    PERL5_CPANPLUS_IS_RUNNING="15272"
    PERL5_CPAN_IS_RUNNING="15272"
    PERL5_CPAN_IS_RUNNING_IN_RECURSION="1749,15272"
    PERLDOC="-MPod::Perldoc::ToTextOverstrike"
    PERL_BATCH="yes"
    PERL_CANARY_STABILITY_NOPROMPT="1"
    PERL_CPAN_REPORTER_CONFIG="/var/tmp/cpansmoker-1023/2018062618/cpanreporter_003_config.ini"
    PERL_EXTUTILS_AUTOINSTALL="--defaultdeps"
  @INC:
    /home/cpansand/.cpan/build/2018062703/MooseX-XSAccessor-0.009-5/blib/arch
    /home/cpansand/.cpan/build/2018062703/MooseX-XSAccessor-0.009-5/blib/lib
    /opt/perl-5.10.1/lib/5.10.1/x86_64-linux
    /opt/perl-5.10.1/lib/5.10.1
    /opt/perl-5.10.1/lib/site_perl/5.10.1/x86_64-linux
    /opt/perl-5.10.1/lib/site_perl/5.10.1
    .