Config-XPath v0.16 Perl 5 v5.13.4 x86_64-linux-thread-multi-ld

Status
Pass
From
Andreas J. König (ANDK)
Dist
Config-XPath v0.16
Platform
Perl 5 v5.13.4 x86_64-linux-thread-multi-ld
Date
2010-08-23 06:02:35
ID
06c1af7c-ae7c-11df-900e-a647984c9764
This distribution has been tested as part of the CPAN Testers
project, supporting the Perl programming language.  See
http://wiki.cpantesters.org/ for more information or email
questions to cpan-testers-discuss@perl.org


--
Dear Paul Evans,

This is a computer-generated report for Config-XPath-0.16
on perl 5.13.4, created by CPAN-Reporter-1.18.

Thank you for uploading your work to CPAN.  Congratulations!
All tests were successful.

Sections of this report:

    * Tester comments
    * Program output
    * Prerequisites
    * Environment and other context

------------------------------
TESTER COMMENTS
------------------------------

Additional comments from tester:

none provided

------------------------------
PROGRAM OUTPUT
------------------------------

Output from './Build test':

t/01use.t ...................... ok
t/03str-config.t ............... ok
t/04get-config.t ............... ok
t/05attr-config.t .............. ok
t/06list-config.t .............. ok
t/07map-config.t ............... ok
t/10subconf.t .................. ok
t/11ioref.t .................... ok
t/12parser.t ................... ok
t/20reloadable-constant.t ...... ok
t/21reloadable-root.t .......... ok
t/22reloadable-set.t ........... ok
t/23reloadable-setrecursive.t .. ok
t/24reloadable-list.t .......... ok
t/30defaultconfig.t ............ ok
t/99pod.t ...................... ok
All tests successful.
Files=16, Tests=192,  1 wallclock secs ( 0.08 usr  0.03 sys +  1.36 cusr  0.20 csys =  1.67 CPU)
Result: PASS

------------------------------
PREREQUISITES
------------------------------

Prerequisite modules loaded:

requires:

    Module          Need   Have   
    --------------- ------ -------
    XML::XPath      0      1.13   

build_requires:

    Module          Need   Have   
    --------------- ------ -------
    Test::Exception 0      0.29   
    Test::More      0      0.96   
    Test::Refcount  0      0.06   
    Test::Warn      0      0.21   

configure_requires:

    Module          Need   Have   
    --------------- ------ -------
    Module::Build   0.2808 0.36_14


------------------------------
ENVIRONMENT AND OTHER CONTEXT
------------------------------

Environment variables:

    LANG = en_US.UTF-8
    PATH = /home/sand/bin:/usr/local/bin:/usr/bin:/bin:/usr/bin/X11:/usr/games:/usr/local/perl/bin:/usr/X11/bin:/sbin:/usr/sbin
    PERL5LIB = 
    PERL5OPT = 
    PERL5_CPANPLUS_IS_RUNNING = 13296
    PERL5_CPAN_IS_RUNNING = 13296
    SHELL = /usr/bin/zsh
    TERM = screen

Perl special variables (and OS-specific diagnostics, for MSWin32):

    $^X = /home/src/perl/repoperls/installed-perls/perl/v5.13.4-14-gecf9cda/bin/perl
    $UID/$EUID = 1001 / 1001
    $GID = 1001 1001
    $EGID = 1001 1001

Perl module toolchain versions installed:

    Module              Have   
    ------------------- -------
    CPAN                1.94_57
    Cwd                 3.31   
    ExtUtils::CBuilder  0.2703 
    ExtUtils::Command   1.16   
    ExtUtils::Install   1.55   
    ExtUtils::MakeMaker 6.5601 
    ExtUtils::Manifest  1.58   
    ExtUtils::ParseXS   2.2207 
    File::Spec          3.31_01
    Module::Build       0.36_14
    Module::Signature   0.64   
    Test::Harness       3.22   
    Test::More          0.96   
    YAML                0.71   
    YAML::Syck          1.12   
    version             0.82   


--

Summary of my perl5 (revision 5 version 13 subversion 4) configuration:
  Commit id: ecf9cdab78811498b3ffea48cfdfb09f678050d2
  Platform:
    osname=linux, osvers=2.6.32-2-amd64, archname=x86_64-linux-thread-multi-ld
    uname='linux k81 2.6.32-2-amd64 #1 smp fri feb 12 00:01:47 utc 2010 x86_64 gnulinux '
    config_args='-Dprefix=/home/src/perl/repoperls/installed-perls/perl/v5.13.4-14-gecf9cda -Dinstallusrbinperl=n -Uversiononly -Dusedevel -des -Ui_db -Duseithreads -Duselongdouble'
    hint=recommended, useposix=true, d_sigaction=define
    useithreads=define, usemultiplicity=define
    useperlio=define, d_sfio=undef, uselargefiles=define, usesocks=undef
    use64bitint=define, use64bitall=define, uselongdouble=define
    usemymalloc=n, bincompat5005=undef
  Compiler:
    cc='cc', ccflags ='-D_REENTRANT -D_GNU_SOURCE -fno-strict-aliasing -pipe -fstack-protector -I/usr/local/include -D_LARGEFILE_SOURCE -D_FILE_OFFSET_BITS=64',
    optimize='-O2',
    cppflags='-D_REENTRANT -D_GNU_SOURCE -fno-strict-aliasing -pipe -fstack-protector -I/usr/local/include'
    ccversion='', gccversion='4.4.4', gccosandvers=''
    intsize=4, longsize=8, ptrsize=8, doublesize=8, byteorder=12345678
    d_longlong=define, longlongsize=8, d_longdbl=define, longdblsize=16
    ivtype='long', ivsize=8, nvtype='long double', nvsize=16, Off_t='off_t', lseeksize=8
    alignbytes=16, prototype=define
  Linker and Libraries:
    ld='cc', ldflags =' -fstack-protector -L/usr/local/lib'
    libpth=/usr/local/lib /lib /usr/lib /lib64 /usr/lib64
    libs=-lnsl -lgdbm -ldb -ldl -lm -lcrypt -lutil -lpthread -lc -lgdbm_compat
    perllibs=-lnsl -ldl -lm -lcrypt -lutil -lpthread -lc
    libc=/lib/libc-2.11.2.so, so=so, useshrplib=false, libperl=libperl.a
    gnulibc_version='2.11.2'
  Dynamic Linking:
    dlsrc=dl_dlopen.xs, dlext=so, d_dlsymun=undef, ccdlflags='-Wl,-E'
    cccdlflags='-fPIC', lddlflags='-shared -O2 -L/usr/local/lib -fstack-protector'


Characteristics of this binary (from libperl): 
  Compile-time options: MULTIPLICITY PERL_DONT_CREATE_GVSV
                        PERL_IMPLICIT_CONTEXT PERL_MALLOC_WRAP PERL_USE_DEVEL
                        USE_64_BIT_ALL USE_64_BIT_INT USE_ITHREADS
                        USE_LARGE_FILES USE_LONG_DOUBLE USE_PERLIO
                        USE_PERL_ATOF USE_REENTRANT_API
  Built under linux
  Compiled at Aug 20 2010 23:14:10
  %ENV:
    PERL5LIB=""
    PERL5OPT=""
    PERL5_CPANPLUS_IS_RUNNING="13296"
    PERL5_CPAN_IS_RUNNING="13296"
  @INC:
    /home/src/perl/repoperls/installed-perls/perl/v5.13.4-14-gecf9cda/lib/site_perl/5.13.4/x86_64-linux-thread-multi-ld
    /home/src/perl/repoperls/installed-perls/perl/v5.13.4-14-gecf9cda/lib/site_perl/5.13.4
    /home/src/perl/repoperls/installed-perls/perl/v5.13.4-14-gecf9cda/lib/5.13.4/x86_64-linux-thread-multi-ld
    /home/src/perl/repoperls/installed-perls/perl/v5.13.4-14-gecf9cda/lib/5.13.4
    .