Report for Data-MessagePack-0.47

Back
From: metabase:user:314402c4-2aae-11df-837a-5e0a49663a4f
Subject: PASS Data-MessagePack-0.47 v5.16.1 FreeBSD
Date: 2013-05-30T20:53:48Z

This distribution has been tested as part of the CPAN Testers
project, supporting the Perl programming language.  See
http://wiki.cpantesters.org/ for more information or email
questions to cpan-testers-discuss@perl.org


--
Dear Goro Fuji,

This is a computer-generated report for Data-MessagePack-0.47
on perl 5.16.1, created by CPAN-Reporter-1.2006.

Thank you for uploading your work to CPAN.  Congratulations!
All tests were successful.

Sections of this report:

    * Tester comments
    * Program output
    * Prerequisites
    * Environment and other context

------------------------------
TESTER COMMENTS
------------------------------

Additional comments from tester:

none provided

------------------------------
PROGRAM OUTPUT
------------------------------

Output from '/usr/bin/make test':

PERL_DL_NONLAZY=1 /usr/perl5.16.1t/bin/perl5.16.1 "-MExtUtils::Command::MM" "-e" "test_harness(0, 'inc', 'blib/lib', 'blib/arch')" t/*.t
# Testing Data::MessagePack/0.47 (XS)
# byteoder: 12345678, ivsize=8
t/00_compile.t .............. ok
t/01_pack.t ................. ok
t/02_unpack.t ............... ok
t/03_stream_unpack.t ........ ok
t/04_invert.t ............... ok
t/05_preferred_int.t ........ ok
t/06_stream_unpack2.t ....... ok
t/07_break.t ................ ok
t/08_cycle.t ................ ok
t/09_stddata.t .............. ok
t/10_splitted_bytes.t ....... ok
t/11_stream_unpack3.t ....... ok
t/12_stream_unpack4.t ....... ok
t/13_booleans.t ............. ok
t/14_invalid_data.t ......... ok
t/15_utf8.t ................. ok
t/16_unpacker_for_larges.t .. ok
t/17_canonical.t ............ ok
t/18_new_interface.t ........ ok
t/19_utf8_property.t ........ ok
t/20_de.t ................... ok
t/21_dirty_float.t .......... ok
t/22_pid_pack_unpack.t ...... ok
t/23-empty-key.t ............ ok
t/24_tied.t ................. ok
t/40_threads.t .............. ok
t/50_leaktrace.t ............ skipped: Test requires module 'Test::LeakTrace' but it's not found
All tests successful.

Test Summary Report
-------------------
t/23-empty-key.t          (Wstat: 0 Tests: 3 Failed: 0)
  TODO passed:   1-2
Files=27, Tests=629,  2 wallclock secs ( 0.29 usr  0.06 sys +  1.61 cusr  0.26 csys =  2.22 CPU)
Result: PASS

------------------------------
PREREQUISITES
------------------------------

Prerequisite modules loaded:

requires:

    Module              Need     Have    
    ------------------- -------- --------
    perl                5.008001 5.016001
    XSLoader            0.02     0.16    

build_requires:

    Module              Need     Have    
    ------------------- -------- --------
    Devel::PPPort       3.19     3.20    
    ExtUtils::MakeMaker 6.59     6.63_02 
    ExtUtils::ParseXS   2.21     3.16    
    Test::More          0.94     0.98    
    Test::Requires      0        0.06    

configure_requires:

    Module              Need     Have    
    ------------------- -------- --------
    Devel::PPPort       3.19     3.20    
    ExtUtils::MakeMaker 6.59     6.63_02 
    ExtUtils::ParseXS   2.21     3.16    


------------------------------
ENVIRONMENT AND OTHER CONTEXT
------------------------------

Environment variables:

    DBIC_NO_WARN_BAD_PERL = 1
    PATH = /usr/local/bin:/usr/X11R6/bin:/usr/X11/bin:/usr/bin:/bin:/usr/local/sbin:/usr/sbin:/sbin:/home/e/eserte/bin/freebsd9.0:/home/e/eserte/bin/sh:/home/e/eserte/bin:/usr/games:/home/e/eserte/devel:/home/e/eserte/src/srezic-misc/scripts
    PERL5LIB = /usr/local/src/CPAN/build/IPC-Run-0.92-VLKcfQ/blib/arch:/usr/local/src/CPAN/build/IPC-Run-0.92-VLKcfQ/blib/lib
    PERL5OPT = 
    PERL5_CPANPLUS_IS_RUNNING = 67485
    PERL5_CPAN_IS_RUNNING = 67485
    PERL5_CPAN_IS_RUNNING_IN_RECURSION = 50374,67485
    PERLDOC = -MPod::Perldoc::ToTextOverstrike
    PERL_BATCH = yes
    PERL_CPAN_REPORTER_CONFIG = /var/tmp/cpansmoker-1000/EFNuJX5_Lt_config.ini
    PERL_EXTUTILS_AUTOINSTALL = --defaultdeps
    PERL_HTML_DISPLAY_CLASS = HTML::Display::Mozilla
    SHELL = /usr/local/bin/zsh
    TERM = screen
    TMPDIR = /var/tmp/cpansmoker-1000

Perl special variables (and OS-specific diagnostics, for MSWin32):

    $^X = /usr/perl5.16.1t/bin/perl5.16.1
    $UID/$EUID = 1000 / 1000
    $GID = 1000 1000 0 5 920 1023 1024
    $EGID = 1000 1000 0 5 920 1023 1024

Perl module toolchain versions installed:

    Module              Have    
    ------------------- --------
    CPAN                1.9800  
    CPAN::Meta          2.120630
    Cwd                 3.39_02 
    ExtUtils::CBuilder  0.280206
    ExtUtils::Command   1.17    
    ExtUtils::Install   1.58    
    ExtUtils::MakeMaker 6.63_02 
    ExtUtils::Manifest  1.61    
    ExtUtils::ParseXS   3.16    
    File::Spec          3.39_02 
    JSON                2.53    
    JSON::PP            2.27200 
    Module::Build       0.39_01 
    Module::Signature   n/a     
    Parse::CPAN::Meta   1.4404  
    Test::Harness       3.23    
    Test::More          0.98    
    YAML                0.84    
    YAML::Syck          1.20    
    version             0.99    


--

Summary of my perl5 (revision 5 version 16 subversion 1) configuration:
   
  Platform:
    osname=freebsd, osvers=9.0-release, archname=amd64-freebsd-thread-multi
    uname='freebsd cvrsnica.herceg.de 9.0-release freebsd 9.0-release #0: tue jan 3 07:46:30 utc 2012 root@farrell.cse.buffalo.edu:usrobjusrsrcsysgeneric amd64 '
    config_args='-D usethreads=define -Dprefix=/usr/perl5.16.1t -Dusemymalloc=n -D cc=ccache cc -Dgccansipedantic -de'
    hint=recommended, useposix=true, d_sigaction=define
    useithreads=define, usemultiplicity=define
    useperlio=define, d_sfio=undef, uselargefiles=define, usesocks=undef
    use64bitint=define, use64bitall=define, uselongdouble=undef
    usemymalloc=n, bincompat5005=undef
  Compiler:
    cc='ccache cc', ccflags ='-DHAS_FPSETMASK -DHAS_FLOATINGPOINT_H -fno-strict-aliasing -pipe -fstack-protector -I/usr/local/include',
    optimize='-O2 -pipe',
    cppflags='-DHAS_FPSETMASK -DHAS_FLOATINGPOINT_H -fno-strict-aliasing -pipe -fstack-protector -I/usr/local/include'
    ccversion='', gccversion='4.2.1 20070831 patched [FreeBSD]', gccosandvers=''
    intsize=4, longsize=8, ptrsize=8, doublesize=8, byteorder=12345678
    d_longlong=define, longlongsize=8, d_longdbl=define, longdblsize=16
    ivtype='long', ivsize=8, nvtype='double', nvsize=8, Off_t='off_t', lseeksize=8
    alignbytes=8, prototype=define
  Linker and Libraries:
    ld='ccache cc', ldflags ='-pthread -Wl,-E  -fstack-protector -L/usr/local/lib'
    libpth=/usr/lib /usr/local/lib
    libs=-lgdbm -lm -lcrypt
    perllibs=-lm -lcrypt
    libc=, so=so, useshrplib=false, libperl=libperl.a
    gnulibc_version=''
  Dynamic Linking:
    dlsrc=dl_dlopen.xs, dlext=so, d_dlsymun=undef, ccdlflags=' '
    cccdlflags='-DPIC -fPIC', lddlflags='-shared  -L/usr/local/lib -fstack-protector'


Characteristics of this binary (from libperl): 
  Compile-time options: HAS_TIMES MULTIPLICITY PERLIO_LAYERS
                        PERL_DONT_CREATE_GVSV PERL_IMPLICIT_CONTEXT
                        PERL_MALLOC_WRAP PERL_PRESERVE_IVUV PERL_USE_DEVEL
                        USE_64_BIT_ALL USE_64_BIT_INT USE_ITHREADS
                        USE_LARGE_FILES USE_LOCALE USE_LOCALE_COLLATE
                        USE_LOCALE_CTYPE USE_LOCALE_NUMERIC USE_PERLIO
                        USE_PERL_ATOF USE_REENTRANT_API
  Built under freebsd
  Compiled at Aug 13 2012 23:45:11
  %ENV:
    PERL5LIB="/usr/local/src/CPAN/build/IPC-Run-0.92-VLKcfQ/blib/arch:/usr/local/src/CPAN/build/IPC-Run-0.92-VLKcfQ/blib/lib"
    PERL5OPT=""
    PERL5_CPANPLUS_IS_RUNNING="67485"
    PERL5_CPAN_IS_RUNNING="67485"
    PERL5_CPAN_IS_RUNNING_IN_RECURSION="50374,67485"
    PERLDOC="-MPod::Perldoc::ToTextOverstrike"
    PERL_BATCH="yes"
    PERL_CPAN_REPORTER_CONFIG="/var/tmp/cpansmoker-1000/EFNuJX5_Lt_config.ini"
    PERL_EXTUTILS_AUTOINSTALL="--defaultdeps"
    PERL_HTML_DISPLAY_CLASS="HTML::Display::Mozilla"
  @INC:
    /usr/local/src/CPAN/build/IPC-Run-0.92-VLKcfQ/blib/arch
    /usr/local/src/CPAN/build/IPC-Run-0.92-VLKcfQ/blib/lib
    /usr/perl5.16.1t/lib/site_perl/5.16.1/amd64-freebsd-thread-multi
    /usr/perl5.16.1t/lib/site_perl/5.16.1
    /usr/perl5.16.1t/lib/5.16.1/amd64-freebsd-thread-multi
    /usr/perl5.16.1t/lib/5.16.1
    .