Back
From: metabase:user:00e8548a-0e72-11e3-8ee3-df0a9c418065
Subject: PASS CGI-Session-4.43 v5.16.3 GNU/Linux
Date: 2013-09-05T14:32:44Z
This distribution has been tested as part of the CPAN Testers
project, supporting the Perl programming language. See
http://wiki.cpantesters.org/ for more information or email
questions to cpan-testers-discuss@perl.org
--
Dear Mark Stosberg,
This is a computer-generated report for CGI-Session-4.43
on perl 5.16.3, created by CPAN-Reporter-1.2010.
Thank you for uploading your work to CPAN. Congratulations!
All tests were successful.
Sections of this report:
* Tester comments
* Program output
* Prerequisites
* Environment and other context
------------------------------
TESTER COMMENTS
------------------------------
Additional comments from tester:
this report is from an automated smoke testing program
and was not reviewed by a human for accuracy
------------------------------
PROGRAM OUTPUT
------------------------------
Output from './Build test':
t/api3_db_file.t ................ skipped: DB_File not available
t/api3_db_file_freezethaw.t ..... skipped: DB_File not available
t/api3_db_file_storable.t ....... skipped: DB_File not available
t/api3_db_file_storable_incr.t .. skipped: DB_File not available
Use of qw(...) as parentheses is deprecated at
/root/.cpan/build/CGI-Session-4.43-54TmYX/blib/lib/CGI/Session.pm line 804 (#1)
(D deprecated) You have something like foreach $x qw(a b c) {...},
using a qw(...) list literal where a parenthesised expression is
expected. Historically the parser fooled itself into thinking that
qw(...) literals were always enclosed in parentheses, and as a result
you could sometimes omit parentheses around them. (You could never do
the foreach qw(a b c) {...} that you might have expected, though.)
The parser no longer lies to itself in this way. Wrap the list literal
in parentheses, like foreach $x (qw(a b c)) {...}.
t/api3_file.t ................... ok
Use of qw(...) as parentheses is deprecated at
/root/.cpan/build/CGI-Session-4.43-54TmYX/blib/lib/CGI/Session.pm line 804 (#1)
(D deprecated) You have something like foreach $x qw(a b c) {...},
using a qw(...) list literal where a parenthesised expression is
expected. Historically the parser fooled itself into thinking that
qw(...) literals were always enclosed in parentheses, and as a result
you could sometimes omit parentheses around them. (You could never do
the foreach qw(a b c) {...} that you might have expected, though.)
The parser no longer lies to itself in this way. Wrap the list literal
in parentheses, like foreach $x (qw(a b c)) {...}.
t/api3_file_freezethaw.t ........ ok
Use of qw(...) as parentheses is deprecated at
/root/.cpan/build/CGI-Session-4.43-54TmYX/blib/lib/CGI/Session.pm line 804 (#1)
(D deprecated) You have something like foreach $x qw(a b c) {...},
using a qw(...) list literal where a parenthesised expression is
expected. Historically the parser fooled itself into thinking that
qw(...) literals were always enclosed in parentheses, and as a result
you could sometimes omit parentheses around them. (You could never do
the foreach qw(a b c) {...} that you might have expected, though.)
The parser no longer lies to itself in this way. Wrap the list literal
in parentheses, like foreach $x (qw(a b c)) {...}.
t/api3_file_freezethaw_incr.t ... ok
Use of qw(...) as parentheses is deprecated at
/root/.cpan/build/CGI-Session-4.43-54TmYX/blib/lib/CGI/Session.pm line 804 (#1)
(D deprecated) You have something like foreach $x qw(a b c) {...},
using a qw(...) list literal where a parenthesised expression is
expected. Historically the parser fooled itself into thinking that
qw(...) literals were always enclosed in parentheses, and as a result
you could sometimes omit parentheses around them. (You could never do
the foreach qw(a b c) {...} that you might have expected, though.)
The parser no longer lies to itself in this way. Wrap the list literal
in parentheses, like foreach $x (qw(a b c)) {...}.
t/api3_file_storable.t .......... ok
Use of qw(...) as parentheses is deprecated at
/root/.cpan/build/CGI-Session-4.43-54TmYX/blib/lib/CGI/Session.pm line 804 (#1)
(D deprecated) You have something like foreach $x qw(a b c) {...},
using a qw(...) list literal where a parenthesised expression is
expected. Historically the parser fooled itself into thinking that
qw(...) literals were always enclosed in parentheses, and as a result
you could sometimes omit parentheses around them. (You could never do
the foreach qw(a b c) {...} that you might have expected, though.)
The parser no longer lies to itself in this way. Wrap the list literal
in parentheses, like foreach $x (qw(a b c)) {...}.
t/api3_file_storable_incr.t ..... ok
Use of qw(...) as parentheses is deprecated at
/root/.cpan/build/CGI-Session-4.43-54TmYX/blib/lib/CGI/Session.pm line 804 (#1)
(D deprecated) You have something like foreach $x qw(a b c) {...},
using a qw(...) list literal where a parenthesised expression is
expected. Historically the parser fooled itself into thinking that
qw(...) literals were always enclosed in parentheses, and as a result
you could sometimes omit parentheses around them. (You could never do
the foreach qw(a b c) {...} that you might have expected, though.)
The parser no longer lies to itself in this way. Wrap the list literal
in parentheses, like foreach $x (qw(a b c)) {...}.
t/api3_incr.t ................... ok
Use of qw(...) as parentheses is deprecated at
/root/.cpan/build/CGI-Session-4.43-54TmYX/blib/lib/CGI/Session.pm line 804 (#1)
(D deprecated) You have something like foreach $x qw(a b c) {...},
using a qw(...) list literal where a parenthesised expression is
expected. Historically the parser fooled itself into thinking that
qw(...) literals were always enclosed in parentheses, and as a result
you could sometimes omit parentheses around them. (You could never do
the foreach qw(a b c) {...} that you might have expected, though.)
The parser no longer lies to itself in this way. Wrap the list literal
in parentheses, like foreach $x (qw(a b c)) {...}.
#Using FreezeThaw as object serializer
t/api3_obj_store.t .............. ok
Use of qw(...) as parentheses is deprecated at
/root/.cpan/build/CGI-Session-4.43-54TmYX/blib/lib/CGI/Session.pm line 804 (#1)
(D deprecated) You have something like foreach $x qw(a b c) {...},
using a qw(...) list literal where a parenthesised expression is
expected. Historically the parser fooled itself into thinking that
qw(...) literals were always enclosed in parentheses, and as a result
you could sometimes omit parentheses around them. (You could never do
the foreach qw(a b c) {...} that you might have expected, though.)
The parser no longer lies to itself in this way. Wrap the list literal
in parentheses, like foreach $x (qw(a b c)) {...}.
t/api3_obj_store_db_file.t ...... skipped: DB_File is not available
Use of qw(...) as parentheses is deprecated at /root/.cpan/build/CGI-Session-4.43-54TmYX/blib/lib/CGI/Session.pm line 804.
t/bug21952.t .................... ok
Use of qw(...) as parentheses is deprecated at /root/.cpan/build/CGI-Session-4.43-54TmYX/blib/lib/CGI/Session.pm line 804.
t/bug24285.t .................... ok
Use of qw(...) as parentheses is deprecated at
/root/.cpan/build/CGI-Session-4.43-54TmYX/blib/lib/CGI/Session.pm line 804 (#1)
(D deprecated) You have something like foreach $x qw(a b c) {...},
using a qw(...) list literal where a parenthesised expression is
expected. Historically the parser fooled itself into thinking that
qw(...) literals were always enclosed in parentheses, and as a result
you could sometimes omit parentheses around them. (You could never do
the foreach qw(a b c) {...} that you might have expected, though.)
The parser no longer lies to itself in this way. Wrap the list literal
in parentheses, like foreach $x (qw(a b c)) {...}.
t/cgi_simple.t .................. ok
Use of qw(...) as parentheses is deprecated at
/root/.cpan/build/CGI-Session-4.43-54TmYX/blib/lib/CGI/Session.pm line 804 (#1)
(D deprecated) You have something like foreach $x qw(a b c) {...},
using a qw(...) list literal where a parenthesised expression is
expected. Historically the parser fooled itself into thinking that
qw(...) literals were always enclosed in parentheses, and as a result
you could sometimes omit parentheses around them. (You could never do
the foreach qw(a b c) {...} that you might have expected, though.)
The parser no longer lies to itself in this way. Wrap the list literal
in parentheses, like foreach $x (qw(a b c)) {...}.
t/complex_ds.t .................. ok
t/driver_dbi.t .................. ok
Use of qw(...) as parentheses is deprecated at
/root/.cpan/build/CGI-Session-4.43-54TmYX/blib/lib/CGI/Session.pm line 804 (#1)
(D deprecated) You have something like foreach $x qw(a b c) {...},
using a qw(...) list literal where a parenthesised expression is
expected. Historically the parser fooled itself into thinking that
qw(...) literals were always enclosed in parentheses, and as a result
you could sometimes omit parentheses around them. (You could never do
the foreach qw(a b c) {...} that you might have expected, though.)
The parser no longer lies to itself in this way. Wrap the list literal
in parentheses, like foreach $x (qw(a b c)) {...}.
t/expire.t ...................... ok
Use of qw(...) as parentheses is deprecated at /root/.cpan/build/CGI-Session-4.43-54TmYX/blib/lib/CGI/Session.pm line 804.
# The found session has been deleted and flushed
t/find.t ........................ ok
Use of qw(...) as parentheses is deprecated at /root/.cpan/build/CGI-Session-4.43-54TmYX/blib/lib/CGI/Session.pm line 804.
t/flush.t ....................... ok
Use of qw(...) as parentheses is deprecated at
/root/.cpan/build/CGI-Session-4.43-54TmYX/blib/lib/CGI/Session.pm line 804 (#1)
(D deprecated) You have something like foreach $x qw(a b c) {...},
using a qw(...) list literal where a parenthesised expression is
expected. Historically the parser fooled itself into thinking that
qw(...) literals were always enclosed in parentheses, and as a result
you could sometimes omit parentheses around them. (You could never do
the foreach qw(a b c) {...} that you might have expected, though.)
The parser no longer lies to itself in this way. Wrap the list literal
in parentheses, like foreach $x (qw(a b c)) {...}.
t/g4.t .......................... ok
t/g4_dbfile.t ................... skipped: DB_File is NOT available
t/g4_dbfile_freezethaw.t ........ skipped: DB_File is NOT available
t/g4_dbfile_storable.t .......... skipped: DB_File is NOT available
Use of qw(...) as parentheses is deprecated at
/root/.cpan/build/CGI-Session-4.43-54TmYX/blib/lib/CGI/Session.pm line 804 (#1)
(D deprecated) You have something like foreach $x qw(a b c) {...},
using a qw(...) list literal where a parenthesised expression is
expected. Historically the parser fooled itself into thinking that
qw(...) literals were always enclosed in parentheses, and as a result
you could sometimes omit parentheses around them. (You could never do
the foreach qw(a b c) {...} that you might have expected, though.)
The parser no longer lies to itself in this way. Wrap the list literal
in parentheses, like foreach $x (qw(a b c)) {...}.
t/g4_freezethaw.t ............... ok
t/g4_mysql.t .................... skipped: DBD::mysql is NOT available
t/g4_mysql_freezethaw.t ......... skipped: DBD::mysql is NOT available
t/g4_mysql_storable.t ........... skipped: DBD::mysql is NOT available
t/g4_postgresql.t ............... skipped: DataSource is not known
t/g4_postgresql_freezethaw.t .... skipped: DataSource is not known
t/g4_postgresql_storable.t ...... skipped: DataSource is not known
Use of qw(...) as parentheses is deprecated at
/root/.cpan/build/CGI-Session-4.43-54TmYX/blib/lib/CGI/Session.pm line 804 (#1)
(D deprecated) You have something like foreach $x qw(a b c) {...},
using a qw(...) list literal where a parenthesised expression is
expected. Historically the parser fooled itself into thinking that
qw(...) literals were always enclosed in parentheses, and as a result
you could sometimes omit parentheses around them. (You could never do
the foreach qw(a b c) {...} that you might have expected, though.)
The parser no longer lies to itself in this way. Wrap the list literal
in parentheses, like foreach $x (qw(a b c)) {...}.
t/g4_sqlite.t ................... ok
Use of qw(...) as parentheses is deprecated at
/root/.cpan/build/CGI-Session-4.43-54TmYX/blib/lib/CGI/Session.pm line 804 (#1)
(D deprecated) You have something like foreach $x qw(a b c) {...},
using a qw(...) list literal where a parenthesised expression is
expected. Historically the parser fooled itself into thinking that
qw(...) literals were always enclosed in parentheses, and as a result
you could sometimes omit parentheses around them. (You could never do
the foreach qw(a b c) {...} that you might have expected, though.)
The parser no longer lies to itself in this way. Wrap the list literal
in parentheses, like foreach $x (qw(a b c)) {...}.
t/g4_sqlite_freezethaw.t ........ ok
Use of qw(...) as parentheses is deprecated at
/root/.cpan/build/CGI-Session-4.43-54TmYX/blib/lib/CGI/Session.pm line 804 (#1)
(D deprecated) You have something like foreach $x qw(a b c) {...},
using a qw(...) list literal where a parenthesised expression is
expected. Historically the parser fooled itself into thinking that
qw(...) literals were always enclosed in parentheses, and as a result
you could sometimes omit parentheses around them. (You could never do
the foreach qw(a b c) {...} that you might have expected, though.)
The parser no longer lies to itself in this way. Wrap the list literal
in parentheses, like foreach $x (qw(a b c)) {...}.
t/g4_sqlite_storable.t .......... ok
Use of qw(...) as parentheses is deprecated at
/root/.cpan/build/CGI-Session-4.43-54TmYX/blib/lib/CGI/Session.pm line 804 (#1)
(D deprecated) You have something like foreach $x qw(a b c) {...},
using a qw(...) list literal where a parenthesised expression is
expected. Historically the parser fooled itself into thinking that
qw(...) literals were always enclosed in parentheses, and as a result
you could sometimes omit parentheses around them. (You could never do
the foreach qw(a b c) {...} that you might have expected, though.)
The parser no longer lies to itself in this way. Wrap the list literal
in parentheses, like foreach $x (qw(a b c)) {...}.
t/g4_storable.t ................. ok
Use of qw(...) as parentheses is deprecated at
/root/.cpan/build/CGI-Session-4.43-54TmYX/blib/lib/CGI/Session.pm line 804 (#1)
(D deprecated) You have something like foreach $x qw(a b c) {...},
using a qw(...) list literal where a parenthesised expression is
expected. Historically the parser fooled itself into thinking that
qw(...) literals were always enclosed in parentheses, and as a result
you could sometimes omit parentheses around them. (You could never do
the foreach qw(a b c) {...} that you might have expected, though.)
The parser no longer lies to itself in this way. Wrap the list literal
in parentheses, like foreach $x (qw(a b c)) {...}.
t/header.t ...................... ok
Use of qw(...) as parentheses is deprecated at t/ip_matches.t line 39 (#1)
(D deprecated) You have something like foreach $x qw(a b c) {...},
using a qw(...) list literal where a parenthesised expression is
expected. Historically the parser fooled itself into thinking that
qw(...) literals were always enclosed in parentheses, and as a result
you could sometimes omit parentheses around them. (You could never do
the foreach qw(a b c) {...} that you might have expected, though.)
The parser no longer lies to itself in this way. Wrap the list literal
in parentheses, like foreach $x (qw(a b c)) {...}.
Use of qw(...) as parentheses is deprecated at
/root/.cpan/build/CGI-Session-4.43-54TmYX/blib/lib/CGI/Session.pm line 804 (#1)
t/ip_matches.t .................. ok
Use of qw(...) as parentheses is deprecated at
/root/.cpan/build/CGI-Session-4.43-54TmYX/blib/lib/CGI/Session.pm line 804 (#1)
(D deprecated) You have something like foreach $x qw(a b c) {...},
using a qw(...) list literal where a parenthesised expression is
expected. Historically the parser fooled itself into thinking that
qw(...) literals were always enclosed in parentheses, and as a result
you could sometimes omit parentheses around them. (You could never do
the foreach qw(a b c) {...} that you might have expected, though.)
The parser no longer lies to itself in this way. Wrap the list literal
in parentheses, like foreach $x (qw(a b c)) {...}.
t/is_new.t ...................... ok
Use of qw(...) as parentheses is deprecated at
/root/.cpan/build/CGI-Session-4.43-54TmYX/blib/lib/CGI/Session.pm line 804 (#1)
(D deprecated) You have something like foreach $x qw(a b c) {...},
using a qw(...) list literal where a parenthesised expression is
expected. Historically the parser fooled itself into thinking that
qw(...) literals were always enclosed in parentheses, and as a result
you could sometimes omit parentheses around them. (You could never do
the foreach qw(a b c) {...} that you might have expected, though.)
The parser no longer lies to itself in this way. Wrap the list literal
in parentheses, like foreach $x (qw(a b c)) {...}.
Argument "wrong" isn't numeric in numeric ne (!=) at
/root/.cpan/build/CGI-Session-4.43-54TmYX/blib/lib/CGI/Session.pm line 684 (#2)
(W numeric) The indicated string was fed as an argument to an operator
that expected a numeric value instead. If you're fortunate the message
will identify which operator was so unfortunate.
t/load.t ........................ ok
Use of qw(...) as parentheses is deprecated at /root/.cpan/build/CGI-Session-4.43-54TmYX/blib/lib/CGI/Session.pm line 804.
t/load_with_undef.t ............. ok
Use of qw(...) as parentheses is deprecated at
/root/.cpan/build/CGI-Session-4.43-54TmYX/blib/lib/CGI/Session.pm line 804 (#1)
(D deprecated) You have something like foreach $x qw(a b c) {...},
using a qw(...) list literal where a parenthesised expression is
expected. Historically the parser fooled itself into thinking that
qw(...) literals were always enclosed in parentheses, and as a result
you could sometimes omit parentheses around them. (You could never do
the foreach qw(a b c) {...} that you might have expected, though.)
The parser no longer lies to itself in this way. Wrap the list literal
in parentheses, like foreach $x (qw(a b c)) {...}.
t/name.t ........................ ok
Use of qw(...) as parentheses is deprecated at /root/.cpan/build/CGI-Session-4.43-54TmYX/blib/lib/CGI/Session.pm line 804.
t/new_with_undef.t .............. ok
Use of qw(...) as parentheses is deprecated at
/root/.cpan/build/CGI-Session-4.43-54TmYX/blib/lib/CGI/Session.pm line 804 (#1)
(D deprecated) You have something like foreach $x qw(a b c) {...},
using a qw(...) list literal where a parenthesised expression is
expected. Historically the parser fooled itself into thinking that
qw(...) literals were always enclosed in parentheses, and as a result
you could sometimes omit parentheses around them. (You could never do
the foreach qw(a b c) {...} that you might have expected, though.)
The parser no longer lies to itself in this way. Wrap the list literal
in parentheses, like foreach $x (qw(a b c)) {...}.
t/parse_dsn.t ................... ok
Use of qw(...) as parentheses is deprecated at /root/.cpan/build/CGI-Session-4.43-54TmYX/blib/lib/CGI/Session.pm line 804.
t/remote_addr.t ................. ok
Use of qw(...) as parentheses is deprecated at /root/.cpan/build/CGI-Session-4.43-54TmYX/blib/lib/CGI/Session.pm line 804.
# Check in STORE of original item
# Check in STORE of stored/retrieved item
# Check in LOAD after loading from session
t/session_param_undef.t ......... ok
Use of qw(...) as parentheses is deprecated at
/root/.cpan/build/CGI-Session-4.43-54TmYX/blib/lib/CGI/Session.pm line 804 (#1)
(D deprecated) You have something like foreach $x qw(a b c) {...},
using a qw(...) list literal where a parenthesised expression is
expected. Historically the parser fooled itself into thinking that
qw(...) literals were always enclosed in parentheses, and as a result
you could sometimes omit parentheses around them. (You could never do
the foreach qw(a b c) {...} that you might have expected, though.)
The parser no longer lies to itself in this way. Wrap the list literal
in parentheses, like foreach $x (qw(a b c)) {...}.
t/str2seconds.t ................. ok
Use of qw(...) as parentheses is deprecated at /root/.cpan/build/CGI-Session-4.43-54TmYX/blib/lib/CGI/Session.pm line 804.
t/symlink_db_file.t ............. skipped: DB_File not available
Use of qw(...) as parentheses is deprecated at /root/.cpan/build/CGI-Session-4.43-54TmYX/blib/lib/CGI/Session.pm line 804.
t/symlink_file.t ................ ok
All tests successful.
Files=48, Tests=854, 24 wallclock secs ( 0.13 usr 0.06 sys + 4.04 cusr 0.46 csys = 4.69 CPU)
Result: PASS
------------------------------
PREREQUISITES
------------------------------
Prerequisite modules loaded:
requires:
Module Need Have
------------------- ---- -------
CGI 3.26 3.63
Data::Dumper 0 2.145
Digest::MD5 0 2.53
Scalar::Util 0 1.31
build_requires:
Module Need Have
------------------- ---- -------
Test::More 0 0.98
configure_requires:
Module Need Have
------------------- ---- -------
ExtUtils::MakeMaker 0 6.75_04
------------------------------
ENVIRONMENT AND OTHER CONTEXT
------------------------------
Environment variables:
AUTOMATED_TESTING = 1
LANG = en_US.UTF-8
PATH = /root/perl5/perlbrew/bin:/root/perl5/perlbrew/perls/perl-5.16.3/bin:/usr/kerberos/sbin:/usr/kerberos/bin:/usr/local/sbin:/usr/local/bin:/sbin:/bin:/usr/sbin:/usr/bin:/usr/X11R6/bin:/root/bin
PERL5LIB =
PERL5OPT =
PERL5_CPANPLUS_IS_RUNNING = 25138
PERL5_CPAN_IS_RUNNING = 25138
PERL5_CPAN_IS_RUNNING_IN_RECURSION = 901,25138
PERLBREW_BASHRC_VERSION = 0.66
PERLBREW_HOME = /root/.perlbrew
PERLBREW_MANPATH = /root/perl5/perlbrew/perls/perl-5.16.3/man
PERLBREW_PATH = /root/perl5/perlbrew/bin:/root/perl5/perlbrew/perls/perl-5.16.3/bin
PERLBREW_PERL = perl-5.16.3
PERLBREW_ROOT = /root/perl5/perlbrew
PERLBREW_VERSION = 0.66
PERL_CR_SMOKER_CURRENT = CGI-Session-4.43
PERL_EXTUTILS_AUTOINSTALL = --defaultdeps
PERL_MM_USE_DEFAULT = 1
SHELL = /bin/bash
TERM = rxvt-unicode
Perl special variables (and OS-specific diagnostics, for MSWin32):
$^X = /root/perl5/perlbrew/perls/perl-5.16.3/bin/perl
$UID/$EUID = 0 / 0
$GID = 0 0 1 2 3 4 6 10
$EGID = 0 0 1 2 3 4 6 10
Perl module toolchain versions installed:
Module Have
------------------- --------
CPAN 2.00
CPAN::Meta 2.132140
Cwd 3.40
ExtUtils::CBuilder 0.280206
ExtUtils::Command 1.17
ExtUtils::Install 1.58
ExtUtils::MakeMaker 6.75_04
ExtUtils::Manifest 1.61
ExtUtils::ParseXS 3.21
File::Spec 3.40
JSON 2.59
JSON::PP 2.27202
Module::Build 0.4007
Module::Signature n/a
Parse::CPAN::Meta 1.4405
Test::Harness 3.28
Test::More 0.98
YAML 0.84
YAML::Syck 1.27
version 0.99
--
Summary of my perl5 (revision 5 version 16 subversion 3) configuration:
Platform:
osname=linux, osvers=2.6.18-348.16.1.el5, archname=x86_64-linux
uname='linux localhost.localdomain 2.6.18-348.16.1.el5 #1 smp wed aug 21 04:00:25 edt 2013 x86_64 x86_64 x86_64 gnulinux '
config_args='-de -Dprefix=/root/perl5/perlbrew/perls/perl-5.16.3 -Aeval:scriptdir=/root/perl5/perlbrew/perls/perl-5.16.3/bin'
hint=recommended, useposix=true, d_sigaction=define
useithreads=undef, usemultiplicity=undef
useperlio=define, d_sfio=undef, uselargefiles=define, usesocks=undef
use64bitint=define, use64bitall=define, uselongdouble=undef
usemymalloc=n, bincompat5005=undef
Compiler:
cc='cc', ccflags ='-fno-strict-aliasing -pipe -fstack-protector -I/usr/local/include -D_LARGEFILE_SOURCE -D_FILE_OFFSET_BITS=64',
optimize='-O2',
cppflags='-fno-strict-aliasing -pipe -fstack-protector -I/usr/local/include'
ccversion='', gccversion='4.1.2 20080704 (Red Hat 4.1.2-54)', gccosandvers=''
intsize=4, longsize=8, ptrsize=8, doublesize=8, byteorder=12345678
d_longlong=define, longlongsize=8, d_longdbl=define, longdblsize=16
ivtype='long', ivsize=8, nvtype='double', nvsize=8, Off_t='off_t', lseeksize=8
alignbytes=8, prototype=define
Linker and Libraries:
ld='cc', ldflags =' -fstack-protector -L/usr/local/lib'
libpth=/usr/local/lib /lib /usr/lib /lib64 /usr/lib64 /usr/local/lib64
libs=-lnsl -ldl -lm -lcrypt -lutil -lc
perllibs=-lnsl -ldl -lm -lcrypt -lutil -lc
libc=/lib/libc-2.5.so, so=so, useshrplib=false, libperl=libperl.a
gnulibc_version='2.5'
Dynamic Linking:
dlsrc=dl_dlopen.xs, dlext=so, d_dlsymun=undef, ccdlflags='-Wl,-E'
cccdlflags='-fPIC', lddlflags='-shared -O2 -L/usr/local/lib -fstack-protector'
Characteristics of this binary (from libperl):
Compile-time options: HAS_TIMES PERLIO_LAYERS PERL_DONT_CREATE_GVSV
PERL_MALLOC_WRAP PERL_PRESERVE_IVUV USE_64_BIT_ALL
USE_64_BIT_INT USE_LARGE_FILES USE_LOCALE
USE_LOCALE_COLLATE USE_LOCALE_CTYPE
USE_LOCALE_NUMERIC USE_PERLIO USE_PERL_ATOF
Built under linux
Compiled at Aug 26 2013 11:51:42
%ENV:
PERL5LIB=""
PERL5OPT=""
PERL5_CPANPLUS_IS_RUNNING="25138"
PERL5_CPAN_IS_RUNNING="25138"
PERL5_CPAN_IS_RUNNING_IN_RECURSION="901,25138"
PERLBREW_BASHRC_VERSION="0.66"
PERLBREW_HOME="/root/.perlbrew"
PERLBREW_MANPATH="/root/perl5/perlbrew/perls/perl-5.16.3/man"
PERLBREW_PATH="/root/perl5/perlbrew/bin:/root/perl5/perlbrew/perls/perl-5.16.3/bin"
PERLBREW_PERL="perl-5.16.3"
PERLBREW_ROOT="/root/perl5/perlbrew"
PERLBREW_VERSION="0.66"
PERL_CR_SMOKER_CURRENT="CGI-Session-4.43"
PERL_EXTUTILS_AUTOINSTALL="--defaultdeps"
PERL_MM_USE_DEFAULT="1"
@INC:
/root/perl5/perlbrew/perls/perl-5.16.3/lib/site_perl/5.16.3/x86_64-linux
/root/perl5/perlbrew/perls/perl-5.16.3/lib/site_perl/5.16.3
/root/perl5/perlbrew/perls/perl-5.16.3/lib/5.16.3/x86_64-linux
/root/perl5/perlbrew/perls/perl-5.16.3/lib/5.16.3
.