HTTP-AnyUA v0.904 Perl 5 v5.22.2 MSWin32-x86-multi-thread-64int

Status
Pass
From
NONAME
Dist
HTTP-AnyUA v0.904
Platform
Perl 5 v5.22.2 MSWin32-x86-multi-thread-64int
Date
2022-03-31 17:35:56
ID
0724f670-6cb2-1014-8029-2ac21220662c
This distribution has been tested as part of the CPAN Testers
project, supporting the Perl programming language.  See
http://wiki.cpantesters.org/ for more information or email
questions to cpan-testers-discuss@perl.org


--
Dear Charles McGarvey,

This is a computer-generated report for HTTP-AnyUA-0.904
on perl 5.22.2, created by CPAN-Reporter-1.2018.

Thank you for uploading your work to CPAN.  Congratulations!
All tests were successful.

Sections of this report:

    * Tester comments
    * Program output
    * Prerequisites
    * Environment and other context

------------------------------
TESTER COMMENTS
------------------------------

Additional comments from tester:

none provided

------------------------------
PROGRAM OUTPUT
------------------------------

Output from 'C:\Strawberry\c\bin\dmake.exe test':

C:\"Strawberry\perl\bin\perl.exe" "-MExtUtils::Command::MM" "-MTest::Harness" "-e" "undef *Test::Harness::Switches; test_harness(0, 'blib\lib', 'blib\arch')" t/*.t
t/00-compile.t ..................... ok
# 
# Versions for all modules listed in MYMETA.json (including optional ones):
# 
# === Configure Requires ===
# 
#     Module              Want Have
#     ------------------- ---- ----
#     ExtUtils::MakeMaker  any 7.64
# 
# === Build Requires ===
# 
#     Module              Want Have
#     ------------------- ---- ----
#     ExtUtils::MakeMaker  any 7.64
# 
# === Test Requires ===
# 
#     Module              Want     Have
#     ------------------- ---- --------
#     ExtUtils::MakeMaker  any     7.64
#     File::Spec           any     3.75
#     IO::Handle           any     1.48
#     IPC::Open3           any     1.18
#     Test2::API           any 1.302190
#     Test::Exception      any     0.43
#     Test::More           any 1.302190
#     lib                  any     0.63
#     namespace::clean     any     0.26
# 
# === Test Recommends ===
# 
#     Module         Want     Have
#     ---------- -------- --------
#     CPAN::Meta 2.120900 2.150010
# 
# === Test Suggests ===
# 
#     Module          Want    Have
#     --------------- ---- -------
#     AnyEvent::HTTP   any    2.25
#     Furl             any    3.14
#     HTTP::Tiny       any   0.080
#     JSON             any    4.05
#     LWP::UserAgent   any    6.61
#     Mojo::UserAgent  any   undef
#     Net::Curl::Easy  any missing
#     Plack::Runner    any   undef
#     Starman          any missing
# 
# === Runtime Requires ===
# 
#     Module         Want      Have
#     -------------- ---- ---------
#     Carp            any      1.50
#     Exporter        any      5.74
#     Fcntl           any      1.13
#     Future          any      0.48
#     MIME::Base64    any      3.16
#     Module::Loader  any      0.04
#     Scalar::Util    any      1.62
#     Time::HiRes     any 1.9764_02
#     Time::Local     any      1.31
#     bytes           any      1.04
#     parent          any     0.234
#     strict          any      1.09
#     warnings        any      1.34
# 
# === Runtime Recommends ===
# 
#     Module     Want  Have
#     ---------- ---- -----
#     HTTP::Tiny  any 0.080
# 
t/00-report-prereqs.t .............. ok
t/01-new.t ......................... ok
t/02-shortcuts.t ................... ok
t/03-post_form.t ................... ok
    # Can't locate Net/Curl/Easy.pm in @INC (you may need to install the Net::Curl::Easy module) (@INC contains: t/lib C:\Strawberry\cpan\build\HTTP-AnyUA-0.904-0\blib\lib C:\Strawberry\cpan\build\HTTP-AnyUA-0.904-0\blib\arch C:\home\wind\perl5\lib\perl5/MSWin32-x86-multi-thread-64int C:\home\wind\perl5\lib\perl5 C:/Strawberry/perl/site/lib C:/Strawberry/perl/vendor/lib C:/Strawberry/perl/lib .) at (eval 174) line 2.
t/04-internal-exception.t .......... ok
'-' ‚́A“à•”ƒRƒ}ƒ“ƒh‚Ü‚½‚ÍŠO•”ƒRƒ}ƒ“ƒhA
‘€ì‰Â”\‚ȃvƒƒOƒ‰ƒ€‚Ü‚½‚̓oƒbƒ` ƒtƒ@ƒCƒ‹‚Æ‚µ‚Ä”FŽ¯‚³‚ê‚Ä‚¢‚Ü‚¹‚ñB
# Could not start test server at t/lib/Server.pm line 100.
t/10-get.t ......................... skipped: Could not start test server.
'-' ‚́A“à•”ƒRƒ}ƒ“ƒh‚Ü‚½‚ÍŠO•”ƒRƒ}ƒ“ƒhA
‘€ì‰Â”\‚ȃvƒƒOƒ‰ƒ€‚Ü‚½‚̓oƒbƒ` ƒtƒ@ƒCƒ‹‚Æ‚µ‚Ä”FŽ¯‚³‚ê‚Ä‚¢‚Ü‚¹‚ñB
# Could not start test server at t/lib/Server.pm line 100.
t/11-post.t ........................ skipped: Could not start test server.
'-' ‚́A“à•”ƒRƒ}ƒ“ƒh‚Ü‚½‚ÍŠO•”ƒRƒ}ƒ“ƒhA
‘€ì‰Â”\‚ȃvƒƒOƒ‰ƒ€‚Ü‚½‚̓oƒbƒ` ƒtƒ@ƒCƒ‹‚Æ‚µ‚Ä”FŽ¯‚³‚ê‚Ä‚¢‚Ü‚¹‚ñB
# Could not start test server at t/lib/Server.pm line 100.
t/12-put.t ......................... skipped: Could not start test server.
'-' ‚́A“à•”ƒRƒ}ƒ“ƒh‚Ü‚½‚ÍŠO•”ƒRƒ}ƒ“ƒhA
‘€ì‰Â”\‚ȃvƒƒOƒ‰ƒ€‚Ü‚½‚̓oƒbƒ` ƒtƒ@ƒCƒ‹‚Æ‚µ‚Ä”FŽ¯‚³‚ê‚Ä‚¢‚Ü‚¹‚ñB
# Could not start test server at t/lib/Server.pm line 100.
t/13-head.t ........................ skipped: Could not start test server.
'-' ‚́A“à•”ƒRƒ}ƒ“ƒh‚Ü‚½‚ÍŠO•”ƒRƒ}ƒ“ƒhA
‘€ì‰Â”\‚ȃvƒƒOƒ‰ƒ€‚Ü‚½‚̓oƒbƒ` ƒtƒ@ƒCƒ‹‚Æ‚µ‚Ä”FŽ¯‚³‚ê‚Ä‚¢‚Ü‚¹‚ñB
# Could not start test server at t/lib/Server.pm line 100.
t/14-delete.t ...................... skipped: Could not start test server.
'-' ‚́A“à•”ƒRƒ}ƒ“ƒh‚Ü‚½‚ÍŠO•”ƒRƒ}ƒ“ƒhA
‘€ì‰Â”\‚ȃvƒƒOƒ‰ƒ€‚Ü‚½‚̓oƒbƒ` ƒtƒ@ƒCƒ‹‚Æ‚µ‚Ä”FŽ¯‚³‚ê‚Ä‚¢‚Ü‚¹‚ñB
# Could not start test server at t/lib/Server.pm line 100.
t/15-custom-method.t ............... skipped: Could not start test server.
'-' ‚́A“à•”ƒRƒ}ƒ“ƒh‚Ü‚½‚ÍŠO•”ƒRƒ}ƒ“ƒhA
‘€ì‰Â”\‚ȃvƒƒOƒ‰ƒ€‚Ü‚½‚̓oƒbƒ` ƒtƒ@ƒCƒ‹‚Æ‚µ‚Ä”FŽ¯‚³‚ê‚Ä‚¢‚Ü‚¹‚ñB
# Could not start test server at t/lib/Server.pm line 100.
t/20-data_callback.t ............... skipped: Could not start test server.
'-' ‚́A“à•”ƒRƒ}ƒ“ƒh‚Ü‚½‚ÍŠO•”ƒRƒ}ƒ“ƒhA
‘€ì‰Â”\‚ȃvƒƒOƒ‰ƒ€‚Ü‚½‚̓oƒbƒ` ƒtƒ@ƒCƒ‹‚Æ‚µ‚Ä”FŽ¯‚³‚ê‚Ä‚¢‚Ü‚¹‚ñB
# Could not start test server at t/lib/Server.pm line 100.
t/21-basic-auth.t .................. skipped: Could not start test server.
'-' ‚́A“à•”ƒRƒ}ƒ“ƒh‚Ü‚½‚ÍŠO•”ƒRƒ}ƒ“ƒhA
‘€ì‰Â”\‚ȃvƒƒOƒ‰ƒ€‚Ü‚½‚̓oƒbƒ` ƒtƒ@ƒCƒ‹‚Æ‚µ‚Ä”FŽ¯‚³‚ê‚Ä‚¢‚Ü‚¹‚ñB
# Could not start test server at t/lib/Server.pm line 100.
t/22-redirects.t ................... skipped: Could not start test server.
'-' ‚́A“à•”ƒRƒ}ƒ“ƒh‚Ü‚½‚ÍŠO•”ƒRƒ}ƒ“ƒhA
‘€ì‰Â”\‚ȃvƒƒOƒ‰ƒ€‚Ü‚½‚̓oƒbƒ` ƒtƒ@ƒCƒ‹‚Æ‚µ‚Ä”FŽ¯‚³‚ê‚Ä‚¢‚Ü‚¹‚ñB
# Could not start test server at t/lib/Server.pm line 100.
t/23-content-coderef.t ............. skipped: Could not start test server.
t/40-middleware-content-length.t ... ok
t/40-middleware-request-headers.t .. ok
t/40-middleware-runtime.t .......... ok
t/50-future-subclass.t ............. ok
All tests successful.
Files=20, Tests=50, 31 wallclock secs ( 0.22 usr +  0.13 sys =  0.34 CPU)
Result: PASS

------------------------------
PREREQUISITES
------------------------------

Prerequisite modules loaded:

requires:

    Module              Need  Have     
    ------------------- ----- ---------
    bytes               0     1.04     
    Carp                0     1.50     
    Exporter            0     5.74     
    Fcntl               0     1.13     
    Future              0     0.48     
    MIME::Base64        0     3.16     
    Module::Loader      0     0.04     
    parent              0     0.234    
    perl                5.010 5.022002 
    Scalar::Util        0     1.62     
    strict              0     1.09     
    Time::HiRes         0     1.9764_02
    Time::Local         0     1.31     
    warnings            0     1.34     

build_requires:

    Module              Need  Have     
    ------------------- ----- ---------
    ExtUtils::MakeMaker 0     7.64     
    File::Spec          0     3.75     
    IO::Handle          0     1.48     
    IPC::Open3          0     1.18     
    lib                 0     0.63     
    namespace::clean    0     0.26     
    Test2::API          0     1.302190 
    Test::Exception     0     0.43     
    Test::More          0     1.302190 

configure_requires:

    Module              Need  Have     
    ------------------- ----- ---------
    ExtUtils::MakeMaker 0     7.64     


------------------------------
ENVIRONMENT AND OTHER CONTEXT
------------------------------

Environment variables:

    COMSPEC = C:\windows\system32\cmd.exe
    NONINTERACTIVE_TESTING = 1
    NUMBER_OF_PROCESSORS = 4
    PATH = C:\home\wind\perl5\bin;C:\windows\system32;C:\windows;C:\windows\System32\Wbem;C:\windows\System32\WindowsPowerShell\v1.0\;C:\Strawberry\c\bin;C:\Strawberry\perl\site\bin;C:\Strawberry\perl\bin
    PERL5LIB = C:\home\wind\perl5\lib\perl5
    PERL5OPT = 
    PERL5_CPANPLUS_IS_RUNNING = 3236
    PERL5_CPAN_IS_RUNNING = 3236
    PERL_LOCAL_LIB_ROOT = C:\home\wind\perl5
    PERL_MB_OPT = --install_base "C:\\home\\wind\\perl5"
    PERL_MM_OPT = INSTALL_BASE=C:\\home\\wind\\perl5
    PERL_MM_USE_DEFAULT = 1
    PERL_USE_UNSAFE_INC = 1
    PROCESSOR_IDENTIFIER = x86 Family 6 Model 37 Stepping 5, GenuineIntel
    TEMP = C:\Users\user\AppData\Local\Temp
    TERM = dumb

Perl special variables (and OS-specific diagnostics, for MSWin32):

    $^X = C:\Strawberry\perl\bin\perl.exe
    $UID/$EUID = 0 / 0
    $GID = 0
    $EGID = 0
    Win32::GetOSName = Win7
    Win32::GetOSVersion = Service Pack 1, 6, 1, 7601, 2, 1, 0, 256, 1
    Win32::FsType = NTFS
    Win32::IsAdminUser = 0

Perl module toolchain versions installed:

    Module              Have    
    ------------------- --------
    CPAN                2.33    
    CPAN::Meta          2.150010
    Cwd                 3.75    
    ExtUtils::CBuilder  0.280236
    ExtUtils::Command   7.64    
    ExtUtils::Install   2.20    
    ExtUtils::MakeMaker 7.64    
    ExtUtils::Manifest  1.73    
    ExtUtils::ParseXS   3.44    
    File::Spec          3.75    
    JSON                4.05    
    JSON::PP            4.07    
    Module::Build       0.42_28 
    Module::Signature   0.88    
    Parse::CPAN::Meta   2.150010
    Test::Harness       3.42    
    Test::More          1.302190
    YAML                1.27    
    YAML::Syck          1.34    
    version             0.9929  


--

Summary of my perl5 (revision 5 version 22 subversion 2) configuration:
   
  Platform:
    osname=MSWin32, osvers=6.3, archname=MSWin32-x86-multi-thread-64int
    uname='Win32 strawberry-perl 5.22.2.1 #1 Sat Apr 30 11:51:13 2016 i386'
    config_args='undef'
    hint=recommended, useposix=true, d_sigaction=undef
    useithreads=define, usemultiplicity=define
    use64bitint=define, use64bitall=undef, uselongdouble=undef
    usemymalloc=n, bincompat5005=undef
  Compiler:
    cc='gcc', ccflags =' -s -O2 -DWIN32  -DPERL_TEXTMODE_SCRIPTS -DPERL_IMPLICIT_CONTEXT -DPERL_IMPLICIT_SYS -fwrapv -fno-strict-aliasing -mms-bitfields',
    optimize='-s -O2',
    cppflags='-DWIN32'
    ccversion='', gccversion='4.9.2', gccosandvers=''
    intsize=4, longsize=4, ptrsize=4, doublesize=8, byteorder=12345678, doublekind=3
    d_longlong=define, longlongsize=8, d_longdbl=define, longdblsize=12, longdblkind=3
    ivtype='long long', ivsize=8, nvtype='double', nvsize=8, Off_t='long long', lseeksize=8
    alignbytes=8, prototype=define
  Linker and Libraries:
    ld='g++', ldflags ='-s -L"C:\Strawberry\perl\lib\CORE" -L"C:\Strawberry\c\lib"'
    libpth=C:\Strawberry\c\lib C:\Strawberry\c\i686-w64-mingw32\lib C:\Strawberry\c\lib\gcc\i686-w64-mingw32\4.9.2
    libs=-lmoldname -lkernel32 -luser32 -lgdi32 -lwinspool -lcomdlg32 -ladvapi32 -lshell32 -lole32 -loleaut32 -lnetapi32 -luuid -lws2_32 -lmpr -lwinmm -lversion -lodbc32 -lodbccp32 -lcomctl32
    perllibs=-lmoldname -lkernel32 -luser32 -lgdi32 -lwinspool -lcomdlg32 -ladvapi32 -lshell32 -lole32 -loleaut32 -lnetapi32 -luuid -lws2_32 -lmpr -lwinmm -lversion -lodbc32 -lodbccp32 -lcomctl32
    libc=, so=dll, useshrplib=true, libperl=libperl522.a
    gnulibc_version=''
  Dynamic Linking:
    dlsrc=dl_win32.xs, dlext=xs.dll, d_dlsymun=undef, ccdlflags=' '
    cccdlflags=' ', lddlflags='-mdll -s -L"C:\Strawberry\perl\lib\CORE" -L"C:\Strawberry\c\lib"'


Characteristics of this binary (from libperl): 
  Compile-time options: HAS_TIMES HAVE_INTERP_INTERN MULTIPLICITY
                        PERLIO_LAYERS PERL_DONT_CREATE_GVSV
                        PERL_HASH_FUNC_ONE_AT_A_TIME_HARD
                        PERL_IMPLICIT_CONTEXT PERL_IMPLICIT_SYS
                        PERL_MALLOC_WRAP PERL_NEW_COPY_ON_WRITE
                        PERL_PRESERVE_IVUV USE_64_BIT_INT USE_ITHREADS
                        USE_LARGE_FILES USE_LOCALE USE_LOCALE_COLLATE
                        USE_LOCALE_CTYPE USE_LOCALE_NUMERIC USE_LOCALE_TIME
                        USE_PERLIO USE_PERL_ATOF
  Built under MSWin32
  Compiled at Apr 30 2016 11:56:07
  %ENV:
    PERL5LIB="C:\home\wind\perl5\lib\perl5"
    PERL5_CPANPLUS_IS_RUNNING="3236"
    PERL5_CPAN_IS_RUNNING="3236"
    PERL_LOCAL_LIB_ROOT="C:\home\wind\perl5"
    PERL_MB_OPT="--install_base "C:\\home\\wind\\perl5""
    PERL_MM_OPT="INSTALL_BASE=C:\\home\\wind\\perl5"
    PERL_MM_USE_DEFAULT="1"
    PERL_USE_UNSAFE_INC="1"
  @INC:
    C:\home\wind\perl5\lib\perl5/MSWin32-x86-multi-thread-64int
    C:\home\wind\perl5\lib\perl5
    C:/Strawberry/perl/site/lib
    C:/Strawberry/perl/vendor/lib
    C:/Strawberry/perl/lib
    .