Report for Unicode-Normalize-1.25

Back
From: metabase:user:f1a67388-c326-11df-83bd-eeb6a60ca1d3
Subject: PASS Unicode-Normalize-1.25 v5.22.1 GNU/Linux
Date: 2016-02-23T22:59:01Z

This distribution has been tested as part of the CPAN Testers
project, supporting the Perl programming language.  See
http://wiki.cpantesters.org/ for more information or email
questions to cpan-testers-discuss@perl.org


--
Dear Karl Williamson,

This is a computer-generated report for Unicode-Normalize-1.25
on perl 5.22.1, created by CPAN-Reporter-1.2015.

Thank you for uploading your work to CPAN.  Congratulations!
All tests were successful.

Sections of this report:

    * Tester comments
    * Program output
    * Prerequisites
    * Environment and other context

------------------------------
TESTER COMMENTS
------------------------------

Additional comments from tester:

none provided

------------------------------
PROGRAM OUTPUT
------------------------------

Output from '/usr/bin/make test':

Running Mkbootstrap for Unicode::Normalize ()
chmod 644 "Normalize.bs"
PERL_DL_NONLAZY=1 "/usr/bin/perl" "-MExtUtils::Command::MM" "-MTest::Harness" "-e" "undef *Test::Harness::Switches; test_harness(0, 'blib/lib', 'blib/arch')" t/*.t
t/fcdc.t ...... ok
t/form.t ...... ok
t/func.t ...... ok
t/illegal.t ... ok
t/norm.t ...... ok
t/null.t ...... ok
t/partial1.t .. ok
t/partial2.t .. ok
t/proto.t ..... ok
t/split.t ..... ok
t/test.t ...... ok
t/tie.t ....... ok
All tests successful.
Files=12, Tests=748,  0 wallclock secs ( 0.14 usr  0.00 sys +  0.26 cusr  0.02 csys =  0.42 CPU)
Result: PASS

------------------------------
PREREQUISITES
------------------------------

Prerequisite modules loaded:

requires:

    Module              Need     Have    
    ------------------- -------- --------
    Carp                0        1.38    
    constant            0        1.33    
    DynaLoader          0        1.32    
    Exporter            0        5.72    
    File::Spec          0        3.56    
    perl                5.006000 5.022001
    SelectSaver         0        1.02    
    strict              0        1.09    
    warnings            0        1.34    

build_requires:

    Module              Need     Have    
    ------------------- -------- --------
    ExtUtils::MakeMaker 0        7.10    

configure_requires:

    Module              Need     Have    
    ------------------- -------- --------
    ExtUtils::MakeMaker 0        7.10    


------------------------------
ENVIRONMENT AND OTHER CONTEXT
------------------------------

Environment variables:

    LANG = en_GB.UTF-8
    LANGUAGE = en_GB:de:fr
    LC_MONETARY = nds_DE.UTF-8
    PATH = /data/mike/bin:/data/mike/bin:/home/mike/bin:/usr/local/bin:/usr/bin:/bin:/usr/bin/X11:/usr/games
    PERL5LIB = 
    PERL5OPT = 
    PERL5_CPANPLUS_IS_RUNNING = 3566
    PERL5_CPAN_IS_RUNNING = 3566
    SHELL = /bin/bash
    TERM = xterm

Perl special variables (and OS-specific diagnostics, for MSWin32):

    $^X = /usr/bin/perl
    $UID/$EUID = 1000 / 1000
    $GID = 100 100 101 102 103
    $EGID = 100 100 101 102 103

Perl module toolchain versions installed:

    Module              Have    
    ------------------- --------
    CPAN                2.11    
    CPAN::Meta          2.150005
    Cwd                 3.56    
    ExtUtils::CBuilder  0.280224
    ExtUtils::Command   7.10    
    ExtUtils::Install   2.04    
    ExtUtils::MakeMaker 7.10    
    ExtUtils::Manifest  1.70    
    ExtUtils::ParseXS   3.30    
    File::Spec          3.56    
    JSON                2.90    
    JSON::PP            2.27300 
    Module::Build       0.4216  
    Module::Signature   0.79    
    Parse::CPAN::Meta   1.4417  
    Test::Harness       3.36    
    Test::More          1.001014
    YAML                1.15    
    YAML::Syck          n/a     
    version             0.9909  


--

Summary of my perl5 (revision 5 version 22 subversion 1) configuration:
   
  Platform:
    osname=linux, osvers=4.4.0-3-default, archname=x86_64-linux-thread-multi
    uname='linux build23 4.4.0-3-default #1 smp preempt thu jan 28 08:15:06 utc 2016 (9f68b90) x86_64 x86_64 x86_64 gnulinux '
    config_args='-ds -e -Dprefix=/usr -Dvendorprefix=/usr -Dinstallusrbinperl -Dusethreads -Di_db -Di_dbm -Di_ndbm -Di_gdbm -Dd_dbm_open -Duseshrplib=true -Doptimize=-fmessage-length=0 -grecord-gcc-switches -O2 -Wall -D_FORTIFY_SOURCE=2 -fstack-protector -funwind-tables -fasynchronous-unwind-tables -g -Wall -pipe -Accflags=-DPERL_USE_SAFE_PUTENV -Dotherlibdirs=/usr/lib/perl5/site_perl -Dinc_version_list=5.22.0/x86_64-linux-thread-multi 5.22.0'
    hint=recommended, useposix=true, d_sigaction=define
    useithreads=define, usemultiplicity=define
    use64bitint=define, use64bitall=define, uselongdouble=undef
    usemymalloc=n, bincompat5005=undef
  Compiler:
    cc='cc', ccflags ='-D_REENTRANT -D_GNU_SOURCE -DPERL_USE_SAFE_PUTENV -fwrapv -fno-strict-aliasing -pipe -fstack-protector-strong -D_LARGEFILE_SOURCE -D_FILE_OFFSET_BITS=64',
    optimize='-fmessage-length=0 -grecord-gcc-switches -O2 -Wall -D_FORTIFY_SOURCE=2 -fstack-protector -funwind-tables -fasynchronous-unwind-tables -g -Wall -pipe',
    cppflags='-D_REENTRANT -D_GNU_SOURCE -DPERL_USE_SAFE_PUTENV -fwrapv -fno-strict-aliasing -pipe -fstack-protector-strong'
    ccversion='', gccversion='5.3.1 20151207 [gcc-5-branch revision 231355]', gccosandvers=''
    intsize=4, longsize=8, ptrsize=8, doublesize=8, byteorder=12345678, doublekind=3
    d_longlong=define, longlongsize=8, d_longdbl=define, longdblsize=16, longdblkind=3
    ivtype='long', ivsize=8, nvtype='double', nvsize=8, Off_t='off_t', lseeksize=8
    alignbytes=8, prototype=define
  Linker and Libraries:
    ld='cc', ldflags =' -L/usr/local/lib64 -fstack-protector-strong'
    libpth=/usr/local/lib /usr/lib64/gcc/x86_64-suse-linux/5/include-fixed /usr/lib64/gcc/x86_64-suse-linux/5/../../../../x86_64-suse-linux/lib /usr/lib /lib/../lib64 /usr/lib/../lib64 /lib /lib64 /usr/lib64 /usr/local/lib64
    libs=-lm -ldl -lcrypt -lpthread
    perllibs=-lm -ldl -lcrypt -lpthread
    libc=/lib64/libc-2.22.so, so=so, useshrplib=true, libperl=libperl.so
    gnulibc_version='2.22'
  Dynamic Linking:
    dlsrc=dl_dlopen.xs, dlext=so, d_dlsymun=undef, ccdlflags='-Wl,-E -Wl,-rpath,/usr/lib/perl5/5.22.1/x86_64-linux-thread-multi/CORE'
    cccdlflags='-fPIC', lddlflags='-shared -L/usr/local/lib64 -fstack-protector-strong'


Characteristics of this binary (from libperl): 
  Compile-time options: HAS_TIMES MULTIPLICITY PERLIO_LAYERS
                        PERL_DONT_CREATE_GVSV
                        PERL_HASH_FUNC_ONE_AT_A_TIME_HARD
                        PERL_IMPLICIT_CONTEXT PERL_MALLOC_WRAP
                        PERL_NEW_COPY_ON_WRITE PERL_PRESERVE_IVUV
                        PERL_USE_SAFE_PUTENV USE_64_BIT_ALL USE_64_BIT_INT
                        USE_ITHREADS USE_LARGE_FILES USE_LOCALE
                        USE_LOCALE_COLLATE USE_LOCALE_CTYPE
                        USE_LOCALE_NUMERIC USE_LOCALE_TIME USE_PERLIO
                        USE_PERL_ATOF USE_REENTRANT_API
  Built under linux
  Compiled at Feb 17 2016 09:49:09
  %ENV:
    PERL5LIB=""
    PERL5OPT=""
    PERL5_CPANPLUS_IS_RUNNING="3566"
    PERL5_CPAN_IS_RUNNING="3566"
  @INC:
    /usr/lib/perl5/site_perl/5.22.1/x86_64-linux-thread-multi
    /usr/lib/perl5/site_perl/5.22.1
    /usr/lib/perl5/vendor_perl/5.22.1/x86_64-linux-thread-multi
    /usr/lib/perl5/vendor_perl/5.22.1
    /usr/lib/perl5/5.22.1/x86_64-linux-thread-multi
    /usr/lib/perl5/5.22.1
    /usr/lib/perl5/site_perl/5.22.0/x86_64-linux-thread-multi
    /usr/lib/perl5/site_perl/5.22.0
    /usr/lib/perl5/vendor_perl/5.22.0/x86_64-linux-thread-multi
    /usr/lib/perl5/vendor_perl/5.22.0
    /usr/lib/perl5/site_perl
    .