Report for Dist-Zilla-Plugin-CheckIssues-0.008

Back
From: metabase:user:320bfe00-2aae-11df-837a-5e0a49663a4f
Subject: PASS Dist-Zilla-Plugin-CheckIssues-0.008 v5.14.4 GNU/Linux
Date: 2015-04-10T20:41:56Z

This distribution has been tested as part of the CPAN Testers
project, supporting the Perl programming language.  See
http://wiki.cpantesters.org/ for more information or email
questions to cpan-testers-discuss@perl.org


--
Dear Karen Etheridge,

This is a computer-generated report for Dist-Zilla-Plugin-CheckIssues-0.008
on perl 5.14.4, created by CPAN-Reporter-1.2014.

Thank you for uploading your work to CPAN.  Congratulations!
All tests were successful.

Sections of this report:

    * Tester comments
    * Program output
    * Prerequisites
    * Environment and other context

------------------------------
TESTER COMMENTS
------------------------------

Additional comments from tester:

this report is from an automated smoke testing program
and was not reviewed by a human for accuracy

------------------------------
PROGRAM OUTPUT
------------------------------

Output from './Build test':


# Versions for all modules listed in MYMETA.json (including optional ones):
# 
# === Configure Requires ===
# 
#     Module               Want  Have
#     ------------------- ----- -----
#     Module::Build::Tiny 0.039 0.039
# 
# === Test Requires ===
# 
#     Module                          Want         Have
#     ------------------------------- ---- ------------
#     Dist::Zilla::App::Tester         any        5.032
#     Dist::Zilla::Role::MetaProvider  any        5.032
#     ExtUtils::MakeMaker              any      7.05_20
#     File::Spec                       any         3.47
#     File::pushd                      any        1.009
#     Moose::Util                      any       2.1403
#     Path::Tiny                       any        0.068
#     Test::DZil                       any        5.032
#     Test::Deep                       any        0.115
#     Test::Fatal                      any        0.014
#     Test::More                      0.88 1.301001_100
#     if                               any       0.0601
#     lib                              any         0.63
# 
# === Test Recommends ===
# 
#     Module         Want     Have
#     ---------- -------- --------
#     CPAN::Meta 2.120900 2.150001
# 
# === Runtime Requires ===
# 
#     Module                               Want     Have
#     -------------------------------- -------- --------
#     Dist::Zilla::App                      any    5.032
#     Dist::Zilla::Role::BeforeRelease      any    5.032
#     Encode                                any     2.72
#     HTTP::Headers                         any     6.05
#     HTTP::Tiny                            any    0.054
#     JSON::MaybeXS                    1.001000 1.003005
#     List::Util                           1.33     1.41
#     Moose                                 any   2.1403
#     Term::ANSIColor                      3.00     4.03
#     namespace::autoclean                  any     0.24
#     strict                                any     1.04
#     warnings                              any     1.12
# 
# === Other Modules ===
# 
#     Module        Have
#     ------------- ----
#     Pod::Coverage 0.23
# 
t/00-report-prereqs.t .. ok
t/01-basic.t ........... ok
t/02-no-rt.t ........... ok
t/03-no-repo.t ......... ok
t/04-command.t ......... ok
t/zzz-check-breaks.t ... ok
All tests successful.
Files=6, Tests=19, 18 wallclock secs ( 0.04 usr  0.04 sys +  7.36 cusr  0.90 csys =  8.34 CPU)
Result: PASS

------------------------------
PREREQUISITES
------------------------------

Prerequisite modules loaded:

requires:

    Module                           Need     Have        
    -------------------------------- -------- ------------
    Dist::Zilla::App                 0        5.032       
    Dist::Zilla::Role::BeforeRelease 0        5.032       
    Encode                           0        2.72        
    HTTP::Headers                    0        6.05        
    HTTP::Tiny                       0        0.054       
    JSON::MaybeXS                    1.001000 1.003005    
    List::Util                       1.33     1.41        
    Moose                            0        2.1403      
    namespace::autoclean             0        0.24        
    perl                             5.006    5.014004    
    strict                           0        1.04        
    Term::ANSIColor                  3.00     4.03        
    warnings                         0        1.12        

build_requires:

    Module                           Need     Have        
    -------------------------------- -------- ------------
    Dist::Zilla::App::Tester         0        5.032       
    Dist::Zilla::Role::MetaProvider  0        5.032       
    ExtUtils::MakeMaker              0        7.05_20     
    File::pushd                      0        1.009       
    File::Spec                       0        3.47        
    if                               0        0.0601      
    lib                              0        0.63        
    Moose::Util                      0        2.1403      
    Path::Tiny                       0        0.068       
    perl                             5.006    5.014004    
    Test::Deep                       0        0.115       
    Test::DZil                       0        5.032       
    Test::Fatal                      0        0.014       
    Test::More                       0.88     1.301001_100

configure_requires:

    Module                           Need     Have        
    -------------------------------- -------- ------------
    Module::Build::Tiny              0.039    0.039       
    perl                             5.006    5.014004    


------------------------------
ENVIRONMENT AND OTHER CONTEXT
------------------------------

Environment variables:

    AUTOMATED_TESTING = 1
    LANG = en_US.UTF-8
    LANGUAGE = en_US:en
    PATH = /home/sand/bin:/usr/local/bin:/usr/bin:/bin:/usr/games:/usr/local/perl/bin:/usr/X11/bin:/sbin:/usr/sbin
    PERL5LIB = 
    PERL5OPT = 
    PERL5_CPANPLUS_IS_RUNNING = 3308
    PERL5_CPAN_IS_RUNNING = 3308
    PERL_MM_USE_DEFAULT = 1
    SHELL = /usr/bin/zsh
    TERM = screen

Perl special variables (and OS-specific diagnostics, for MSWin32):

    $^X = /home/sand/src/perl/repoperls/installed-perls/perl/v5.14.4/a2da/bin/perl
    $UID/$EUID = 1005 / 1005
    $GID = 1005 1005
    $EGID = 1005 1005

Perl module toolchain versions installed:

    Module              Have        
    ------------------- ------------
    CPAN                2.10        
    CPAN::Meta          2.150001    
    Cwd                 3.47        
    ExtUtils::CBuilder  0.280220    
    ExtUtils::Command   7.05_20     
    ExtUtils::Install   1.56        
    ExtUtils::MakeMaker 7.05_20     
    ExtUtils::Manifest  1.70        
    ExtUtils::ParseXS   3.24        
    File::Spec          3.47        
    JSON                2.90        
    JSON::PP            2.27203     
    Module::Build       0.4211      
    Module::Signature   0.78        
    Parse::CPAN::Meta   1.4414      
    Test::Harness       3.35        
    Test::More          1.301001_100
    YAML                1.14        
    YAML::Syck          1.29        
    version             0.9912      


--

Summary of my perl5 (revision 5 version 14 subversion 4) configuration:
  Commit id: 26c5c13a4ece9084f310610bb17fb2f24c72a73e
  Platform:
    osname=linux, osvers=3.16.0-4-amd64, archname=x86_64-linux-thread-multi-ld
    uname='linux k83 3.16.0-4-amd64 #1 smp debian 3.16.7-ckt7-1 (2015-03-01) x86_64 gnulinux '
    config_args='-Dprefix=/home/sand/src/perl/repoperls/installed-perls/perl/v5.14.4/a2da -Dmyhostname=k83 -Dinstallusrbinperl=n -Uversiononly -Dusedevel -des -Ui_db -Duseithreads -Duselongdouble -DDEBUGGING=-g'
    hint=recommended, useposix=true, d_sigaction=define
    useithreads=define, usemultiplicity=define
    useperlio=define, d_sfio=undef, uselargefiles=define, usesocks=undef
    use64bitint=define, use64bitall=define, uselongdouble=define
    usemymalloc=n, bincompat5005=undef
  Compiler:
    cc='cc', ccflags ='-D_REENTRANT -D_GNU_SOURCE -fno-strict-aliasing -pipe -fstack-protector -I/usr/local/include -D_LARGEFILE_SOURCE -D_FILE_OFFSET_BITS=64',
    optimize='-O2 -g',
    cppflags='-D_REENTRANT -D_GNU_SOURCE -fno-strict-aliasing -pipe -fstack-protector -I/usr/local/include'
    ccversion='', gccversion='4.9.2', gccosandvers=''
    intsize=4, longsize=8, ptrsize=8, doublesize=8, byteorder=12345678
    d_longlong=define, longlongsize=8, d_longdbl=define, longdblsize=16
    ivtype='long', ivsize=8, nvtype='long double', nvsize=16, Off_t='off_t', lseeksize=8
    alignbytes=16, prototype=define
  Linker and Libraries:
    ld='cc', ldflags =' -fstack-protector -L/usr/local/lib'
    libpth=/usr/local/lib /lib/x86_64-linux-gnu /lib/../lib /usr/lib/x86_64-linux-gnu /usr/lib/../lib /lib /usr/lib
    libs=-lnsl -lgdbm -ldb -ldl -lm -lcrypt -lutil -lpthread -lc -lgdbm_compat
    perllibs=-lnsl -ldl -lm -lcrypt -lutil -lpthread -lc
    libc=, so=so, useshrplib=false, libperl=libperl.a
    gnulibc_version='2.19'
  Dynamic Linking:
    dlsrc=dl_dlopen.xs, dlext=so, d_dlsymun=undef, ccdlflags='-Wl,-E'
    cccdlflags='-fPIC', lddlflags='-shared -O2 -g -L/usr/local/lib -fstack-protector'


Characteristics of this binary (from libperl): 
  Compile-time options: MULTIPLICITY PERL_DONT_CREATE_GVSV
                        PERL_IMPLICIT_CONTEXT PERL_MALLOC_WRAP
                        PERL_PRESERVE_IVUV PERL_USE_DEVEL USE_64_BIT_ALL
                        USE_64_BIT_INT USE_ITHREADS USE_LARGE_FILES
                        USE_LONG_DOUBLE USE_PERLIO USE_PERL_ATOF
                        USE_REENTRANT_API
  Built under linux
  Compiled at Mar 15 2015 11:10:43
  %ENV:
    PERL5LIB=""
    PERL5OPT=""
    PERL5_CPANPLUS_IS_RUNNING="3308"
    PERL5_CPAN_IS_RUNNING="3308"
    PERL_MM_USE_DEFAULT="1"
  @INC:
    /home/sand/src/perl/repoperls/installed-perls/perl/v5.14.4/a2da/lib/site_perl/5.14.4/x86_64-linux-thread-multi-ld
    /home/sand/src/perl/repoperls/installed-perls/perl/v5.14.4/a2da/lib/site_perl/5.14.4
    /home/sand/src/perl/repoperls/installed-perls/perl/v5.14.4/a2da/lib/5.14.4/x86_64-linux-thread-multi-ld
    /home/sand/src/perl/repoperls/installed-perls/perl/v5.14.4/a2da/lib/5.14.4
    .