SMS-Net-Send v0.01 Perl 5 v5.24.1 x86_64-linux

Status
Pass
From
Slaven Rezić (SREZIC)
Dist
SMS-Net-Send v0.01
Platform
Perl 5 v5.24.1 x86_64-linux
Date
2019-03-11 15:26:23
ID
07837f0a-4412-11e9-bb31-a2371f24ea8f
This distribution has been tested as part of the CPAN Testers
project, supporting the Perl programming language.  See
http://wiki.cpantesters.org/ for more information or email
questions to cpan-testers-discuss@perl.org


--
Dear Kian Meng, Ang,

This is a computer-generated report for SMS-Net-Send-0.01
on perl 5.24.1, created by CPAN-Reporter-1.2018.

Thank you for uploading your work to CPAN.  Congratulations!
All tests were successful.

Sections of this report:

    * Tester comments
    * Program output
    * Prerequisites
    * Environment and other context

------------------------------
TESTER COMMENTS
------------------------------

Additional comments from tester:

none provided

------------------------------
PROGRAM OUTPUT
------------------------------

Output from './Build test':

t/00-compile.t ............... ok
# Testing with Perl 5.024001, /opt/perl-5.24.1/bin/perl
#     Carp::Always version is 0.16
#     File::Spec version is 3.75
#     HTTP::Request::Common version is 6.18
#     IO::Handle version is 1.39
#     IPC::Open3 version is 1.20
#     JSON version is 4.01
#     LWP::UserAgent version is 6.37
#     Module::Build::Tiny version is 0.039
#     Pod::Coverage::TrustPod version is 0.100005
#     SMS::Send::Driver version is 0.06
#     Test::CPAN::Meta version is 0.25
#     Test::DistManifest version is 1.014
#     Test::Exception version is 0.43
#     Test::HasVersion version is 0.014
#     Test::More version is 1.302140
#     Test::Perl::Critic version is 1.04
#     Test::Warn version is 0.36
#     URL::Encode version is 0.03
#     XML::Hash::LX version is 0.0603
t/000-report-versions.t ...... ok
t/00_compile.t ............... ok
t/01_instantiation.t ......... ok
t/02_required.t .............. ok
t/03_to_mocean_field_name.t .. ok
t/04_send_sms_success.t ...... skipped: $ENV for MOCEAN_XXX not set, skipping live tests
t/05_send_sms_errors.t ....... skipped: $ENV for MOCEAN_XXX not set, skipping live tests
t/author-critic.t ............ skipped: these tests are for testing by the author
t/author-eol.t ............... skipped: these tests are for testing by the author
t/author-minimum-version.t ... skipped: these tests are for testing by the author
t/author-pod-coverage.t ...... skipped: these tests are for testing by the author
t/author-pod-syntax.t ........ skipped: these tests are for testing by the author
t/release-distmeta.t ......... skipped: these tests are for release candidate testing
t/release-has-version.t ...... skipped: these tests are for release candidate testing
t/release-kwalitee.t ......... skipped: these tests are for release candidate testing
t/release-unused-vars.t ...... skipped: these tests are for release candidate testing
All tests successful.
Files=17, Tests=29,  7 wallclock secs ( 0.44 usr  0.43 sys +  4.83 cusr  1.22 csys =  6.92 CPU)
Result: PASS

------------------------------
PREREQUISITES
------------------------------

Prerequisite modules loaded:

requires:

    Module                  Need     Have    
    ----------------------- -------- --------
    Carp::Always            0        0.16    
    HTTP::Request::Common   0        6.18    
    JSON                    0        4.01    
    LWP::UserAgent          0        6.37    
    perl                    5.008005 5.024001
    SMS::Send::Driver       0        0.06    
    URL::Encode             0        0.03    
    XML::Hash::LX           0        0.0603  

build_requires:

    Module                  Need     Have    
    ----------------------- -------- --------
    File::Spec              0        3.75    
    IO::Handle              0        1.39    
    IPC::Open3              0        1.20    
    Pod::Coverage::TrustPod 0        0.100005
    Test::CPAN::Meta        0        0.25    
    Test::DistManifest      0        1.014   
    Test::Exception         0        0.43    
    Test::HasVersion        0        0.014   
    Test::Kwalitee          0        1.27    
    Test::More              0        1.302140
    Test::Perl::Critic      0        1.04    
    Test::Pod::Coverage     0        1.10    
    Test::Warn              0        0.36    

configure_requires:

    Module                  Need     Have    
    ----------------------- -------- --------
    Module::Build::Tiny     0.034    0.039   


------------------------------
ENVIRONMENT AND OTHER CONTEXT
------------------------------

Environment variables:

    LANG = en_US.UTF-8
    PATH = /usr/local/bin:/usr/bin:/bin:/usr/local/sbin:/usr/sbin:/sbin:/home/cpansand/bin/linux-gnu:/home/cpansand/bin/sh:/home/cpansand/bin:/usr/games:/home/cpansand/devel:/home/eserte/src/srezic-misc/scripts
    PERL5LIB = /home/cpansand/.cpan/build/2019031115/Alien-Role-Alt-0.05-6/blib/arch:/home/cpansand/.cpan/build/2019031115/Alien-Role-Alt-0.05-6/blib/lib
    PERL5OPT = 
    PERL5_CPANPLUS_IS_RUNNING = 31062
    PERL5_CPAN_IS_RUNNING = 31062
    PERL5_CPAN_IS_RUNNING_IN_RECURSION = 29472,31062
    PERLDOC = -MPod::Perldoc::ToTextOverstrike
    PERL_BATCH = yes
    PERL_CANARY_STABILITY_NOPROMPT = 1
    PERL_CPAN_REPORTER_CONFIG = /var/tmp/cpansmoker-1023/2019031115/cpanreporter_000_config.ini
    PERL_EXTUTILS_AUTOINSTALL = --defaultdeps
    PERL_USE_UNSAFE_INC = 1
    SHELL = /bin/zsh
    TERM = screen
    TMPDIR = /var/tmp/cpansmoker-1023/2019031115

Perl special variables (and OS-specific diagnostics, for MSWin32):

    $^X = /opt/perl-5.24.1/bin/perl
    $UID/$EUID = 1023 / 1023
    $GID = 1023 1023
    $EGID = 1023 1023

Perl module toolchain versions installed:

    Module              Have    
    ------------------- --------
    CPAN                2.22    
    CPAN::Meta          2.150010
    Cwd                 3.75    
    ExtUtils::CBuilder  0.280230
    ExtUtils::Command   7.34    
    ExtUtils::Install   2.14    
    ExtUtils::MakeMaker 7.34    
    ExtUtils::Manifest  1.72    
    ExtUtils::ParseXS   3.31    
    File::Spec          3.75    
    JSON                4.01    
    JSON::PP            2.97001 
    Module::Build       0.4224  
    Module::Signature   0.83    
    Parse::CPAN::Meta   2.150010
    Test::Harness       3.42    
    Test::More          1.302140
    YAML                1.26    
    YAML::Syck          1.31    
    version             0.9923  


--

Summary of my perl5 (revision 5 version 24 subversion 1) configuration:
   
  Platform:
    osname=linux, osvers=2.6.32-696.3.1.el6.x86_64, archname=x86_64-linux
    uname='linux centos6 2.6.32-696.3.1.el6.x86_64 #1 smp tue may 30 19:52:55 utc 2017 x86_64 x86_64 x86_64 gnulinux '
    config_args='-ds -e -Dprefix=/opt/perl-5.24.1 -Dcf_email=srezic@cpan.org'
    hint=recommended, useposix=true, d_sigaction=define
    useithreads=undef, usemultiplicity=undef
    use64bitint=define, use64bitall=define, uselongdouble=undef
    usemymalloc=n, bincompat5005=undef
  Compiler:
    cc='cc', ccflags ='-fwrapv -fno-strict-aliasing -pipe -fstack-protector -I/usr/local/include -D_LARGEFILE_SOURCE -D_FILE_OFFSET_BITS=64 -D_FORTIFY_SOURCE=2',
    optimize='-O2',
    cppflags='-fwrapv -fno-strict-aliasing -pipe -fstack-protector -I/usr/local/include'
    ccversion='', gccversion='4.4.7 20120313 (Red Hat 4.4.7-18)', gccosandvers=''
    intsize=4, longsize=8, ptrsize=8, doublesize=8, byteorder=12345678, doublekind=3
    d_longlong=define, longlongsize=8, d_longdbl=define, longdblsize=16, longdblkind=3
    ivtype='long', ivsize=8, nvtype='double', nvsize=8, Off_t='off_t', lseeksize=8
    alignbytes=8, prototype=define
  Linker and Libraries:
    ld='cc', ldflags =' -fstack-protector -L/usr/local/lib'
    libpth=/usr/local/lib /usr/lib /lib/../lib64 /usr/lib/../lib64 /lib /lib64 /usr/lib64 /usr/local/lib64
    libs=-lpthread -lnsl -lgdbm -ldb -ldl -lm -lcrypt -lutil -lc
    perllibs=-lpthread -lnsl -ldl -lm -lcrypt -lutil -lc
    libc=libc-2.12.so, so=so, useshrplib=false, libperl=libperl.a
    gnulibc_version='2.12'
  Dynamic Linking:
    dlsrc=dl_dlopen.xs, dlext=so, d_dlsymun=undef, ccdlflags='-Wl,-E'
    cccdlflags='-fPIC', lddlflags='-shared -O2 -L/usr/local/lib -fstack-protector'


Characteristics of this binary (from libperl): 
  Compile-time options: HAS_TIMES PERLIO_LAYERS PERL_COPY_ON_WRITE
                        PERL_DONT_CREATE_GVSV
                        PERL_HASH_FUNC_ONE_AT_A_TIME_HARD PERL_MALLOC_WRAP
                        PERL_PRESERVE_IVUV USE_64_BIT_ALL USE_64_BIT_INT
                        USE_LARGE_FILES USE_LOCALE USE_LOCALE_COLLATE
                        USE_LOCALE_CTYPE USE_LOCALE_NUMERIC USE_LOCALE_TIME
                        USE_PERLIO USE_PERL_ATOF
  Built under linux
  Compiled at Jun 20 2017 18:09:14
  %ENV:
    PERL5LIB="/home/cpansand/.cpan/build/2019031115/Alien-Role-Alt-0.05-6/blib/arch:/home/cpansand/.cpan/build/2019031115/Alien-Role-Alt-0.05-6/blib/lib"
    PERL5OPT=""
    PERL5_CPANPLUS_IS_RUNNING="31062"
    PERL5_CPAN_IS_RUNNING="31062"
    PERL5_CPAN_IS_RUNNING_IN_RECURSION="29472,31062"
    PERLDOC="-MPod::Perldoc::ToTextOverstrike"
    PERL_BATCH="yes"
    PERL_CANARY_STABILITY_NOPROMPT="1"
    PERL_CPAN_REPORTER_CONFIG="/var/tmp/cpansmoker-1023/2019031115/cpanreporter_000_config.ini"
    PERL_EXTUTILS_AUTOINSTALL="--defaultdeps"
    PERL_USE_UNSAFE_INC="1"
  @INC:
    /home/cpansand/.cpan/build/2019031115/Alien-Role-Alt-0.05-6/blib/arch
    /home/cpansand/.cpan/build/2019031115/Alien-Role-Alt-0.05-6/blib/lib
    /opt/perl-5.24.1/lib/site_perl/5.24.1/x86_64-linux
    /opt/perl-5.24.1/lib/site_perl/5.24.1
    /opt/perl-5.24.1/lib/5.24.1/x86_64-linux
    /opt/perl-5.24.1/lib/5.24.1
    .