Syntax-Feature-Try v1.005 Perl 5 v5.37.8 x86_64-linux-thread-multi-ld

Status
Pass
From
Andreas J. König (ANDK)
Dist
Syntax-Feature-Try v1.005
Platform
Perl 5 v5.37.8 x86_64-linux-thread-multi-ld
Date
2023-02-02 17:07:09
ID
0784f6ce-a31c-11ed-9b69-aa8269a3f45f
This distribution has been tested as part of the CPAN Testers
project, supporting the Perl programming language.  See
http://wiki.cpantesters.org/ for more information or email
questions to cpan-testers-discuss@perl.org


--
Dear Tomas Pokorny,

This is a computer-generated report for Syntax-Feature-Try-1.005
on perl 5.37.8, created by CPAN-Reporter-1.2018.

Thank you for uploading your work to CPAN.  Congratulations!
All tests were successful.

Sections of this report:

    * Tester comments
    * Program output
    * Prerequisites
    * Environment and other context

------------------------------
TESTER COMMENTS
------------------------------

Additional comments from tester:

this report is from an automated smoke testing program
and was not reviewed by a human for accuracy

------------------------------
PROGRAM OUTPUT
------------------------------

Output from '/usr/bin/make test':

"/tmp/basesmoker-reloperl-VOJ8/bin/perl" -MExtUtils::Command::MM -e 'cp_nonempty' -- Try.bs blib/arch/auto/Syntax/Feature/Try/Try.bs 644
PERL_DL_NONLAZY=1 "/tmp/basesmoker-reloperl-VOJ8/bin/perl" "-MExtUtils::Command::MM" "-MTest::Harness" "-e" "undef *Test::Harness::Switches; test_harness(0, 'blib/lib', 'blib/arch')" t/*.t
t/01_use_ok.t ..................... ok
t/10_parser_output.t .............. ok
t/15_parser_syntax_ok.t ........... ok
t/20_parser_syntax_errors.t ....... ok
t/20_parser_warnings.t ............ ok
t/author-critic.t ................. skipped: these tests are for testing by the author
t/author-pod-coverage.t ........... skipped: these tests are for testing by the author
t/author-pod-syntax.t ............. skipped: these tests are for testing by the author
t/catch_isa.t ..................... ok
t/catch_moose_type_constraints.t .. ok
t/catch_others.t .................. ok
t/catch_variable.t ................ ok
t/catch_without_variable.t ........ ok
t/customer_exception_matchers.t ... ok
t/exception_class.t ............... ok
t/exit.t .......................... ok
t/finally.t ....................... ok
t/import.t ........................ ok
t/last_op_in_block.t .............. ok
t/line_numbers.t .................. ok
t/localized_error_variable.t ...... ok
t/loops.t ......................... ok
t/memory_leaks.t .................. ok
t/moose_throwable.t ............... ok
t/nested.t ........................ ok
t/recursive.t ..................... ok
t/return.t ........................ ok
t/statement.t ..................... ok
t/subroutine_args.t ............... ok
t/wantarray.t ..................... ok
All tests successful.

Test Summary Report
-------------------
t/loops.t                       (Wstat: 0 Tests: 5 Failed: 0)
  TODO passed:   2, 4
Files=30, Tests=337,  4 wallclock secs ( 0.08 usr  0.04 sys +  3.29 cusr  0.51 csys =  3.92 CPU)
Result: PASS

------------------------------
PREREQUISITES
------------------------------

Prerequisite modules loaded:

requires:

    Module                       Need  Have    
    ---------------------------- ----- --------
    Carp                         0     1.54    
    perl                         5.014 5.037008
    Scalar::Util                 0     1.63    
    strict                       0     1.12    
    syntax                       0.004 0.004   
    warnings                     0     1.61    
    XSLoader                     0     0.32    

build_requires:

    Module                       Need  Have    
    ---------------------------- ----- --------
    base                         0     2.27    
    Exception::Class             0     1.45    
    Exporter                     0     5.77    
    ExtUtils::MakeMaker          0     7.66    
    FindBin                      0     1.53    
    lib                          0     0.65    
    Moose                        0     2.2203  
    Moose::Util::TypeConstraints 0     2.2203  
    syntax                       0.004 0.004   
    Test::Exception              0     0.43    
    Test::LeakTrace              0     0.17    
    Test::More                   0     1.302191
    Test::NoWarnings             0     1.06    
    Test::Spec                   0     0.54    
    Test::Warn                   0     0.37    
    Throwable                    0     1.001   

configure_requires:

    Module                       Need  Have    
    ---------------------------- ----- --------
    ExtUtils::MakeMaker          0     7.66    


------------------------------
ENVIRONMENT AND OTHER CONTEXT
------------------------------

Environment variables:

    AUTOMATED_TESTING = 1
    LANG = en_US.UTF-8
    LC_ADDRESS = de_DE.UTF-8
    LC_IDENTIFICATION = de_DE.UTF-8
    LC_MEASUREMENT = de_DE.UTF-8
    LC_MONETARY = de_DE.UTF-8
    LC_NAME = de_DE.UTF-8
    LC_NUMERIC = de_DE.UTF-8
    LC_PAPER = de_DE.UTF-8
    LC_TELEPHONE = de_DE.UTF-8
    LC_TIME = de_DE.UTF-8
    PATH = /home/sand/bin:/usr/local/bin:/usr/local/sbin:/usr/sbin:/usr/bin:/sbin:/bin:/usr/games:/usr/local/games:/snap/bin:/usr/local/perl/bin:/usr/X11/bin
    PERL = /tmp/basesmoker-reloperl-VOJ8/bin/perl
    PERL5LIB = /tmp/loop_over_bdir-7145-9fh9oK/Linux-InitFS-0.2-0/blib/arch:/tmp/loop_over_bdir-7145-9fh9oK/Linux-InitFS-0.2-0/blib/lib
    PERL5OPT = 
    PERL5_CPANPLUS_IS_RUNNING = 7282
    PERL5_CPAN_IS_RUNNING = 7282
    PERL_CANARY_STABILITY_NOPROMPT = 1
    PERL_MM_USE_DEFAULT = 1
    PERL_USE_UNSAFE_INC = 1
    SHELL = /usr/bin/zsh
    TERM = screen

Perl special variables (and OS-specific diagnostics, for MSWin32):

    $^X = /tmp/basesmoker-reloperl-VOJ8/bin/perl
    $UID/$EUID = 1005 / 1005
    $GID = 1005 1005
    $EGID = 1005 1005

Perl module toolchain versions installed:

    Module              Have    
    ------------------- --------
    CPAN                2.34    
    CPAN::Meta          2.150010
    Cwd                 3.88    
    ExtUtils::CBuilder  0.280238
    ExtUtils::Command   7.66    
    ExtUtils::Install   2.22    
    ExtUtils::MakeMaker 7.66    
    ExtUtils::Manifest  1.73    
    ExtUtils::ParseXS   3.49    
    File::Spec          3.88    
    JSON                4.10    
    JSON::PP            4.16    
    Module::Build       0.4232  
    Module::Signature   0.88    
    Parse::CPAN::Meta   2.150010
    Test::Harness       3.44    
    Test::More          1.302191
    YAML                1.30    
    YAML::Syck          1.34    
    version             0.9929  


--

Summary of my perl5 (revision 5 version 37 subversion 8) configuration:
  Commit id: aaff26e0f2e98dc425f7514531d35dfec6948f6d
  Platform:
    osname=linux
    osvers=5.15.0-58-generic
    archname=x86_64-linux-thread-multi-ld
    uname='linux k93jammy 5.15.0-58-generic #64-ubuntu smp thu jan 5 11:43:13 utc 2023 x86_64 x86_64 x86_64 gnulinux '
    config_args='-Dprefix=/home/sand/src/perl/repoperls/installed-perls/host/k93jammy/v5.37.8/322f -Dmyhostname=k93jammy -Dinstallusrbinperl=n -Uversiononly -Dusedevel -des -Ui_db -Dlibswanted=cl pthread socket inet nsl gdbm dbm malloc dl ld sun m crypt sec util c cposix posix ucb BSD gdbm_compat -Duseithreads -Duselongdouble -DEBUGGING=-g'
    hint=recommended
    useposix=true
    d_sigaction=define
    useithreads=define
    usemultiplicity=define
    use64bitint=define
    use64bitall=define
    uselongdouble=define
    usemymalloc=n
    default_inc_excludes_dot=define
  Compiler:
    cc='cc'
    ccflags ='-D_REENTRANT -D_GNU_SOURCE -fwrapv -fno-strict-aliasing -pipe -fstack-protector-strong -I/usr/local/include -D_LARGEFILE_SOURCE -D_FILE_OFFSET_BITS=64'
    optimize='-O2 -g'
    cppflags='-D_REENTRANT -D_GNU_SOURCE -fwrapv -fno-strict-aliasing -pipe -fstack-protector-strong -I/usr/local/include'
    ccversion=''
    gccversion='11.3.0'
    gccosandvers=''
    intsize=4
    longsize=8
    ptrsize=8
    doublesize=8
    byteorder=12345678
    doublekind=3
    d_longlong=define
    longlongsize=8
    d_longdbl=define
    longdblsize=16
    longdblkind=3
    ivtype='long'
    ivsize=8
    nvtype='long double'
    nvsize=16
    Off_t='off_t'
    lseeksize=8
    alignbytes=16
    prototype=define
  Linker and Libraries:
    ld='cc'
    ldflags =' -fstack-protector-strong -L/usr/local/lib'
    libpth=/usr/local/lib /usr/lib/x86_64-linux-gnu /usr/lib /usr/lib64
    libs=-lpthread -lnsl -ldl -lm -lcrypt -lutil -lc
    perllibs=-lpthread -lnsl -ldl -lm -lcrypt -lutil -lc
    libc=/lib/x86_64-linux-gnu/libc.so.6
    so=so
    useshrplib=false
    libperl=libperl.a
    gnulibc_version='2.35'
  Dynamic Linking:
    dlsrc=dl_dlopen.xs
    dlext=so
    d_dlsymun=undef
    ccdlflags='-Wl,-E'
    cccdlflags='-fPIC'
    lddlflags='-shared -O2 -g -L/usr/local/lib -fstack-protector-strong'


Characteristics of this binary (from libperl): 
  Compile-time options:
    HAS_TIMES
    MULTIPLICITY
    PERLIO_LAYERS
    PERL_COPY_ON_WRITE
    PERL_DONT_CREATE_GVSV
    PERL_HASH_FUNC_SIPHASH13
    PERL_HASH_USE_SBOX32
    PERL_MALLOC_WRAP
    PERL_OP_PARENT
    PERL_PRESERVE_IVUV
    PERL_USE_DEVEL
    PERL_USE_SAFE_PUTENV
    USE_64_BIT_ALL
    USE_64_BIT_INT
    USE_ITHREADS
    USE_LARGE_FILES
    USE_LOCALE
    USE_LOCALE_COLLATE
    USE_LOCALE_CTYPE
    USE_LOCALE_NUMERIC
    USE_LOCALE_TIME
    USE_LONG_DOUBLE
    USE_PERLIO
    USE_PERL_ATOF
    USE_REENTRANT_API
    USE_THREAD_SAFE_LOCALE
  Built under linux
  Compiled at Jan 31 2023 12:17:03
  %ENV:
    PERL="/tmp/basesmoker-reloperl-VOJ8/bin/perl"
    PERL5LIB="/tmp/loop_over_bdir-7145-9fh9oK/Linux-InitFS-0.2-0/blib/arch:/tmp/loop_over_bdir-7145-9fh9oK/Linux-InitFS-0.2-0/blib/lib"
    PERL5OPT=""
    PERL5_CPANPLUS_IS_RUNNING="7282"
    PERL5_CPAN_IS_RUNNING="7282"
    PERL_CANARY_STABILITY_NOPROMPT="1"
    PERL_MM_USE_DEFAULT="1"
    PERL_USE_UNSAFE_INC="1"
  @INC:
    /tmp/loop_over_bdir-7145-9fh9oK/Linux-InitFS-0.2-0/blib/arch
    /tmp/loop_over_bdir-7145-9fh9oK/Linux-InitFS-0.2-0/blib/lib
    /home/sand/src/perl/repoperls/installed-perls/host/k93jammy/v5.37.8/322f/lib/site_perl/5.37.8/x86_64-linux-thread-multi-ld
    /home/sand/src/perl/repoperls/installed-perls/host/k93jammy/v5.37.8/322f/lib/site_perl/5.37.8
    /home/sand/src/perl/repoperls/installed-perls/host/k93jammy/v5.37.8/322f/lib/5.37.8/x86_64-linux-thread-multi-ld
    /home/sand/src/perl/repoperls/installed-perls/host/k93jammy/v5.37.8/322f/lib/5.37.8
    .