Catalyst-Authentication-Credential-HTTP v1.018 Perl 5 v5.33.1 amd64-freebsd-thread-multi

Status
Pass
From
Carlos Guevara
Dist
Catalyst-Authentication-Credential-HTTP v1.018
Platform
Perl 5 v5.33.1 amd64-freebsd-thread-multi
Date
2020-07-19 08:44:16
ID
07a7cc8c-c99c-11ea-86e2-29d98ab4bfdc
This distribution has been tested as part of the CPAN Testers
project, supporting the Perl programming language.  See
http://wiki.cpantesters.org/ for more information or email
questions to cpan-testers-discuss@perl.org


--
Dear Karen Etheridge,

This is a computer-generated report for Catalyst-Authentication-Credential-HTTP-1.018
on perl 5.33.1, created by CPAN-Reporter-1.2018.

Thank you for uploading your work to CPAN.  Congratulations!
All tests were successful.

Sections of this report:

    * Tester comments
    * Program output
    * Prerequisites
    * Environment and other context

------------------------------
TESTER COMMENTS
------------------------------

Additional comments from tester:

this report is from an automated smoke testing program
and was not reviewed by a human for accuracy

------------------------------
PROGRAM OUTPUT
------------------------------

Output from './Build test':

# 
# Versions for all modules listed in MYMETA.json (including optional ones):
# 
# === Configure Requires ===
# 
#     Module               Want  Have
#     ------------------- ----- -----
#     Module::Build::Tiny 0.034 0.039
# 
# === Test Requires ===
# 
#     Module                    Want       Have
#     ------------------------- ---- ----------
#     Catalyst::Controller       any      undef
#     File::Spec                 any       3.78
#     FindBin                    any       1.51
#     HTTP::Headers              any       6.25
#     HTTP::Request              any       6.25
#     Module::Metadata           any   1.000037
#     Test::Exception            any       0.43
#     Test::MockObject           any 1.20200122
#     Test::MockObject::Extends  any 1.20200122
#     Test::More                 any   1.302175
#     Test::Needs                any   0.002006
#     lib                        any       0.65
# 
# === Test Recommends ===
# 
#     Module         Want     Have
#     ---------- -------- --------
#     CPAN::Meta 2.120900 2.150010
# 
# === Runtime Requires ===
# 
#     Module                                            Want     Have
#     ---------------------------------------------- ------- --------
#     Catalyst                                           any  5.90126
#     Catalyst::Authentication::Credential::Password     any    undef
#     Catalyst::Plugin::Authentication               0.10005  0.10023
#     Class::Accessor::Fast                              any     0.51
#     Data::UUID                                        0.11    1.226
#     Digest::MD5                                        any  2.55_01
#     String::Escape                                     any 2010.002
#     URI::Escape                                        any     3.31
#     base                                               any     2.27
#     strict                                             any     1.11
#     warnings                                           any     1.47
# 
# === Other Modules ===
# 
#     Module        Have
#     ------------- ----
#     JSON::PP      4.05
#     Pod::Coverage 0.23
#     Sub::Name     0.26
#     YAML          1.30
#     autodie       2.32
# 
t/00-report-prereqs.t ....... ok
# Catalyst 5.90126
# Catalyst::Plugin::Authentication 0.10023
# Catalyst::Authentication::Credential::HTTP 1.018
t/00use.t ................... ok
t/basic.t ................... ok
t/live_app.t ................ skipped: Need Test::WWW::Mechanize::Catalyst 0.51
t/live_app_digest.t ......... skipped: Need Cache::FileCache, Catalyst::Plugin::Cache, Test::WWW::Mechanize::Catalyst 0.51
t/live_app_digest_dotnet.t .. skipped: Need Cache::FileCache, Catalyst::Plugin::Cache, Test::WWW::Mechanize::Catalyst 0.51
All tests successful.
Files=6, Tests=39,  3 wallclock secs ( 0.08 usr  0.02 sys +  2.01 cusr  0.70 csys =  2.81 CPU)
Result: PASS

------------------------------
PREREQUISITES
------------------------------

Prerequisite modules loaded:

requires:

    Module                                         Need    Have      
    ---------------------------------------------- ------- ----------
    base                                           0       2.27      
    Catalyst                                       0       5.90126   
    Catalyst::Authentication::Credential::Password 0       0         
    Catalyst::Plugin::Authentication               0.10005 0.10023   
    Class::Accessor::Fast                          0       0.51      
    Data::UUID                                     0.11    1.226     
    Digest::MD5                                    0       2.55_01   
    perl                                           5.006   5.033001  
    strict                                         0       1.11      
    String::Escape                                 0       2010.002  
    URI::Escape                                    0       3.31      
    warnings                                       0       1.47      

build_requires:

    Module                                         Need    Have      
    ---------------------------------------------- ------- ----------
    Catalyst::Controller                           0       0         
    File::Spec                                     0       3.78      
    FindBin                                        0       1.51      
    HTTP::Headers                                  0       6.25      
    HTTP::Request                                  0       6.25      
    lib                                            0       0.65      
    Module::Metadata                               0       1.000037  
    perl                                           5.006   5.033001  
    Test::Exception                                0       0.43      
    Test::MockObject                               0       1.20200122
    Test::MockObject::Extends                      0       1.20200122
    Test::More                                     0       1.302175  
    Test::Needs                                    0       0.002006  

configure_requires:

    Module                                         Need    Have      
    ---------------------------------------------- ------- ----------
    Module::Build::Tiny                            0.034   0.039     
    perl                                           5.006   5.033001  


------------------------------
ENVIRONMENT AND OTHER CONTEXT
------------------------------

Environment variables:

    AUTOMATED_TESTING = 1
    DATE_MANIP_TEST_DM5 = 1
    LC_ALL = C
    NONINTERACTIVE_TESTING = 1
    PATH = /home/cpan/bin/perl-blead/bin:/home/cpan/bin:/sbin:/bin:/usr/sbin:/usr/bin:/usr/local/sbin:/usr/local/bin:/home/cpan/bin
    PERL5LIB = 
    PERL5OPT = 
    PERL5_CPANPLUS_IS_RUNNING = 42919
    PERL5_CPAN_IS_RUNNING = 42919
    PERL_MM_USE_DEFAULT = 1
    PERL_USE_UNSAFE_INC = 1
    PERL_VERSION = blead
    SHELL = /usr/local/bin/bash
    TERM = screen.xterm-256color
    TMPDIR = /home/cpan/tmp

Perl special variables (and OS-specific diagnostics, for MSWin32):

    $^X = /usr/home/cpan/bin/perl-blead/bin/perl5.33.1
    $UID/$EUID = 1002 / 1002
    $GID = 1002 1002
    $EGID = 1002 1002

Perl module toolchain versions installed:

    Module              Have    
    ------------------- --------
    CPAN                2.27    
    CPAN::Meta          2.150010
    Cwd                 3.78    
    ExtUtils::CBuilder  0.280234
    ExtUtils::Command   7.44    
    ExtUtils::Install   2.14    
    ExtUtils::MakeMaker 7.44    
    ExtUtils::Manifest  1.72    
    ExtUtils::ParseXS   3.40    
    File::Spec          3.78    
    JSON                4.02    
    JSON::PP            4.05    
    Module::Build       0.4231  
    Module::Signature   n/a     
    Parse::CPAN::Meta   2.150010
    Test::Harness       3.42    
    Test::More          1.302175
    YAML                1.30    
    YAML::Syck          n/a     
    version             0.9924  


--

Summary of my perl5 (revision 5 version 33 subversion 1) configuration:
  Commit id: 23f1d933a1481b0b8616a3f29127a98c527cf0c7
  Platform:
    osname=freebsd
    osvers=11.3-release-p11
    archname=amd64-freebsd-thread-multi
    uname='freebsd cjg-freebsd11 11.3-release-p11 freebsd 11.3-release-p11 #0: wed jul 8 05:43:42 utc 2020 root@amd64-builder.daemonology.net:usrobjusrsrcsysgeneric amd64 '
    config_args='-des -Dprefix=~/bin/perl-blead -Dscriptdir=~/bin/perl-blead/bin -Dusedevel -Duse64bitall -Duseithreads'
    hint=recommended
    useposix=true
    d_sigaction=define
    useithreads=define
    usemultiplicity=define
    use64bitint=define
    use64bitall=define
    uselongdouble=undef
    usemymalloc=n
    default_inc_excludes_dot=define
    bincompat5005=undef
  Compiler:
    cc='cc'
    ccflags ='-DHAS_FPSETMASK -DHAS_FLOATINGPOINT_H -fno-strict-aliasing -pipe -fstack-protector-strong -I/usr/local/include -D_FORTIFY_SOURCE=2'
    optimize='-O2'
    cppflags='-DHAS_FPSETMASK -DHAS_FLOATINGPOINT_H -fno-strict-aliasing -pipe -fstack-protector-strong -I/usr/local/include'
    ccversion=''
    gccversion='4.2.1 Compatible FreeBSD Clang 8.0.0 (tags/RELEASE_800/final 356365)'
    gccosandvers=''
    intsize=4
    longsize=8
    ptrsize=8
    doublesize=8
    byteorder=12345678
    doublekind=3
    d_longlong=define
    longlongsize=8
    d_longdbl=define
    longdblsize=16
    longdblkind=3
    ivtype='long'
    ivsize=8
    nvtype='double'
    nvsize=8
    Off_t='off_t'
    lseeksize=8
    alignbytes=8
    prototype=define
  Linker and Libraries:
    ld='cc'
    ldflags ='-pthread -Wl,-E  -fstack-protector-strong -L/usr/local/lib'
    libpth=/usr/lib /usr/local/lib /usr/lib/clang/8.0.0/lib /usr/lib
    libs=-lpthread -lgdbm -ldl -lm -lcrypt -lutil
    perllibs=-lpthread -ldl -lm -lcrypt -lutil
    libc=
    so=so
    useshrplib=false
    libperl=libperl.a
    gnulibc_version=''
  Dynamic Linking:
    dlsrc=dl_dlopen.xs
    dlext=so
    d_dlsymun=undef
    ccdlflags=' '
    cccdlflags='-DPIC -fPIC'
    lddlflags='-shared  -L/usr/local/lib -fstack-protector-strong'


Characteristics of this binary (from libperl): 
  Compile-time options:
    HAS_TIMES
    MULTIPLICITY
    PERLIO_LAYERS
    PERL_COPY_ON_WRITE
    PERL_DONT_CREATE_GVSV
    PERL_IMPLICIT_CONTEXT
    PERL_MALLOC_WRAP
    PERL_OP_PARENT
    PERL_PRESERVE_IVUV
    PERL_USE_DEVEL
    USE_64_BIT_ALL
    USE_64_BIT_INT
    USE_ITHREADS
    USE_LARGE_FILES
    USE_LOCALE
    USE_LOCALE_COLLATE
    USE_LOCALE_CTYPE
    USE_LOCALE_NUMERIC
    USE_LOCALE_TIME
    USE_PERLIO
    USE_PERL_ATOF
    USE_REENTRANT_API
  Built under freebsd
  Compiled at Jul 19 2020 01:40:39
  %ENV:
    PERL5LIB=""
    PERL5OPT=""
    PERL5_CPANPLUS_IS_RUNNING="42919"
    PERL5_CPAN_IS_RUNNING="42919"
    PERL_MM_USE_DEFAULT="1"
    PERL_USE_UNSAFE_INC="1"
    PERL_VERSION="blead"
  @INC:
    /home/cpan/bin/perl-blead/lib/site_perl/5.33.1/amd64-freebsd-thread-multi
    /home/cpan/bin/perl-blead/lib/site_perl/5.33.1
    /home/cpan/bin/perl-blead/lib/5.33.1/amd64-freebsd-thread-multi
    /home/cpan/bin/perl-blead/lib/5.33.1
    .