SVG-Estimate v1.02 Perl 5 v5.43.2 x86_64-linux-thread-multi

Status
Pass
From
Andreas J. König (ANDK)
Dist
SVG-Estimate v1.02
Platform
Perl 5 v5.43.2 x86_64-linux-thread-multi
Date
2025-09-16 23:36:55
ID
07b19c6a-9356-11f0-811e-d965eee37d29
This distribution has been tested as part of the CPAN Testers
project, supporting the Perl programming language.  See
http://wiki.cpantesters.org/ for more information or email
questions to cpan-testers-discuss@perl.org


--
Dear Colin Kuskie,

This is a computer-generated report for SVG-Estimate-1.02
on perl 5.43.2, created by CPAN-Reporter-1.2020.

Thank you for uploading your work to CPAN.  Congratulations!
All tests were successful.

Sections of this report:

    * Tester comments
    * Program output
    * Prerequisites
    * Environment and other context

------------------------------
TESTER COMMENTS
------------------------------

Additional comments from tester:

this report is from an automated smoke testing program
and was not reviewed by a human for accuracy

------------------------------
PROGRAM OUTPUT
------------------------------

Output from '/usr/bin/make test':

PERL_DL_NONLAZY=1 "/tmp/basesmoker-reloperl-AcoD/bin/perl" "-MExtUtils::Command::MM" "-MTest::Harness" "-e" "undef *Test::Harness::Switches; test_harness(0, 'blib/lib', 'blib/arch')" t/*.t t/Path/*.t
Possible attempt to escape whitespace in qw() list at /home/sand/src/perl/repoperls/installed-perls/host/k93focal/v5.43.2/d119/lib/site_perl/5.43.2/Sub/Quote.pm line 64.
t/01_rect.t ............................... ok
Possible attempt to escape whitespace in qw() list at /home/sand/src/perl/repoperls/installed-perls/host/k93focal/v5.43.2/d119/lib/site_perl/5.43.2/Sub/Quote.pm line 64.
t/01_rect_with_units.t .................... ok
Possible attempt to escape whitespace in qw() list at /home/sand/src/perl/repoperls/installed-perls/host/k93focal/v5.43.2/d119/lib/site_perl/5.43.2/Sub/Quote.pm line 64.
t/02_circle.t ............................. ok
Possible attempt to escape whitespace in qw() list at /home/sand/src/perl/repoperls/installed-perls/host/k93focal/v5.43.2/d119/lib/site_perl/5.43.2/Sub/Quote.pm line 64.
t/02_circle_with_units.t .................. ok
Possible attempt to escape whitespace in qw() list at /home/sand/src/perl/repoperls/installed-perls/host/k93focal/v5.43.2/d119/lib/site_perl/5.43.2/Sub/Quote.pm line 64.
t/03_ellipse.t ............................ ok
Possible attempt to escape whitespace in qw() list at /home/sand/src/perl/repoperls/installed-perls/host/k93focal/v5.43.2/d119/lib/site_perl/5.43.2/Sub/Quote.pm line 64.
t/03_ellipse_with_units.t ................. ok
Possible attempt to escape whitespace in qw() list at /home/sand/src/perl/repoperls/installed-perls/host/k93focal/v5.43.2/d119/lib/site_perl/5.43.2/Sub/Quote.pm line 64.
t/04_line.t ............................... ok
Possible attempt to escape whitespace in qw() list at /home/sand/src/perl/repoperls/installed-perls/host/k93focal/v5.43.2/d119/lib/site_perl/5.43.2/Sub/Quote.pm line 64.
t/05_polyline.t ........................... ok
Possible attempt to escape whitespace in qw() list at /home/sand/src/perl/repoperls/installed-perls/host/k93focal/v5.43.2/d119/lib/site_perl/5.43.2/Sub/Quote.pm line 64.
t/06_polygon.t ............................ ok
Possible attempt to escape whitespace in qw() list at /home/sand/src/perl/repoperls/installed-perls/host/k93focal/v5.43.2/d119/lib/site_perl/5.43.2/Sub/Quote.pm line 64.
t/07_path.t ............................... ok
Possible attempt to escape whitespace in qw() list at /home/sand/src/perl/repoperls/installed-perls/host/k93focal/v5.43.2/d119/lib/site_perl/5.43.2/Sub/Quote.pm line 64.
t/07_path_multi_moveto.t .................. ok
Possible attempt to escape whitespace in qw() list at /home/sand/src/perl/repoperls/installed-perls/host/k93focal/v5.43.2/d119/lib/site_perl/5.43.2/Sub/Quote.pm line 64.
t/31_rect.t ............................... ok
Possible attempt to escape whitespace in qw() list at /home/sand/src/perl/repoperls/installed-perls/host/k93focal/v5.43.2/d119/lib/site_perl/5.43.2/Sub/Quote.pm line 64.
t/32_circle.t ............................. ok
Possible attempt to escape whitespace in qw() list at /home/sand/src/perl/repoperls/installed-perls/host/k93focal/v5.43.2/d119/lib/site_perl/5.43.2/Sub/Quote.pm line 64.
t/33_ellipse.t ............................ ok
Possible attempt to escape whitespace in qw() list at /home/sand/src/perl/repoperls/installed-perls/host/k93focal/v5.43.2/d119/lib/site_perl/5.43.2/Sub/Quote.pm line 64.
t/34_line_transform.t ..................... ok
Possible attempt to escape whitespace in qw() list at /home/sand/src/perl/repoperls/installed-perls/host/k93focal/v5.43.2/d119/lib/site_perl/5.43.2/Sub/Quote.pm line 64.
t/35_polyline_transform.t ................. ok
Possible attempt to escape whitespace in qw() list at /home/sand/src/perl/repoperls/installed-perls/host/k93focal/v5.43.2/d119/lib/site_perl/5.43.2/Sub/Quote.pm line 64.
t/36_polygon.t ............................ ok
Possible attempt to escape whitespace in qw() list at /home/sand/src/perl/repoperls/installed-perls/host/k93focal/v5.43.2/d119/lib/site_perl/5.43.2/Sub/Quote.pm line 64.
t/37_path.t ............................... ok
Possible attempt to escape whitespace in qw() list at /home/sand/src/perl/repoperls/installed-perls/host/k93focal/v5.43.2/d119/lib/site_perl/5.43.2/Sub/Quote.pm line 64.
t/50_estimate.t ........................... ok
Possible attempt to escape whitespace in qw() list at /home/sand/src/perl/repoperls/installed-perls/host/k93focal/v5.43.2/d119/lib/site_perl/5.43.2/Sub/Quote.pm line 64.
t/51_estimate_transforms.t ................ ok
Possible attempt to escape whitespace in qw() list at /home/sand/src/perl/repoperls/installed-perls/host/k93focal/v5.43.2/d119/lib/site_perl/5.43.2/Sub/Quote.pm line 64.
t/52_estimate_transforms_groups.t ......... ok
Possible attempt to escape whitespace in qw() list at /home/sand/src/perl/repoperls/installed-perls/host/k93focal/v5.43.2/d119/lib/site_perl/5.43.2/Sub/Quote.pm line 64.
t/53_estimate_transforms_groups_shapes.t .. ok
Possible attempt to escape whitespace in qw() list at /home/sand/src/perl/repoperls/installed-perls/host/k93focal/v5.43.2/d119/lib/site_perl/5.43.2/Sub/Quote.pm line 64.
t/54_estimate_groupfun.t .................. ok
Possible attempt to escape whitespace in qw() list at /home/sand/src/perl/repoperls/installed-perls/host/k93focal/v5.43.2/d119/lib/site_perl/5.43.2/Sub/Quote.pm line 64.
t/55_estimate_with_units.t ................ ok
Possible attempt to escape whitespace in qw() list at /home/sand/src/perl/repoperls/installed-perls/host/k93focal/v5.43.2/d119/lib/site_perl/5.43.2/Sub/Quote.pm line 64.
t/Path/01_lineto.t ........................ ok
Possible attempt to escape whitespace in qw() list at /home/sand/src/perl/repoperls/installed-perls/host/k93focal/v5.43.2/d119/lib/site_perl/5.43.2/Sub/Quote.pm line 64.
t/Path/02_horiz.t ......................... ok
Possible attempt to escape whitespace in qw() list at /home/sand/src/perl/repoperls/installed-perls/host/k93focal/v5.43.2/d119/lib/site_perl/5.43.2/Sub/Quote.pm line 64.
t/Path/03_vert.t .......................... ok
Possible attempt to escape whitespace in qw() list at /home/sand/src/perl/repoperls/installed-perls/host/k93focal/v5.43.2/d119/lib/site_perl/5.43.2/Sub/Quote.pm line 64.
t/Path/04_quadratic.t ..................... ok
Possible attempt to escape whitespace in qw() list at /home/sand/src/perl/repoperls/installed-perls/host/k93focal/v5.43.2/d119/lib/site_perl/5.43.2/Sub/Quote.pm line 64.
t/Path/05_cubic.t ......................... ok
Possible attempt to escape whitespace in qw() list at /home/sand/src/perl/repoperls/installed-perls/host/k93focal/v5.43.2/d119/lib/site_perl/5.43.2/Sub/Quote.pm line 64.
t/Path/06_arc.t ........................... ok
Possible attempt to escape whitespace in qw() list at /home/sand/src/perl/repoperls/installed-perls/host/k93focal/v5.43.2/d119/lib/site_perl/5.43.2/Sub/Quote.pm line 64.
t/Path/07_moveto.t ........................ ok
Possible attempt to escape whitespace in qw() list at /home/sand/src/perl/repoperls/installed-perls/host/k93focal/v5.43.2/d119/lib/site_perl/5.43.2/Sub/Quote.pm line 64.
t/Path/31_lineto.t ........................ ok
Possible attempt to escape whitespace in qw() list at /home/sand/src/perl/repoperls/installed-perls/host/k93focal/v5.43.2/d119/lib/site_perl/5.43.2/Sub/Quote.pm line 64.
t/Path/32_horiz.t ......................... ok
Possible attempt to escape whitespace in qw() list at /home/sand/src/perl/repoperls/installed-perls/host/k93focal/v5.43.2/d119/lib/site_perl/5.43.2/Sub/Quote.pm line 64.
t/Path/33_vert.t .......................... ok
Possible attempt to escape whitespace in qw() list at /home/sand/src/perl/repoperls/installed-perls/host/k93focal/v5.43.2/d119/lib/site_perl/5.43.2/Sub/Quote.pm line 64.
t/Path/34_quadratic.t ..................... ok
Possible attempt to escape whitespace in qw() list at /home/sand/src/perl/repoperls/installed-perls/host/k93focal/v5.43.2/d119/lib/site_perl/5.43.2/Sub/Quote.pm line 64.
t/Path/35_cubic.t ......................... ok
Possible attempt to escape whitespace in qw() list at /home/sand/src/perl/repoperls/installed-perls/host/k93focal/v5.43.2/d119/lib/site_perl/5.43.2/Sub/Quote.pm line 64.
t/Path/36_arc.t ........................... ok
Possible attempt to escape whitespace in qw() list at /home/sand/src/perl/repoperls/installed-perls/host/k93focal/v5.43.2/d119/lib/site_perl/5.43.2/Sub/Quote.pm line 64.
t/Path/37_moveto.t ........................ ok
All tests successful.
Files=38, Tests=414,  9 wallclock secs ( 0.13 usr  0.03 sys +  8.01 cusr  0.70 csys =  8.87 CPU)
Result: PASS

------------------------------
PREREQUISITES
------------------------------

Prerequisite modules loaded:

requires:

    Module                Need  Have    
    --------------------- ----- --------
    Clone                 0     0.47    
    File::Slurp           0     9999.32 
    Image::SVG::Path      0.23  0.36    
    Image::SVG::Transform 0.04  0.08    
    List::MoreUtils       0     0.430   
    List::Util            1.29  1.70    
    Math::Trig            0     1.63    
    Moo                   0     2.005005
    Ouch                  0     0.0501  
    perl                  5.010 5.043002
    Test::Exception       0     0.43    
    Test::More            0     1.302214
    XML::Hash::LX         0     0.07    
    XML::LibXML           0     2.0210  

build_requires:

    Module                Need  Have    
    --------------------- ----- --------
    ExtUtils::MakeMaker   0     7.76    

configure_requires:

    Module                Need  Have    
    --------------------- ----- --------
    ExtUtils::MakeMaker   0     7.76    


------------------------------
ENVIRONMENT AND OTHER CONTEXT
------------------------------

Environment variables:

    AUTOMATED_TESTING = 1
    LANG = en_US.UTF-8
    PATH = /home/sand/bin:/usr/local/bin:/usr/local/sbin:/usr/sbin:/usr/bin:/sbin:/bin:/usr/games:/usr/local/games:/snap/bin:/usr/local/perl/bin:/usr/X11/bin
    PERL5LIB = /tmp/loop_over_bdir-547504-LikQu0/App-rmcd-0.280-0/blib/arch:/tmp/loop_over_bdir-547504-LikQu0/App-rmcd-0.280-0/blib/lib:/tmp/loop_over_bdir-547504-LikQu0/triceps-2.1.0-0/blib/arch:/tmp/loop_over_bdir-547504-LikQu0/triceps-2.1.0-0/blib/lib:/tmp/loop_over_bdir-547504-LikQu0/EJBCA-CrlPublish-0.60-0/blib/arch:/tmp/loop_over_bdir-547504-LikQu0/EJBCA-CrlPublish-0.60-0/blib/lib
    PERL5OPT = 
    PERL5_CPANPLUS_IS_RUNNING = 547513
    PERL5_CPAN_IS_RUNNING = 547513
    PERL_CANARY_STABILITY_NOPROMPT = 1
    PERL_MM_USE_DEFAULT = 1
    PERL_USE_UNSAFE_INC = 1
    SHELL = /usr/bin/zsh
    TERM = screen

Perl special variables (and OS-specific diagnostics, for MSWin32):

    $^X = /tmp/basesmoker-reloperl-AcoD/bin/perl
    $UID/$EUID = 1005 / 1005
    $GID = 1005 1005
    $EGID = 1005 1005

Perl module toolchain versions installed:

    Module              Have    
    ------------------- --------
    CPAN                2.38    
    CPAN::Meta          2.150010
    Cwd                 3.94    
    ExtUtils::CBuilder  0.280242
    ExtUtils::Command   7.76    
    ExtUtils::Install   2.22    
    ExtUtils::MakeMaker 7.76    
    ExtUtils::Manifest  1.75    
    ExtUtils::ParseXS   3.59    
    File::Spec          3.94    
    JSON                4.10    
    JSON::PP            4.16    
    Module::Build       0.4234  
    Module::Signature   0.93    
    Parse::CPAN::Meta   2.150010
    Test2               1.302214
    Test::Harness       3.52    
    Test::More          1.302214
    YAML                1.31    
    YAML::Syck          1.34    
    version             0.9933  


--

Summary of my perl5 (revision 5 version 43 subversion 2) configuration:
  Commit id: 7afd3f158f75d5730469889406f8f98c681d58c1
  Platform:
    osname=linux
    osvers=5.4.0-216-generic
    archname=x86_64-linux-thread-multi
    uname='linux k93focal 5.4.0-216-generic #236-ubuntu smp fri apr 11 19:53:21 utc 2025 x86_64 x86_64 x86_64 gnulinux '
    config_args='-Dprefix=/home/sand/src/perl/repoperls/installed-perls/host/k93focal/v5.43.2/d119 -Dmyhostname=k93focal -Dinstallusrbinperl=n -Uversiononly -Dusedevel -des -Ui_db -Dlibswanted=cl pthread socket inet nsl gdbm dbm malloc dl ld sun m crypt sec util c cposix posix ucb BSD gdbm_compat -Duseithreads -Uuselongdouble -DEBUGGING=both'
    hint=recommended
    useposix=true
    d_sigaction=define
    useithreads=define
    usemultiplicity=define
    use64bitint=define
    use64bitall=define
    uselongdouble=undef
    usemymalloc=n
    default_inc_excludes_dot=define
  Compiler:
    cc='cc'
    ccflags ='-D_REENTRANT -D_GNU_SOURCE -fwrapv -DDEBUGGING -fno-strict-aliasing -pipe -fstack-protector-strong -I/usr/local/include -D_LARGEFILE_SOURCE -D_FILE_OFFSET_BITS=64'
    optimize='-O2 -g'
    cppflags='-D_REENTRANT -D_GNU_SOURCE -fwrapv -DDEBUGGING -fno-strict-aliasing -pipe -fstack-protector-strong -I/usr/local/include'
    ccversion=''
    gccversion='9.4.0'
    gccosandvers=''
    intsize=4
    longsize=8
    ptrsize=8
    doublesize=8
    byteorder=12345678
    doublekind=3
    d_longlong=define
    longlongsize=8
    d_longdbl=define
    longdblsize=16
    longdblkind=3
    ivtype='long'
    ivsize=8
    nvtype='double'
    nvsize=8
    Off_t='off_t'
    lseeksize=8
    alignbytes=8
    prototype=define
  Linker and Libraries:
    ld='cc'
    ldflags =' -fstack-protector-strong -L/usr/local/lib'
    libpth=/usr/local/lib /usr/lib/x86_64-linux-gnu /usr/lib /usr/lib64
    libs=-lpthread -lnsl -ldl -lm -lcrypt -lutil -lc
    perllibs=-lpthread -lnsl -ldl -lm -lcrypt -lutil -lc
    libc=libc-2.31.so
    so=so
    useshrplib=false
    libperl=libperl.a
    gnulibc_version='2.31'
  Dynamic Linking:
    dlsrc=dl_dlopen.xs
    dlext=so
    d_dlsymun=undef
    ccdlflags='-Wl,-E'
    cccdlflags='-fPIC'
    lddlflags='-shared -O2 -g -L/usr/local/lib -fstack-protector-strong'


Characteristics of this binary (from libperl): 
  Compile-time options:
    DEBUGGING
    HAS_LONG_DOUBLE
    HAS_STRTOLD
    HAS_TIMES
    MULTIPLICITY
    PERLIO_LAYERS
    PERL_COPY_ON_WRITE
    PERL_DONT_CREATE_GVSV
    PERL_HASH_FUNC_SIPHASH13
    PERL_HASH_USE_SBOX32
    PERL_MALLOC_WRAP
    PERL_OP_PARENT
    PERL_PRESERVE_IVUV
    PERL_TRACK_MEMPOOL
    PERL_USE_DEVEL
    PERL_USE_SAFE_PUTENV
    USE_64_BIT_ALL
    USE_64_BIT_INT
    USE_ITHREADS
    USE_LARGE_FILES
    USE_LOCALE
    USE_LOCALE_COLLATE
    USE_LOCALE_CTYPE
    USE_LOCALE_NUMERIC
    USE_LOCALE_TIME
    USE_PERLIO
    USE_PERL_ATOF
    USE_REENTRANT_API
    USE_THREAD_SAFE_LOCALE
  Built under linux
  Compiled at Aug 26 2025 21:07:02
  %ENV:
    PERL5LIB="/tmp/loop_over_bdir-547504-LikQu0/App-rmcd-0.280-0/blib/arch:/tmp/loop_over_bdir-547504-LikQu0/App-rmcd-0.280-0/blib/lib:/tmp/loop_over_bdir-547504-LikQu0/triceps-2.1.0-0/blib/arch:/tmp/loop_over_bdir-547504-LikQu0/triceps-2.1.0-0/blib/lib:/tmp/loop_over_bdir-547504-LikQu0/EJBCA-CrlPublish-0.60-0/blib/arch:/tmp/loop_over_bdir-547504-LikQu0/EJBCA-CrlPublish-0.60-0/blib/lib"
    PERL5OPT=""
    PERL5_CPANPLUS_IS_RUNNING="547513"
    PERL5_CPAN_IS_RUNNING="547513"
    PERL_CANARY_STABILITY_NOPROMPT="1"
    PERL_MM_USE_DEFAULT="1"
    PERL_USE_UNSAFE_INC="1"
  @INC:
    /tmp/loop_over_bdir-547504-LikQu0/App-rmcd-0.280-0/blib/arch
    /tmp/loop_over_bdir-547504-LikQu0/App-rmcd-0.280-0/blib/lib
    /tmp/loop_over_bdir-547504-LikQu0/triceps-2.1.0-0/blib/arch
    /tmp/loop_over_bdir-547504-LikQu0/triceps-2.1.0-0/blib/lib
    /tmp/loop_over_bdir-547504-LikQu0/EJBCA-CrlPublish-0.60-0/blib/arch
    /tmp/loop_over_bdir-547504-LikQu0/EJBCA-CrlPublish-0.60-0/blib/lib
    /home/sand/src/perl/repoperls/installed-perls/host/k93focal/v5.43.2/d119/lib/site_perl/5.43.2/x86_64-linux-thread-multi
    /home/sand/src/perl/repoperls/installed-perls/host/k93focal/v5.43.2/d119/lib/site_perl/5.43.2
    /home/sand/src/perl/repoperls/installed-perls/host/k93focal/v5.43.2/d119/lib/5.43.2/x86_64-linux-thread-multi
    /home/sand/src/perl/repoperls/installed-perls/host/k93focal/v5.43.2/d119/lib/5.43.2
    .