Back
From: metabase:user:30f4dfbe-2aae-11df-837a-5e0a49663a4f
Subject: PASS Data-MessagePack-0.46 v5.17.0 GNU/Linux
Date: 2012-08-09T20:08:48Z
This distribution has been tested as part of the CPAN Testers
project, supporting the Perl programming language. See
http://wiki.cpantesters.org/ for more information or email
questions to cpan-testers-discuss@perl.org
--
Dear Tokuhiro Matsuno,
This is a computer-generated report for Data-MessagePack-0.46
on perl 5.17.0, created by CPAN-Reporter-1.2006.
Thank you for uploading your work to CPAN. Congratulations!
All tests were successful.
Sections of this report:
* Tester comments
* Program output
* Prerequisites
* Environment and other context
------------------------------
TESTER COMMENTS
------------------------------
Additional comments from tester:
this report is from an automated smoke testing program
and was not reviewed by a human for accuracy
------------------------------
PROGRAM OUTPUT
------------------------------
Output from '/usr/bin/make test':
PERL_DL_NONLAZY=1 /home/njh/perl5/perlbrew/perls/perl-5.17.0/bin/perl5.17.0 "-MExtUtils::Command::MM" "-e" "test_harness(0, 'inc', 'blib/lib', 'blib/arch')" t/*.t
# Testing Data::MessagePack/0.46 (XS)
# byteoder: 12345678, ivsize=8
t/00_compile.t .............. ok
t/01_pack.t ................. ok
t/02_unpack.t ............... ok
t/03_stream_unpack.t ........ ok
t/04_invert.t ............... ok
t/05_preferred_int.t ........ ok
t/06_stream_unpack2.t ....... ok
t/07_break.t ................ ok
t/08_cycle.t ................ ok
t/09_stddata.t .............. ok
t/10_splitted_bytes.t ....... ok
t/11_stream_unpack3.t ....... ok
t/12_stream_unpack4.t ....... ok
t/13_booleans.t ............. ok
t/14_invalid_data.t ......... ok
t/15_utf8.t ................. ok
t/16_unpacker_for_larges.t .. ok
t/17_canonical.t ............ ok
t/18_new_interface.t ........ ok
t/19_utf8_property.t ........ ok
t/20_de.t ................... ok
t/21_dirty_float.t .......... ok
t/22_pid_pack_unpack.t ...... ok
t/23-empty-key.t ............ ok
t/24_tied.t ................. ok
t/40_threads.t .............. skipped: no threads
t/50_leaktrace.t ............ skipped: Test requires module 'Test::LeakTrace' but it's not found
All tests successful.
Test Summary Report
-------------------
t/23-empty-key.t (Wstat: 0 Tests: 3 Failed: 0)
TODO passed: 1-2
Files=27, Tests=618, 0 wallclock secs ( 0.10 usr 0.01 sys + 0.41 cusr 0.08 csys = 0.60 CPU)
Result: PASS
------------------------------
PREREQUISITES
------------------------------
Prerequisite modules loaded:
requires:
Module Need Have
------------------- -------- --------
perl 5.008001 5.017000
XSLoader 0.02 0.16
build_requires:
Module Need Have
------------------- -------- --------
Devel::PPPort 3.19 3.20
ExtUtils::MakeMaker 6.59 6.63_02
ExtUtils::ParseXS 2.21 3.17
Test::More 0.94 0.98
Test::Requires 0 0.06
configure_requires:
Module Need Have
------------------- -------- --------
Devel::PPPort 3.19 3.20
ExtUtils::MakeMaker 6.59 6.63_02
ExtUtils::ParseXS 2.21 3.17
------------------------------
ENVIRONMENT AND OTHER CONTEXT
------------------------------
Environment variables:
AUTOMATED_TESTING = 1
LANG = en_GB.UTF-8
LANGUAGE = en_GB:en
PATH = /home/njh/perl5/perlbrew/bin:/home/njh/perl5/perlbrew/perls/perl-5.17.0/bin:/usr/bin:/bin
PERL5LIB = /home/njh/.cpan/build/Plack-Middleware-Session-0.14-akkhdo/blib/arch:/home/njh/.cpan/build/Plack-Middleware-Session-0.14-akkhdo/blib/lib:/home/njh/.cpan/build/Router-Simple-0.09-r3_po4/blib/arch:/home/njh/.cpan/build/Router-Simple-0.09-r3_po4/blib/lib:/home/njh/.cpan/build/Plack-1.0001-KZJ5Qy/blib/arch:/home/njh/.cpan/build/Plack-1.0001-KZJ5Qy/blib/lib:/home/njh/.cpan/build/Devel-StackTrace-AsHTML-0.11-t1uaSZ/blib/arch:/home/njh/.cpan/build/Devel-StackTrace-AsHTML-0.11-t1uaSZ/blib/lib:/home/njh/.cpan/build/Filesys-Notify-Simple-0.08-CArjk2/blib/arch:/home/njh/.cpan/build/Filesys-Notify-Simple-0.08-CArjk2/blib/lib:/home/njh/.cpan/build/HTTP-Body-1.15-_XVogI/blib/arch:/home/njh/.cpan/build/HTTP-Body-1.15-_XVogI/blib/lib:/home/njh/.cpan/build/Hash-MultiValue-0.12-YK188j/blib/arch:/home/njh/.cpan/build/Hash-MultiValue-0.12-YK188j/blib/lib:/home/njh/.cpan/build/Test-TCP-1.17-FP87kP/blib/arch:/home/njh/.cpan/build/Test-TCP-1.17-FP87kP/blib/lib:/home/njh/.cpan/build/Test-SharedFork-0.20-yFsjX_/blib/arch:/home/njh/.cpan/build/Test-SharedFork-0.20-yFsjX_/blib/lib:/home/njh/.cpan/build/File-ShareDir-1.03-uSQN7s/blib/arch:/home/njh/.cpan/build/File-ShareDir-1.03-uSQN7s/blib/lib
PERL5OPT =
PERL5_CPANPLUS_IS_RUNNING = 26465
PERL5_CPAN_IS_RUNNING = 26465
PERL5_MINISMOKEBOX = 0.54
PERLBREW_MANPATH = /home/njh/perl5/perlbrew/perls/perl-5.17.0/man
PERLBREW_PATH = /home/njh/perl5/perlbrew/bin:/home/njh/perl5/perlbrew/perls/perl-5.17.0/bin
PERLBREW_PERL = perl-5.17.0
PERLBREW_ROOT = /home/njh/perl5/perlbrew
PERLBREW_VERSION = 0.46
PERL_EXTUTILS_AUTOINSTALL = --defaultdeps
PERL_MM_USE_DEFAULT = 1
SHELL = /bin/sh
Perl special variables (and OS-specific diagnostics, for MSWin32):
$^X = /home/njh/perl5/perlbrew/perls/perl-5.17.0/bin/perl5.17.0
$UID/$EUID = 1000 / 1000
$GID = 1000 24 25 29 30 44 46 108 112 1000
$EGID = 1000 24 25 29 30 44 46 108 112 1000
Perl module toolchain versions installed:
Module Have
------------------- --------
CPAN 1.9800
CPAN::Meta 2.120921
Cwd 3.39_02
ExtUtils::CBuilder 0.280206
ExtUtils::Command 1.17
ExtUtils::Install 1.58
ExtUtils::MakeMaker 6.63_02
ExtUtils::Manifest 1.61
ExtUtils::ParseXS 3.17
File::Spec 3.39_02
JSON 2.53
JSON::PP 2.27200
Module::Build 0.4002
Module::Signature 0.68
Parse::CPAN::Meta 1.4404
Test::Harness 3.25
Test::More 0.98
YAML 0.84
YAML::Syck 1.20
version 0.99
--
Summary of my perl5 (revision 5 version 17 subversion 0) configuration:
Platform:
osname=linux, osvers=3.2.0-2-amd64, archname=x86_64-linux
uname='linux gateway 3.2.0-2-amd64 #1 smp mon apr 30 05:20:23 utc 2012 x86_64 gnulinux '
config_args='-de -Dprefix=/home/njh/perl5/perlbrew/perls/perl-5.17.0 -Dusedevel -Accflags=-O2 -W -Wformat=2 -Wswitch -Wshadow -Wwrite-strings -Wuninitialized -Wall -pipe -mtune=native -march=native -fomit-frame-pointer -mfpmath=sse -pedantic -D_FORTIFY_SOURCE=2 -Wpointer-arith -Wstrict-prototypes -fstack-protector -Wstack-protector -Wextra -Wbad-function-cast -Wcast-align -Wcast-qual -Wdisabled-optimization -Wendif-labels -Wfloat-equal -Wformat-nonliteral -Winline -Wmissing-declarations -Wmissing-prototypes -Wnested-externs -Wpointer-arith -Wundef -Wformat-security'
hint=recommended, useposix=true, d_sigaction=define
useithreads=undef, usemultiplicity=undef
useperlio=define, d_sfio=undef, uselargefiles=define, usesocks=undef
use64bitint=define, use64bitall=define, uselongdouble=undef
usemymalloc=n, bincompat5005=undef
Compiler:
cc='cc', ccflags ='-O2 -W -Wformat=2 -Wswitch -Wshadow -Wwrite-strings -Wuninitialized -Wall -pipe -mtune=native -march=native -fomit-frame-pointer -mfpmath=sse -pedantic -D_FORTIFY_SOURCE=2 -Wpointer-arith -Wstrict-prototypes -fstack-protector -Wstack-protector -Wextra -Wbad-function-cast -Wcast-align -Wcast-qual -Wdisabled-optimization -Wendif-labels -Wfloat-equal -Wformat-nonliteral -Winline -Wmissing-declarations -Wmissing-prototypes -Wnested-externs -Wpointer-arith -Wundef -Wformat-security -fno-strict-aliasing -I/usr/local/include -D_LARGEFILE_SOURCE -D_FILE_OFFSET_BITS=64',
optimize='-O2',
cppflags='-O2 -W -Wformat=2 -Wswitch -Wshadow -Wwrite-strings -Wuninitialized -Wall -pipe -mtune=native -march=native -fomit-frame-pointer -mfpmath=sse -pedantic -D_FORTIFY_SOURCE=2 -Wpointer-arith -Wstrict-prototypes -fstack-protector -Wstack-protector -Wextra -Wbad-function-cast -Wcast-align -Wcast-qual -Wdisabled-optimization -Wendif-labels -Wfloat-equal -Wformat-nonliteral -Winline -Wmissing-declarations -Wmissing-prototypes -Wnested-externs -Wpointer-arith -Wundef -Wformat-security -fno-strict-aliasing -I/usr/local/include'
ccversion='', gccversion='4.7.0', gccosandvers=''
intsize=4, longsize=8, ptrsize=8, doublesize=8, byteorder=12345678
d_longlong=define, longlongsize=8, d_longdbl=define, longdblsize=16
ivtype='long', ivsize=8, nvtype='double', nvsize=8, Off_t='off_t', lseeksize=8
alignbytes=8, prototype=define
Linker and Libraries:
ld='cc', ldflags =' -fstack-protector -L/usr/local/lib'
libpth=/usr/local/lib /lib/x86_64-linux-gnu /lib/../lib /usr/lib/x86_64-linux-gnu /usr/lib/../lib /lib /usr/lib
libs=-lnsl -lgdbm -ldb -ldl -lm -lcrypt -lutil -lc -lgdbm_compat
perllibs=-lnsl -ldl -lm -lcrypt -lutil -lc
libc=, so=so, useshrplib=false, libperl=libperl.a
gnulibc_version='2.13'
Dynamic Linking:
dlsrc=dl_dlopen.xs, dlext=so, d_dlsymun=undef, ccdlflags='-Wl,-E'
cccdlflags='-fPIC', lddlflags='-shared -O2 -L/usr/local/lib -fstack-protector'
Characteristics of this binary (from libperl):
Compile-time options: HAS_TIMES PERLIO_LAYERS PERL_DONT_CREATE_GVSV
PERL_MALLOC_WRAP PERL_PRESERVE_IVUV PERL_USE_DEVEL
USE_64_BIT_ALL USE_64_BIT_INT USE_LARGE_FILES
USE_LOCALE USE_LOCALE_COLLATE USE_LOCALE_CTYPE
USE_LOCALE_NUMERIC USE_PERLIO USE_PERL_ATOF
Built under linux
Compiled at Jun 23 2012 02:11:28
%ENV:
PERL5LIB="/home/njh/.cpan/build/Plack-Middleware-Session-0.14-akkhdo/blib/arch:/home/njh/.cpan/build/Plack-Middleware-Session-0.14-akkhdo/blib/lib:/home/njh/.cpan/build/Router-Simple-0.09-r3_po4/blib/arch:/home/njh/.cpan/build/Router-Simple-0.09-r3_po4/blib/lib:/home/njh/.cpan/build/Plack-1.0001-KZJ5Qy/blib/arch:/home/njh/.cpan/build/Plack-1.0001-KZJ5Qy/blib/lib:/home/njh/.cpan/build/Devel-StackTrace-AsHTML-0.11-t1uaSZ/blib/arch:/home/njh/.cpan/build/Devel-StackTrace-AsHTML-0.11-t1uaSZ/blib/lib:/home/njh/.cpan/build/Filesys-Notify-Simple-0.08-CArjk2/blib/arch:/home/njh/.cpan/build/Filesys-Notify-Simple-0.08-CArjk2/blib/lib:/home/njh/.cpan/build/HTTP-Body-1.15-_XVogI/blib/arch:/home/njh/.cpan/build/HTTP-Body-1.15-_XVogI/blib/lib:/home/njh/.cpan/build/Hash-MultiValue-0.12-YK188j/blib/arch:/home/njh/.cpan/build/Hash-MultiValue-0.12-YK188j/blib/lib:/home/njh/.cpan/build/Test-TCP-1.17-FP87kP/blib/arch:/home/njh/.cpan/build/Test-TCP-1.17-FP87kP/blib/lib:/home/njh/.cpan/build/Test-SharedFork-0.20-yFsjX_/blib/arch:/home/njh/.cpan/build/Test-SharedFork-0.20-yFsjX_/blib/lib:/home/njh/.cpan/build/File-ShareDir-1.03-uSQN7s/blib/arch:/home/njh/.cpan/build/File-ShareDir-1.03-uSQN7s/blib/lib"
PERL5OPT=""
PERL5_CPANPLUS_IS_RUNNING="26465"
PERL5_CPAN_IS_RUNNING="26465"
PERL5_MINISMOKEBOX="0.54"
PERLBREW_MANPATH="/home/njh/perl5/perlbrew/perls/perl-5.17.0/man"
PERLBREW_PATH="/home/njh/perl5/perlbrew/bin:/home/njh/perl5/perlbrew/perls/perl-5.17.0/bin"
PERLBREW_PERL="perl-5.17.0"
PERLBREW_ROOT="/home/njh/perl5/perlbrew"
PERLBREW_VERSION="0.46"
PERL_EXTUTILS_AUTOINSTALL="--defaultdeps"
PERL_MM_USE_DEFAULT="1"
@INC:
/home/njh/.cpan/build/Plack-Middleware-Session-0.14-akkhdo/blib/arch
/home/njh/.cpan/build/Plack-Middleware-Session-0.14-akkhdo/blib/lib
/home/njh/.cpan/build/Router-Simple-0.09-r3_po4/blib/arch
/home/njh/.cpan/build/Router-Simple-0.09-r3_po4/blib/lib
/home/njh/.cpan/build/Plack-1.0001-KZJ5Qy/blib/arch
/home/njh/.cpan/build/Plack-1.0001-KZJ5Qy/blib/lib
/home/njh/.cpan/build/Devel-StackTrace-AsHTML-0.11-t1uaSZ/blib/arch
/home/njh/.cpan/build/Devel-StackTrace-AsHTML-0.11-t1uaSZ/blib/lib
/home/njh/.cpan/build/Filesys-Notify-Simple-0.08-CArjk2/blib/arch
/home/njh/.cpan/build/Filesys-Notify-Simple-0.08-CArjk2/blib/lib
/home/njh/.cpan/build/HTTP-Body-1.15-_XVogI/blib/arch
/home/njh/.cpan/build/HTTP-Body-1.15-_XVogI/blib/lib
/home/njh/.cpan/build/Hash-MultiValue-0.12-YK188j/blib/arch
/home/njh/.cpan/build/Hash-MultiValue-0.12-YK188j/blib/lib
/home/njh/.cpan/build/Test-TCP-1.17-FP87kP/blib/arch
/home/njh/.cpan/build/Test-TCP-1.17-FP87kP/blib/lib
/home/njh/.cpan/build/Test-SharedFork-0.20-yFsjX_/blib/arch
/home/njh/.cpan/build/Test-SharedFork-0.20-yFsjX_/blib/lib
/home/njh/.cpan/build/File-ShareDir-1.03-uSQN7s/blib/arch
/home/njh/.cpan/build/File-ShareDir-1.03-uSQN7s/blib/lib
/home/njh/perl5/perlbrew/perls/perl-5.17.0/lib/site_perl/5.17.0/x86_64-linux
/home/njh/perl5/perlbrew/perls/perl-5.17.0/lib/site_perl/5.17.0
/home/njh/perl5/perlbrew/perls/perl-5.17.0/lib/5.17.0/x86_64-linux
/home/njh/perl5/perlbrew/perls/perl-5.17.0/lib/5.17.0
.