Report for XML-Rabbit-0.3.0

Back
From: metabase:user:320bfe00-2aae-11df-837a-5e0a49663a4f
Subject: PASS XML-Rabbit-0.3.0 v5.19.0 GNU/Linux
Date: 2013-07-20T10:27:51Z

This distribution has been tested as part of the CPAN Testers
project, supporting the Perl programming language.  See
http://wiki.cpantesters.org/ for more information or email
questions to cpan-testers-discuss@perl.org


--
Dear Robin Smidsrod,

This is a computer-generated report for XML-Rabbit-0.3.0
on perl 5.19.0, created by CPAN-Reporter-1.2010.

Thank you for uploading your work to CPAN.  Congratulations!
All tests were successful.

Sections of this report:

    * Tester comments
    * Program output
    * Prerequisites
    * Environment and other context

------------------------------
TESTER COMMENTS
------------------------------

Additional comments from tester:

this report is from an automated smoke testing program
and was not reviewed by a human for accuracy

------------------------------
PROGRAM OUTPUT
------------------------------

Output from '/usr/bin/make test':

PERL_DL_NONLAZY=1 /home/sand/src/perl/repoperls/installed-perls/perl/v5.19.0/9980/bin/perl "-MExtUtils::Command::MM" "-e" "test_harness(0, 'blib/lib', 'blib/arch')" t/*.t t/regression/*.t
Smartmatch is experimental at (eval 246) line 7.
Smartmatch is experimental at (eval 246) line 14.
Smartmatch is experimental at (eval 248) line 7.
Smartmatch is experimental at (eval 248) line 14.
Smartmatch is experimental at (eval 250) line 7.
Smartmatch is experimental at (eval 250) line 14.
Smartmatch is experimental at (eval 252) line 10.
Smartmatch is experimental at (eval 252) line 20.
# Testing XML::Rabbit 0.3.0, Perl 5.019000, /home/sand/src/perl/repoperls/installed-perls/perl/v5.19.0/9980/bin/perl
t/00_load.t ........................... ok
# Detected libxml2 version: 20901
t/01_libxml_version.t ................. ok
Smartmatch is experimental at (eval 244) line 7.
Smartmatch is experimental at (eval 244) line 14.
Smartmatch is experimental at (eval 246) line 7.
Smartmatch is experimental at (eval 246) line 14.
Smartmatch is experimental at (eval 248) line 7.
Smartmatch is experimental at (eval 248) line 14.
Smartmatch is experimental at (eval 250) line 10.
Smartmatch is experimental at (eval 250) line 20.
t/10_parse_xhtml_fh.t ................. ok
Smartmatch is experimental at (eval 244) line 7.
Smartmatch is experimental at (eval 244) line 14.
Smartmatch is experimental at (eval 246) line 7.
Smartmatch is experimental at (eval 246) line 14.
Smartmatch is experimental at (eval 248) line 7.
Smartmatch is experimental at (eval 248) line 14.
Smartmatch is experimental at (eval 250) line 10.
Smartmatch is experimental at (eval 250) line 20.
t/10_parse_xhtml_file.t ............... ok
Smartmatch is experimental at (eval 244) line 7.
Smartmatch is experimental at (eval 244) line 14.
Smartmatch is experimental at (eval 246) line 7.
Smartmatch is experimental at (eval 246) line 14.
Smartmatch is experimental at (eval 248) line 7.
Smartmatch is experimental at (eval 248) line 14.
Smartmatch is experimental at (eval 250) line 10.
Smartmatch is experimental at (eval 250) line 20.
t/10_parse_xhtml_string.t ............. ok
Smartmatch is experimental at (eval 244) line 7.
Smartmatch is experimental at (eval 244) line 14.
Smartmatch is experimental at (eval 246) line 7.
Smartmatch is experimental at (eval 246) line 14.
Smartmatch is experimental at (eval 248) line 7.
Smartmatch is experimental at (eval 248) line 14.
Smartmatch is experimental at (eval 250) line 10.
Smartmatch is experimental at (eval 250) line 20.
t/11_parse_imsqti.t ................... ok
Smartmatch is experimental at (eval 243) line 7.
Smartmatch is experimental at (eval 243) line 14.
Smartmatch is experimental at (eval 245) line 7.
Smartmatch is experimental at (eval 245) line 14.
Smartmatch is experimental at (eval 247) line 7.
Smartmatch is experimental at (eval 247) line 14.
Smartmatch is experimental at (eval 249) line 10.
Smartmatch is experimental at (eval 249) line 20.
t/12_xpath_value_map.t ................ ok
Smartmatch is experimental at (eval 247) line 7.
Smartmatch is experimental at (eval 247) line 14.
Smartmatch is experimental at (eval 249) line 7.
Smartmatch is experimental at (eval 249) line 14.
Smartmatch is experimental at (eval 251) line 7.
Smartmatch is experimental at (eval 251) line 14.
Smartmatch is experimental at (eval 253) line 10.
Smartmatch is experimental at (eval 253) line 20.
t/13_xpath_object_map.t ............... ok
Smartmatch is experimental at (eval 245) line 7.
Smartmatch is experimental at (eval 245) line 14.
Smartmatch is experimental at (eval 247) line 7.
Smartmatch is experimental at (eval 247) line 14.
Smartmatch is experimental at (eval 249) line 7.
Smartmatch is experimental at (eval 249) line 14.
Smartmatch is experimental at (eval 251) line 10.
Smartmatch is experimental at (eval 251) line 20.
t/14_sugar_parse_xhtml_file.t ......... ok
Smartmatch is experimental at (eval 245) line 7.
Smartmatch is experimental at (eval 245) line 14.
Smartmatch is experimental at (eval 247) line 7.
Smartmatch is experimental at (eval 247) line 14.
Smartmatch is experimental at (eval 249) line 7.
Smartmatch is experimental at (eval 249) line 14.
Smartmatch is experimental at (eval 251) line 10.
Smartmatch is experimental at (eval 251) line 20.
t/15_sugar_parse_imsqti.t ............. ok
Smartmatch is experimental at (eval 244) line 7.
Smartmatch is experimental at (eval 244) line 14.
Smartmatch is experimental at (eval 246) line 7.
Smartmatch is experimental at (eval 246) line 14.
Smartmatch is experimental at (eval 248) line 7.
Smartmatch is experimental at (eval 248) line 14.
Smartmatch is experimental at (eval 250) line 10.
Smartmatch is experimental at (eval 250) line 20.
t/16_sugar_xpath_value_map.t .......... ok
Smartmatch is experimental at (eval 244) line 7.
Smartmatch is experimental at (eval 244) line 14.
Smartmatch is experimental at (eval 246) line 7.
Smartmatch is experimental at (eval 246) line 14.
Smartmatch is experimental at (eval 248) line 7.
Smartmatch is experimental at (eval 248) line 14.
Smartmatch is experimental at (eval 250) line 10.
Smartmatch is experimental at (eval 250) line 20.
t/17_sugar_xpath_object_map.t ......... ok
Smartmatch is experimental at (eval 245) line 7.
Smartmatch is experimental at (eval 245) line 14.
Smartmatch is experimental at (eval 247) line 7.
Smartmatch is experimental at (eval 247) line 14.
Smartmatch is experimental at (eval 249) line 7.
Smartmatch is experimental at (eval 249) line 14.
Smartmatch is experimental at (eval 251) line 10.
Smartmatch is experimental at (eval 251) line 20.
t/18_dump_xml.t ....................... ok
Smartmatch is experimental at (eval 246) line 7.
Smartmatch is experimental at (eval 246) line 14.
Smartmatch is experimental at (eval 248) line 7.
Smartmatch is experimental at (eval 248) line 14.
Smartmatch is experimental at (eval 250) line 7.
Smartmatch is experimental at (eval 250) line 14.
Smartmatch is experimental at (eval 252) line 10.
Smartmatch is experimental at (eval 252) line 20.
t/19_RT_71815.t ....................... ok
Smartmatch is experimental at (eval 243) line 7.
Smartmatch is experimental at (eval 243) line 14.
Smartmatch is experimental at (eval 245) line 7.
Smartmatch is experimental at (eval 245) line 14.
Smartmatch is experimental at (eval 247) line 7.
Smartmatch is experimental at (eval 247) line 14.
Smartmatch is experimental at (eval 249) line 10.
Smartmatch is experimental at (eval 249) line 20.
t/20_RT_81519.t ....................... ok
t/author-critic.t ..................... skipped: these tests are for testing by the author
Smartmatch is experimental at (eval 244) line 7.
Smartmatch is experimental at (eval 244) line 14.
Smartmatch is experimental at (eval 246) line 7.
Smartmatch is experimental at (eval 246) line 14.
Smartmatch is experimental at (eval 248) line 7.
Smartmatch is experimental at (eval 248) line 14.
Smartmatch is experimental at (eval 250) line 10.
Smartmatch is experimental at (eval 250) line 20.
t/regression/node_attribute_traits.t .. ok
t/release-eol.t ....................... skipped: these tests are for release candidate testing
t/release-kwalitee.t .................. skipped: these tests are for release candidate testing
t/release-no-tabs.t ................... skipped: these tests are for release candidate testing
t/release-pod-coverage.t .............. skipped: these tests are for release candidate testing
t/release-pod-syntax.t ................ skipped: these tests are for release candidate testing
All tests successful.
Files=22, Tests=165, 18 wallclock secs ( 0.09 usr  0.02 sys +  6.74 cusr  0.48 csys =  7.33 CPU)
Result: PASS

------------------------------
PREREQUISITES
------------------------------

Prerequisite modules loaded:

requires:

    Module                       Need Have   
    ---------------------------- ---- -------
    Carp                         0    1.29   
    Encode                       0    2.49   
    Moose                        0.89 2.0802 
    Moose::Exporter              0    2.0802 
    Moose::Role                  0    2.0802 
    Moose::Util::TypeConstraints 0    2.0802 
    MooseX::Role::Parameterized  0    1.00   
    namespace::autoclean         0    0.13   
    Perl6::Junction              0    1.50000
    Scalar::Util                 0    1.27   
    strict                       0    1.07   
    warnings                     0    1.18   
    XML::LibXML                  1.70 2.0019 

build_requires:

    Module                       Need Have   
    ---------------------------- ---- -------
    Test::Exception              0    0.32   
    Test::More                   0    0.98   
    utf8                         0    1.11   

configure_requires:

    Module                       Need Have   
    ---------------------------- ---- -------
    ExtUtils::MakeMaker          6.30 6.69_08
    XML::LibXML                  1.70 2.0019 


------------------------------
ENVIRONMENT AND OTHER CONTEXT
------------------------------

Environment variables:

    AUTOMATED_TESTING = 1
    LANG = en_US.UTF-8
    LANGUAGE = en_US:en
    PATH = /usr/lib/ccache:/home/sand/bin:/usr/local/bin:/usr/bin:/bin:/usr/bin/X11:/usr/games:/usr/local/perl/bin:/usr/X11/bin:/sbin:/usr/sbin
    PERL5LIB = 
    PERL5OPT = 
    PERL5_CPANPLUS_IS_RUNNING = 27438
    PERL5_CPAN_IS_RUNNING = 27438
    PERL_MM_USE_DEFAULT = 1
    SHELL = /usr/bin/zsh
    TERM = screen

Perl special variables (and OS-specific diagnostics, for MSWin32):

    $^X = /home/sand/src/perl/repoperls/installed-perls/perl/v5.19.0/9980/bin/perl
    $UID/$EUID = 1005 / 1005
    $GID = 1005 1005
    $EGID = 1005 1005

Perl module toolchain versions installed:

    Module              Have    
    ------------------- --------
    CPAN                2.00    
    CPAN::Meta          2.120921
    Cwd                 3.40    
    ExtUtils::CBuilder  0.280210
    ExtUtils::Command   1.17    
    ExtUtils::Install   1.59    
    ExtUtils::MakeMaker 6.69_08 
    ExtUtils::Manifest  1.63    
    ExtUtils::ParseXS   3.18    
    File::Spec          3.40    
    JSON                2.59    
    JSON::PP            2.27202 
    Module::Build       0.4007  
    Module::Signature   0.73    
    Parse::CPAN::Meta   1.4405  
    Test::Harness       3.28    
    Test::More          0.98    
    YAML                0.84    
    YAML::Syck          1.27    
    version             0.9902  


--

Summary of my perl5 (revision 5 version 19 subversion 0) configuration:
  Commit id: e285f503300a228c3a182c003fae51c7e73c16c3
  Platform:
    osname=linux, osvers=3.9-1-amd64, archname=x86_64-linux-thread-multi
    uname='linux k83 3.9-1-amd64 #1 smp debian 3.9.8-1 x86_64 gnulinux '
    config_args='-Dprefix=/home/sand/src/perl/repoperls/installed-perls/perl/v5.19.0/9980 -Dmyhostname=k83 -Dinstallusrbinperl=n -Uversiononly -Dusedevel -des -Ui_db -Duseithreads -Uuselongdouble -DDEBUGGING=-g'
    hint=recommended, useposix=true, d_sigaction=define
    useithreads=define, usemultiplicity=define
    useperlio=define, d_sfio=undef, uselargefiles=define, usesocks=undef
    use64bitint=define, use64bitall=define, uselongdouble=undef
    usemymalloc=n, bincompat5005=undef
  Compiler:
    cc='cc', ccflags ='-D_REENTRANT -D_GNU_SOURCE -fno-strict-aliasing -pipe -fstack-protector -I/usr/local/include -D_LARGEFILE_SOURCE -D_FILE_OFFSET_BITS=64',
    optimize='-O2 -g',
    cppflags='-D_REENTRANT -D_GNU_SOURCE -fno-strict-aliasing -pipe -fstack-protector -I/usr/local/include'
    ccversion='', gccversion='4.8.1', gccosandvers=''
    intsize=4, longsize=8, ptrsize=8, doublesize=8, byteorder=12345678
    d_longlong=define, longlongsize=8, d_longdbl=define, longdblsize=16
    ivtype='long', ivsize=8, nvtype='double', nvsize=8, Off_t='off_t', lseeksize=8
    alignbytes=8, prototype=define
  Linker and Libraries:
    ld='cc', ldflags =' -fstack-protector -L/usr/local/lib'
    libpth=/usr/local/lib /lib/x86_64-linux-gnu /lib/../lib /usr/lib/x86_64-linux-gnu /usr/lib/../lib /lib /usr/lib
    libs=-lnsl -lgdbm -ldb -ldl -lm -lcrypt -lutil -lpthread -lc -lgdbm_compat
    perllibs=-lnsl -ldl -lm -lcrypt -lutil -lpthread -lc
    libc=, so=so, useshrplib=false, libperl=libperl.a
    gnulibc_version='2.17'
  Dynamic Linking:
    dlsrc=dl_dlopen.xs, dlext=so, d_dlsymun=undef, ccdlflags='-Wl,-E'
    cccdlflags='-fPIC', lddlflags='-shared -O2 -g -L/usr/local/lib -fstack-protector'


Characteristics of this binary (from libperl): 
  Compile-time options: HAS_TIMES MULTIPLICITY PERLIO_LAYERS
                        PERL_DONT_CREATE_GVSV
                        PERL_HASH_FUNC_ONE_AT_A_TIME_HARD
                        PERL_IMPLICIT_CONTEXT PERL_MALLOC_WRAP
                        PERL_PRESERVE_IVUV PERL_SAWAMPERSAND PERL_USE_DEVEL
                        USE_64_BIT_ALL USE_64_BIT_INT USE_ITHREADS
                        USE_LARGE_FILES USE_LOCALE USE_LOCALE_COLLATE
                        USE_LOCALE_CTYPE USE_LOCALE_NUMERIC USE_PERLIO
                        USE_PERL_ATOF USE_REENTRANT_API
  Built under linux
  Compiled at Jul  2 2013 23:05:19
  %ENV:
    PERL5LIB=""
    PERL5OPT=""
    PERL5_CPANPLUS_IS_RUNNING="27438"
    PERL5_CPAN_IS_RUNNING="27438"
    PERL_MM_USE_DEFAULT="1"
  @INC:
    /home/sand/src/perl/repoperls/installed-perls/perl/v5.19.0/9980/lib/site_perl/5.19.0/x86_64-linux-thread-multi
    /home/sand/src/perl/repoperls/installed-perls/perl/v5.19.0/9980/lib/site_perl/5.19.0
    /home/sand/src/perl/repoperls/installed-perls/perl/v5.19.0/9980/lib/5.19.0/x86_64-linux-thread-multi
    /home/sand/src/perl/repoperls/installed-perls/perl/v5.19.0/9980/lib/5.19.0
    .