Dist-Zilla-Plugin-RemovePrereqs-Provided v0.001001 Perl 5 v5.41.8 i86pc-solaris-64

Status
Pass
From
Carlos Guevara
Dist
Dist-Zilla-Plugin-RemovePrereqs-Provided v0.001001
Platform
Perl 5 v5.41.8 i86pc-solaris-64
Date
2025-01-04 01:55:53
ID
07e7b09c-ca3f-11ef-a5e5-8fb16b41f670
This distribution has been tested as part of the CPAN Testers
project, supporting the Perl programming language.  See
http://wiki.cpantesters.org/ for more information or email
questions to cpan-testers-discuss@perl.org


--
Dear Kent Fredric (PAUSE Custodial Account),

This is a computer-generated report for Dist-Zilla-Plugin-RemovePrereqs-Provided-0.001001
on perl 5.41.8, created by CPAN-Reporter-1.2020.

Thank you for uploading your work to CPAN.  Congratulations!
All tests were successful.

Sections of this report:

    * Tester comments
    * Program output
    * Prerequisites
    * Environment and other context

------------------------------
TESTER COMMENTS
------------------------------

Additional comments from tester:

this report is from an automated smoke testing program
and was not reviewed by a human for accuracy

------------------------------
PROGRAM OUTPUT
------------------------------

Output from '/usr/bin/make test':

PERL_DL_NONLAZY=1 "/export/home/cpan/bin/perl/bin/perl5.41.8" "-MExtUtils::Command::MM" "-MTest::Harness" "-e" "undef *Test::Harness::Switches; test_harness(0, 'blib/lib', 'blib/arch')" t/*.t t/00-compile/*.t
t/00-compile/lib_Dist_Zilla_Plugin_RemovePrereqs_Provided_pm.t .. ok
# 
# Versions for all modules listed in MYMETA.json (including optional ones):
# 
# === Configure Requires ===
# 
#     Module              Want Have
#     ------------------- ---- ----
#     ExtUtils::MakeMaker  any 7.70
# 
# === Configure Recommends ===
# 
#     Module              Want Have
#     ------------------- ---- ----
#     ExtUtils::MakeMaker 7.00 7.70
# 
# === Build Requires ===
# 
#     Module              Want Have
#     ------------------- ---- ----
#     ExtUtils::MakeMaker  any 7.70
# 
# === Test Requires ===
# 
#     Module                              Want     Have
#     ------------------------------- -------- --------
#     Dist::Zilla::Plugin::GatherDir       any    6.032
#     Dist::Zilla::Plugin::Prereqs         any    6.032
#     Dist::Zilla::Util::Test::KENTNL 1.005000 1.005014
#     ExtUtils::MakeMaker                  any     7.70
#     File::Spec                           any     3.93
#     Test::DZil                           any    6.032
#     Test::More                           any 1.302207
# 
# === Test Recommends ===
# 
#     Module                                         Want     Have
#     ------------------------------------------ -------- --------
#     CPAN::Meta                                 2.120900 2.150010
#     Dist::Zilla::Plugin::MetaProvides::Package      any 2.004003
#     ExtUtils::MakeMaker                            7.00     7.70
#     Test::More                                     0.99 1.302207
# 
# === Runtime Requires ===
# 
#     Module                          Want     Have
#     ------------------------------- ---- --------
#     Dist::Zilla::Role::PrereqSource  any    6.032
#     Dist::Zilla::Util::ConfigDumper  any 0.003009
#     Moose                            any   2.2207
#     Moose::Util::TypeConstraints     any   2.2207
#     strict                           any     1.13
#     warnings                         any     1.72
# 
# === Runtime Recommends ===
# 
#     Module  Want   Have
#     ------ ----- ------
#     Moose  2.000 2.2207
# 
t/00-report-prereqs.t ........................................... ok
t/01_basic.t .................................................... ok
All tests successful.
Files=3, Tests=4,  1 wallclock secs ( 0.02 usr  0.01 sys +  0.97 cusr  0.14 csys =  1.14 CPU)
Result: PASS

------------------------------
PREREQUISITES
------------------------------

Prerequisite modules loaded:

requires:

    Module                          Need     Have    
    ------------------------------- -------- --------
    Dist::Zilla::Role::PrereqSource 0        6.032   
    Dist::Zilla::Util::ConfigDumper 0        0.003009
    Moose                           0        2.2207  
    Moose::Util::TypeConstraints    0        2.2207  
    perl                            5.006    5.041008
    strict                          0        1.13    
    warnings                        0        1.72    

build_requires:

    Module                          Need     Have    
    ------------------------------- -------- --------
    Dist::Zilla::Plugin::GatherDir  0        6.032   
    Dist::Zilla::Plugin::Prereqs    0        6.032   
    Dist::Zilla::Util::Test::KENTNL 1.005000 1.005014
    ExtUtils::MakeMaker             0        7.70    
    File::Spec                      0        3.93    
    Test::DZil                      0        6.032   
    Test::More                      0        1.302207

configure_requires:

    Module                          Need     Have    
    ------------------------------- -------- --------
    ExtUtils::MakeMaker             0        7.70    
    perl                            5.006    5.041008


------------------------------
ENVIRONMENT AND OTHER CONTEXT
------------------------------

Environment variables:

    AUTOMATED_TESTING = 1
    DATE_MANIP_TEST_DM5 = 1
    LANG = en_US.UTF-8
    LC_ALL = C
    NONINTERACTIVE_TESTING = 1
    NO_NETWORK_TESTING = 1
    PATH = /export/home/cpan/bin/perl/bin:/usr/bin:/usr/sbin:/sbin:/opt/ooce/bin:/usr/gnu/bin
    PERL5LIB = 
    PERL5OPT = 
    PERL5_CPANPLUS_IS_RUNNING = 20378
    PERL5_CPAN_IS_RUNNING = 20378
    PERL_MM_USE_DEFAULT = 1
    PERL_USE_UNSAFE_INC = 1
    SHELL = /bin/bash
    TERM = screen

Perl special variables (and OS-specific diagnostics, for MSWin32):

    $^X = /export/home/cpan/bin/perl/bin/perl5.41.8
    $UID/$EUID = 101 / 101
    $GID = 1 1
    $EGID = 1 1

Perl module toolchain versions installed:

    Module              Have    
    ------------------- --------
    CPAN                2.38    
    CPAN::Meta          2.150010
    Cwd                 3.92    
    ExtUtils::CBuilder  0.280240
    ExtUtils::Command   7.70    
    ExtUtils::Install   2.22    
    ExtUtils::MakeMaker 7.70    
    ExtUtils::Manifest  1.75    
    ExtUtils::ParseXS   3.56    
    File::Spec          3.93    
    JSON                4.10    
    JSON::PP            4.16    
    Module::Build       0.4234  
    Module::Signature   0.89    
    Parse::CPAN::Meta   2.150010
    Test2               1.302207
    Test::Harness       3.50    
    Test::More          1.302207
    YAML                1.31    
    YAML::Syck          1.34    
    version             0.9933  


--

Summary of my perl5 (revision 5 version 41 subversion 8) configuration:
  Commit id: 5a5493e4da7a9012d51e778f4276d710ff99210e
  Platform:
    osname=solaris
    osvers=2.11
    archname=i86pc-solaris-64
    uname='sunos cjg-omniosce 5.11 omnios-r151050-49db1c0a0fe i86pc i386 i86pc '
    config_args='-des -Dprefix=/export/home/cpan/bin/perl -Dscriptdir=/export/home/cpan/bin/perl/bin -Dusedevel -Duse64bitall -Dcc=gcc'
    hint=recommended
    useposix=true
    d_sigaction=define
    useithreads=undef
    usemultiplicity=undef
    use64bitint=define
    use64bitall=define
    uselongdouble=undef
    usemymalloc=n
    default_inc_excludes_dot=define
  Compiler:
    cc='gcc'
    ccflags ='-m64 -fwrapv -fno-strict-aliasing -pipe -fstack-protector-strong -D_LARGEFILE_SOURCE -D_FILE_OFFSET_BITS=64 -D_FORTIFY_SOURCE=2'
    optimize='-O'
    cppflags='-m64 -fwrapv -fno-strict-aliasing -pipe -fstack-protector-strong'
    ccversion=''
    gccversion='13.2.0'
    gccosandvers=''
    intsize=4
    longsize=8
    ptrsize=8
    doublesize=8
    byteorder=12345678
    doublekind=3
    d_longlong=define
    longlongsize=8
    d_longdbl=define
    longdblsize=16
    longdblkind=3
    ivtype='long'
    ivsize=8
    nvtype='double'
    nvsize=8
    Off_t='off_t'
    lseeksize=8
    alignbytes=8
    prototype=define
  Linker and Libraries:
    ld='gcc'
    ldflags =' -m64 -fstack-protector-strong -L/usr/gnu/lib '
    libpth=/opt/gcc-13/lib /usr/lib /usr/gnu/lib /usr/ccs/lib
    libs=-lpthread -lsocket -lnsl -ldl -lm -lc
    perllibs=-lpthread -lsocket -lnsl -ldl -lm -lc
    libc=/lib/libc.so
    so=so
    useshrplib=true
    libperl=libperl.so
    gnulibc_version=''
  Dynamic Linking:
    dlsrc=dl_dlopen.xs
    dlext=so
    d_dlsymun=undef
    ccdlflags='  -R /export/home/cpan/bin/perl/lib/5.41.8/i86pc-solaris-64/CORE'
    cccdlflags='-fPIC'
    lddlflags=' -shared -m64 -L/usr/gnu/lib -fstack-protector-strong'


Characteristics of this binary (from libperl): 
  Compile-time options:
    HAS_LONG_DOUBLE
    HAS_STRTOLD
    HAS_TIMES
    PERLIO_LAYERS
    PERL_COPY_ON_WRITE
    PERL_DONT_CREATE_GVSV
    PERL_HASH_FUNC_SIPHASH13
    PERL_HASH_USE_SBOX32
    PERL_MALLOC_WRAP
    PERL_OP_PARENT
    PERL_PRESERVE_IVUV
    PERL_USE_DEVEL
    PERL_USE_SAFE_PUTENV
    USE_64_BIT_ALL
    USE_64_BIT_INT
    USE_LARGE_FILES
    USE_LOCALE
    USE_LOCALE_COLLATE
    USE_LOCALE_CTYPE
    USE_LOCALE_NUMERIC
    USE_LOCALE_TIME
    USE_PERLIO
    USE_PERL_ATOF
  Built under solaris
  Compiled at Jan  3 2025 03:29:53
  %ENV:
    PERL5LIB=""
    PERL5OPT=""
    PERL5_CPANPLUS_IS_RUNNING="20378"
    PERL5_CPAN_IS_RUNNING="20378"
    PERL_MM_USE_DEFAULT="1"
    PERL_USE_UNSAFE_INC="1"
  @INC:
    /export/home/cpan/bin/perl/lib/site_perl/5.41.8/i86pc-solaris-64
    /export/home/cpan/bin/perl/lib/site_perl/5.41.8
    /export/home/cpan/bin/perl/lib/5.41.8/i86pc-solaris-64
    /export/home/cpan/bin/perl/lib/5.41.8
    .