Data-Session v1.18 Perl 5 v5.40.0 x86_64-linux-ld

Status
Pass
From
Andreas J. König (ANDK)
Dist
Data-Session v1.18
Platform
Perl 5 v5.40.0 x86_64-linux-ld
Date
2024-06-30 16:15:56
ID
0810f01e-36fc-11ef-8e42-1ce40b43f4fe
This distribution has been tested as part of the CPAN Testers
project, supporting the Perl programming language.  See
http://wiki.cpantesters.org/ for more information or email
questions to cpan-testers-discuss@perl.org


--
Dear Ron Savage,

This is a computer-generated report for Data-Session-1.18
on perl 5.40.0, created by CPAN-Reporter-1.2019.

Thank you for uploading your work to CPAN.  Congratulations!
All tests were successful.

Sections of this report:

    * Tester comments
    * Program output
    * Prerequisites
    * Environment and other context

------------------------------
TESTER COMMENTS
------------------------------

Additional comments from tester:

this report is from an automated smoke testing program
and was not reviewed by a human for accuracy

------------------------------
PROGRAM OUTPUT
------------------------------

Output from '/usr/bin/make test':

PERL_DL_NONLAZY=1 "/tmp/basesmoker-reloperl-H_yN/bin/perl" "-MExtUtils::Command::MM" "-MTest::Harness" "-e" "undef *Test::Harness::Switches; test_harness(0, 'blib/lib', 'blib/arch')" t/*.t
# Testing Data::Session V 1.18
# Using autovivification V 0.18
# Using CGI V 4.66
# Using Class::Load V 0.25
# Using Config::Tiny V 2.30
# Using Data::Dumper V 2.189
# Using Data::UUID V 1.227
# Using DBD::SQLite V 1.74
# Using DBI V 1.643
# Using DBIx::Admin::CreateTable V 2.11
# Using Digest::MD5 V 2.59
# Using Digest::SHA V 6.04
# Using Fcntl V 1.18
# Using File::Basename V 2.86
# Using File::Path V 2.18
# Using File::Slurper V 0.014
# Using File::Spec V 3.90
# Using File::Temp V 0.2311
# Using FreezeThaw V 0.5001
# Using Hash::FieldHash V 0.15
# Using JSON V 4.10
# Using overload V 1.37
# Using parent V 0.241
# Using Safe V 2.46
# Using Scalar::Util V 1.63
# Using Storable V 3.32
# Using strict V 1.13
# Using Try::Tiny V 0.31
# Using vars V 1.05
# Using warnings V 1.70
# Using YAML::Tiny V 1.74
t/00.versions.t .. ok
# Test: File.1. DSN: dbi:File:. ID generator: AutoIncrement. Serializer: DataDumper
# id 1: 1002
# Test: File.1. DSN: dbi:File:. ID generator: AutoIncrement. Serializer: FreezeThaw
# id 1: 1008
# Test: File.1. DSN: dbi:File:. ID generator: AutoIncrement. Serializer: JSON
# id 1: 1014
# Test: File.1. DSN: dbi:File:. ID generator: AutoIncrement. Serializer: Storable
# id 1: 1020
# Test: File.1. DSN: dbi:File:. ID generator: AutoIncrement. Serializer: YAML
# id 1: 1026
# Test: File.1. DSN: dbi:File:. ID generator: MD5. Serializer: DataDumper
# id 1: d637d9846ed1b95ac51e8f333629366c
# Test: File.1. DSN: dbi:File:. ID generator: MD5. Serializer: FreezeThaw
# id 1: 8e00c03f3d72ec54aea4ff76afd544a4
# Test: File.1. DSN: dbi:File:. ID generator: MD5. Serializer: JSON
# id 1: 71c001b95ce7485f085746a697b4250d
# Test: File.1. DSN: dbi:File:. ID generator: MD5. Serializer: Storable
# id 1: 33faac38aefe128f235460f0999c34ef
# Test: File.1. DSN: dbi:File:. ID generator: MD5. Serializer: YAML
# id 1: 8111bffb6fa3c4bcde1afacbc1996759
# Test: File.1. DSN: dbi:File:. ID generator: SHA1. Serializer: DataDumper
# id 1: 8b5f8717bcadf04638f93bdb8efd2930dfd821ec
# Test: File.1. DSN: dbi:File:. ID generator: SHA1. Serializer: FreezeThaw
# id 1: bb665a41f7d5982a852f5f23397d75e86cb3e144
# Test: File.1. DSN: dbi:File:. ID generator: SHA1. Serializer: JSON
# id 1: 6a831b156161f4822a69e16bc4c3437758a6b907
# Test: File.1. DSN: dbi:File:. ID generator: SHA1. Serializer: Storable
# id 1: 0f1b44b6a77cf37aeebabcaf452f3aaaafdbf032
# Test: File.1. DSN: dbi:File:. ID generator: SHA1. Serializer: YAML
# id 1: 96b1c0061118928ed038a447ffebf8b5a7ed1a64
# Test: File.1. DSN: dbi:File:. ID generator: SHA256. Serializer: DataDumper
# id 1: 0c7501982632a2b7f900176ee4793f675d752b8a14e82c46e37f6d888e837c11
# Test: File.1. DSN: dbi:File:. ID generator: SHA256. Serializer: FreezeThaw
# id 1: e29be4d38fbaabff701118d985f004268c3fdc00dab4793b911ff990fa435d44
# Test: File.1. DSN: dbi:File:. ID generator: SHA256. Serializer: JSON
# id 1: 45cbaa3c5e0d7ba17f595eef85bf70fe8c2ffc1bfccf74e4d3371f1f5eb4de4f
# Test: File.1. DSN: dbi:File:. ID generator: SHA256. Serializer: Storable
# id 1: be303dea668e9942c5a5a1cadd8ca607a3cc7d83b59e8ef37bd3039319bb969c
# Test: File.1. DSN: dbi:File:. ID generator: SHA256. Serializer: YAML
# id 1: e4105a740aec9ecfa4e2fa251ecc6fc35f0d5853081dd07ccc7a549ef964cef2
# Test: File.1. DSN: dbi:File:. ID generator: SHA512. Serializer: DataDumper
# id 1: f70ff1a1ab07dbe124780b121c61f2dca5f01d5c145e595265d1c0de07d07b34234dd4991a5dd5ef20625c18b1cb20051c0901199677979c3aee22639307ec6b
# Test: File.1. DSN: dbi:File:. ID generator: SHA512. Serializer: FreezeThaw
# id 1: e2fcbf2075ac00904423460a9dc7523852c54acb755c7c63ad53cd1f8c3d724db7c6e43cfc5752f41f6b928eeba05274c6128a59604d60c88b628f2c8d1090e7
# Test: File.1. DSN: dbi:File:. ID generator: SHA512. Serializer: JSON
# id 1: ff8a3126d1af11a79df0253e1f9c42e264caab4e2231df156ecf51ef06aa657bf8a6ab924f534e44c4ba51cbfce6af57ea278aec4e930efceada99c435b3256b
# Test: File.1. DSN: dbi:File:. ID generator: SHA512. Serializer: Storable
# id 1: 532173686ef938a8651ae30785473518bb95a530f0b68bf9022f2dfbc19709759269713c553ff5e168a777b696787af662f20e98747fdc57a5b479642bffb01a
# Test: File.1. DSN: dbi:File:. ID generator: SHA512. Serializer: YAML
# id 1: 47ce8f73cafbe7584093162319fd77cf2b78ff305baf6780eb197ab2b418b3d801d22ea5e672efb05ca1ca96734d8094dc32b9f55e07722dab2b27d205bdab76
# Test: File.1. DSN: dbi:File:. ID generator: Static. Serializer: DataDumper
# id 1: 1234
# Test: File.1. DSN: dbi:File:. ID generator: Static. Serializer: FreezeThaw
# id 1: 1234
# Test: File.1. DSN: dbi:File:. ID generator: Static. Serializer: JSON
# id 1: 1234
# Test: File.1. DSN: dbi:File:. ID generator: Static. Serializer: Storable
# id 1: 1234
# Test: File.1. DSN: dbi:File:. ID generator: Static. Serializer: YAML
# id 1: 1234
# Test: File.1. DSN: dbi:File:. ID generator: UUID34. Serializer: DataDumper
# id 1: 0xA62E378036FB11EF90C289FFF440958C
# Test: File.1. DSN: dbi:File:. ID generator: UUID34. Serializer: FreezeThaw
# id 1: 0xA62F67D636FB11EF8447FD89F114089F
# Test: File.1. DSN: dbi:File:. ID generator: UUID34. Serializer: JSON
# id 1: 0xA6304F5236FB11EF8F64FC8BE9D58B0A
# Test: File.1. DSN: dbi:File:. ID generator: UUID34. Serializer: Storable
# id 1: 0xA6312FEE36FB11EF98E59A2BDAA78DB2
# Test: File.1. DSN: dbi:File:. ID generator: UUID34. Serializer: YAML
# id 1: 0xA6320EA036FB11EF8F7A8D2936ECEA3E
# Test: File.1. DSN: dbi:File:. ID generator: UUID36. Serializer: DataDumper
# id 1: A63320CE-36FB-11EF-893F-FCD429E93E8A
# Test: File.1. DSN: dbi:File:. ID generator: UUID36. Serializer: FreezeThaw
# id 1: A63446F2-36FB-11EF-8B07-EC787E54B956
# Test: File.1. DSN: dbi:File:. ID generator: UUID36. Serializer: JSON
# id 1: A6352E50-36FB-11EF-A957-A1FFD920B37F
# Test: File.1. DSN: dbi:File:. ID generator: UUID36. Serializer: Storable
# id 1: A6360E56-36FB-11EF-8D00-B0D2210CAE7D
# Test: File.1. DSN: dbi:File:. ID generator: UUID36. Serializer: YAML
# id 1: A636EF38-36FB-11EF-9939-FF2A3465CADB
# Skipping dsn 'dbi:SQLite:dbname=/tmp/sessions.sqlite' because the SQLite directory does not exist
# 
# Testing HTTP header generation
# 
# Testing expire the session. Sleeping for 1 second ...
# Expiring id: A6382222-36FB-11EF-B42F-EF3FCD476380
# 
# Testing expire a session parameter. Sleeping for 1 second ...
t/basic.t ........ ok
# DSN name: File.1. DSN: dbi:File:. ID generator: MD5. Serializer: DataDumper
# id1: 2cb1b643bf63a1a61b5af99b6a8e3e0b
# 1: Recovered known id 9fbb0add9b3bd93c56249c67fa7be8ce from traverse
# 2: Recovered known id 36f2ef8278c76a5c082f10a5515e158c from traverse
# 3: Recovered known id 0f2720a37f7c4e401577554e81a5ae29 from traverse
# 4: Recovered known id 15a172eb15bf5b2e0476370b6d1dd657 from traverse
# Skipping dsn 'dbi:SQLite:dbname=/tmp/sessions.sqlite' because the SQLite directory does not exist
t/traverse.t ..... ok
All tests successful.
Files=3, Tests=52,  7 wallclock secs ( 0.06 usr  0.01 sys +  0.72 cusr  0.12 csys =  0.91 CPU)
Result: PASS

------------------------------
PREREQUISITES
------------------------------

Prerequisite modules loaded:

requires:

    Module                   Need     Have    
    ------------------------ -------- --------
    autovivification         0        0.18    
    CGI                      3.63     4.66    
    Class::Load              0.19     0.25    
    Config::Tiny             2.14     2.30    
    Data::Dumper             2.145    2.189   
    Data::UUID               1.218    1.227   
    DBD::SQLite              1.39     1.74    
    DBI                      1.627    1.643   
    DBIx::Admin::CreateTable 2.07     2.11    
    Digest::MD5              2.52     2.59    
    Digest::SHA              5.84     6.04    
    Fcntl                    1.06     1.18    
    File::Basename           2.77     2.86    
    File::Path               2.07     2.18    
    File::Slurper            0.012    0.014   
    File::Spec               3.3      3.90    
    File::Temp               0.22     0.2311  
    FreezeThaw               0.5001   0.5001  
    Hash::FieldHash          0.14     0.15    
    JSON                     2.59     4.10    
    overload                 0        1.37    
    parent                   0        0.241   
    Safe                     2.35     2.46    
    Scalar::Util             1.27     1.63    
    Storable                 2.39     3.32    
    strict                   0        1.13    
    Try::Tiny                0.12     0.31    
    vars                     0        1.05    
    warnings                 0        1.70    
    YAML::Tiny               1.51     1.74    

build_requires:

    Module                   Need     Have    
    ------------------------ -------- --------
    ExtUtils::MakeMaker      0        7.70    
    Test::More               1.001014 1.302199
    Test::Pod                1.48     1.52    

configure_requires:

    Module                   Need     Have    
    ------------------------ -------- --------
    ExtUtils::MakeMaker      0        7.70    


------------------------------
ENVIRONMENT AND OTHER CONTEXT
------------------------------

Environment variables:

    AUTOMATED_TESTING = 1
    LANG = en_US.UTF-8
    LC_ADDRESS = de_DE.UTF-8
    LC_IDENTIFICATION = de_DE.UTF-8
    LC_MEASUREMENT = de_DE.UTF-8
    LC_MONETARY = de_DE.UTF-8
    LC_NAME = de_DE.UTF-8
    LC_NUMERIC = de_DE.UTF-8
    LC_PAPER = de_DE.UTF-8
    LC_TELEPHONE = de_DE.UTF-8
    LC_TIME = de_DE.UTF-8
    PATH = /home/sand/bin:/usr/local/bin:/usr/local/sbin:/usr/sbin:/usr/bin:/sbin:/bin:/usr/games:/usr/local/games:/snap/bin:/usr/local/perl/bin:/usr/X11/bin
    PERL = /tmp/basesmoker-reloperl-H_yN/bin/perl
    PERL5LIB = /tmp/loop_over_bdir-537929-26Vl43/Business-Shipping-DataFiles-1.02-0/blib/arch:/tmp/loop_over_bdir-537929-26Vl43/Business-Shipping-DataFiles-1.02-0/blib/lib:/tmp/loop_over_bdir-537929-26Vl43/CGI-Application-NetNewsIface-0.0204-0/blib/arch:/tmp/loop_over_bdir-537929-26Vl43/CGI-Application-NetNewsIface-0.0204-0/blib/lib:/tmp/loop_over_bdir-537929-26Vl43/Linux-InitFS-0.2-0/blib/arch:/tmp/loop_over_bdir-537929-26Vl43/Linux-InitFS-0.2-0/blib/lib:/tmp/loop_over_bdir-537929-26Vl43/Debian-Packages-0.03-0/blib/arch:/tmp/loop_over_bdir-537929-26Vl43/Debian-Packages-0.03-0/blib/lib:/tmp/loop_over_bdir-537929-26Vl43/LCFG-Build-Skeleton-0.5.0-0/blib/arch:/tmp/loop_over_bdir-537929-26Vl43/LCFG-Build-Skeleton-0.5.0-0/blib/lib:/tmp/loop_over_bdir-537929-26Vl43/Dpkg-1.22.6-0/blib/arch:/tmp/loop_over_bdir-537929-26Vl43/Dpkg-1.22.6-0/blib/lib:/tmp/loop_over_bdir-537929-26Vl43/App-rmcd-0.280-0/blib/arch:/tmp/loop_over_bdir-537929-26Vl43/App-rmcd-0.280-0/blib/lib:/tmp/loop_over_bdir-537929-26Vl43/shishi-0.0.1-0/blib/arch:/tmp/loop_over_bdir-537929-26Vl43/shishi-0.0.1-0/blib/lib:/tmp/loop_over_bdir-537929-26Vl43/Devel-Required-0.16-0/blib/arch:/tmp/loop_over_bdir-537929-26Vl43/Devel-Required-0.16-0/blib/lib:/tmp/loop_over_bdir-537929-26Vl43/MP3-PodcastFetch-1.05-0/blib/arch:/tmp/loop_over_bdir-537929-26Vl43/MP3-PodcastFetch-1.05-0/blib/lib:/tmp/loop_over_bdir-537929-26Vl43/RackMan-1.19-0/blib/arch:/tmp/loop_over_bdir-537929-26Vl43/RackMan-1.19-0/blib/lib:/tmp/loop_over_bdir-537929-26Vl43/DBIx-Migration-Directories-0.12-0/blib/arch:/tmp/loop_over_bdir-537929-26Vl43/DBIx-Migration-Directories-0.12-0/blib/lib:/tmp/loop_over_bdir-537929-26Vl43/HTML-Menu-TreeView-1.22-0/blib/arch:/tmp/loop_over_bdir-537929-26Vl43/HTML-Menu-TreeView-1.22-0/blib/lib
    PERL5OPT = 
    PERL5_CPANPLUS_IS_RUNNING = 537937
    PERL5_CPAN_IS_RUNNING = 537937
    PERL_CANARY_STABILITY_NOPROMPT = 1
    PERL_MM_USE_DEFAULT = 1
    PERL_USE_UNSAFE_INC = 1
    SHELL = /usr/bin/zsh
    TERM = screen

Perl special variables (and OS-specific diagnostics, for MSWin32):

    $^X = /tmp/basesmoker-reloperl-H_yN/bin/perl
    $UID/$EUID = 1005 / 1005
    $GID = 1005 1005
    $EGID = 1005 1005

Perl module toolchain versions installed:

    Module              Have    
    ------------------- --------
    CPAN                2.36    
    CPAN::Meta          2.150010
    Cwd                 3.90    
    ExtUtils::CBuilder  0.280240
    ExtUtils::Command   7.70    
    ExtUtils::Install   2.22    
    ExtUtils::MakeMaker 7.70    
    ExtUtils::Manifest  1.75    
    ExtUtils::ParseXS   3.51    
    File::Spec          3.90    
    JSON                4.10    
    JSON::PP            4.16    
    Module::Build       0.4234  
    Module::Signature   0.88    
    Parse::CPAN::Meta   2.150010
    Test2               1.302199
    Test::Harness       3.48    
    Test::More          1.302199
    YAML                1.31    
    YAML::Syck          1.34    
    version             0.9932  


--

Summary of my perl5 (revision 5 version 40 subversion 0) configuration:
  Commit id: f22a16ecf4821b7e93d2569f630817a2631fddd9
  Platform:
    osname=linux
    osvers=6.5.0-35-generic
    archname=x86_64-linux-ld
    uname='linux k93jammy 6.5.0-35-generic #35~22.04.1-ubuntu smp preempt_dynamic tue may 7 09:00:52 utc 2 x86_64 x86_64 x86_64 gnulinux '
    config_args='-Dprefix=/home/sand/src/perl/repoperls/installed-perls/host/k93jammy/v5.40.0/5674 -Dmyhostname=k93jammy -Dinstallusrbinperl=n -Uversiononly -Dusedevel -des -Ui_db -Dlibswanted=cl pthread socket inet nsl gdbm dbm malloc dl ld sun m crypt sec util c cposix posix ucb BSD gdbm_compat -Uuseithreads -Duselongdouble -DEBUGGING=-g'
    hint=recommended
    useposix=true
    d_sigaction=define
    useithreads=undef
    usemultiplicity=undef
    use64bitint=define
    use64bitall=define
    uselongdouble=define
    usemymalloc=n
    default_inc_excludes_dot=define
  Compiler:
    cc='cc'
    ccflags ='-fwrapv -fno-strict-aliasing -pipe -fstack-protector-strong -I/usr/local/include -D_LARGEFILE_SOURCE -D_FILE_OFFSET_BITS=64'
    optimize='-O2 -g'
    cppflags='-fwrapv -fno-strict-aliasing -pipe -fstack-protector-strong -I/usr/local/include'
    ccversion=''
    gccversion='11.4.0'
    gccosandvers=''
    intsize=4
    longsize=8
    ptrsize=8
    doublesize=8
    byteorder=12345678
    doublekind=3
    d_longlong=define
    longlongsize=8
    d_longdbl=define
    longdblsize=16
    longdblkind=3
    ivtype='long'
    ivsize=8
    nvtype='long double'
    nvsize=16
    Off_t='off_t'
    lseeksize=8
    alignbytes=16
    prototype=define
  Linker and Libraries:
    ld='cc'
    ldflags =' -fstack-protector-strong -L/usr/local/lib'
    libpth=/usr/local/lib /usr/lib/x86_64-linux-gnu /usr/lib /usr/lib64
    libs=-lpthread -lnsl -ldl -lm -lcrypt -lutil -lc
    perllibs=-lpthread -lnsl -ldl -lm -lcrypt -lutil -lc
    libc=/lib/x86_64-linux-gnu/libc.so.6
    so=so
    useshrplib=false
    libperl=libperl.a
    gnulibc_version='2.35'
  Dynamic Linking:
    dlsrc=dl_dlopen.xs
    dlext=so
    d_dlsymun=undef
    ccdlflags='-Wl,-E'
    cccdlflags='-fPIC'
    lddlflags='-shared -O2 -g -L/usr/local/lib -fstack-protector-strong'


Characteristics of this binary (from libperl): 
  Compile-time options:
    HAS_LONG_DOUBLE
    HAS_STRTOLD
    HAS_TIMES
    PERLIO_LAYERS
    PERL_COPY_ON_WRITE
    PERL_DONT_CREATE_GVSV
    PERL_HASH_FUNC_SIPHASH13
    PERL_HASH_USE_SBOX32
    PERL_MALLOC_WRAP
    PERL_OP_PARENT
    PERL_PRESERVE_IVUV
    PERL_USE_DEVEL
    PERL_USE_SAFE_PUTENV
    USE_64_BIT_ALL
    USE_64_BIT_INT
    USE_LARGE_FILES
    USE_LOCALE
    USE_LOCALE_COLLATE
    USE_LOCALE_CTYPE
    USE_LOCALE_NUMERIC
    USE_LOCALE_TIME
    USE_LONG_DOUBLE
    USE_PERLIO
    USE_PERL_ATOF
  Built under linux
  Compiled at Jun 11 2024 05:40:45
  %ENV:
    PERL="/tmp/basesmoker-reloperl-H_yN/bin/perl"
    PERL5LIB="/tmp/loop_over_bdir-537929-26Vl43/Business-Shipping-DataFiles-1.02-0/blib/arch:/tmp/loop_over_bdir-537929-26Vl43/Business-Shipping-DataFiles-1.02-0/blib/lib:/tmp/loop_over_bdir-537929-26Vl43/CGI-Application-NetNewsIface-0.0204-0/blib/arch:/tmp/loop_over_bdir-537929-26Vl43/CGI-Application-NetNewsIface-0.0204-0/blib/lib:/tmp/loop_over_bdir-537929-26Vl43/Linux-InitFS-0.2-0/blib/arch:/tmp/loop_over_bdir-537929-26Vl43/Linux-InitFS-0.2-0/blib/lib:/tmp/loop_over_bdir-537929-26Vl43/Debian-Packages-0.03-0/blib/arch:/tmp/loop_over_bdir-537929-26Vl43/Debian-Packages-0.03-0/blib/lib:/tmp/loop_over_bdir-537929-26Vl43/LCFG-Build-Skeleton-0.5.0-0/blib/arch:/tmp/loop_over_bdir-537929-26Vl43/LCFG-Build-Skeleton-0.5.0-0/blib/lib:/tmp/loop_over_bdir-537929-26Vl43/Dpkg-1.22.6-0/blib/arch:/tmp/loop_over_bdir-537929-26Vl43/Dpkg-1.22.6-0/blib/lib:/tmp/loop_over_bdir-537929-26Vl43/App-rmcd-0.280-0/blib/arch:/tmp/loop_over_bdir-537929-26Vl43/App-rmcd-0.280-0/blib/lib:/tmp/loop_over_bdir-537929-26Vl43/shishi-0.0.1-0/blib/arch:/tmp/loop_over_bdir-537929-26Vl43/shishi-0.0.1-0/blib/lib:/tmp/loop_over_bdir-537929-26Vl43/Devel-Required-0.16-0/blib/arch:/tmp/loop_over_bdir-537929-26Vl43/Devel-Required-0.16-0/blib/lib:/tmp/loop_over_bdir-537929-26Vl43/MP3-PodcastFetch-1.05-0/blib/arch:/tmp/loop_over_bdir-537929-26Vl43/MP3-PodcastFetch-1.05-0/blib/lib:/tmp/loop_over_bdir-537929-26Vl43/RackMan-1.19-0/blib/arch:/tmp/loop_over_bdir-537929-26Vl43/RackMan-1.19-0/blib/lib:/tmp/loop_over_bdir-537929-26Vl43/DBIx-Migration-Directories-0.12-0/blib/arch:/tmp/loop_over_bdir-537929-26Vl43/DBIx-Migration-Directories-0.12-0/blib/lib:/tmp/loop_over_bdir-537929-26Vl43/HTML-Menu-TreeView-1.22-0/blib/arch:/tmp/loop_over_bdir-537929-26Vl43/HTML-Menu-TreeView-1.22-0/blib/lib"
    PERL5OPT=""
    PERL5_CPANPLUS_IS_RUNNING="537937"
    PERL5_CPAN_IS_RUNNING="537937"
    PERL_CANARY_STABILITY_NOPROMPT="1"
    PERL_MM_USE_DEFAULT="1"
    PERL_USE_UNSAFE_INC="1"
  @INC:
    /tmp/loop_over_bdir-537929-26Vl43/Business-Shipping-DataFiles-1.02-0/blib/arch
    /tmp/loop_over_bdir-537929-26Vl43/Business-Shipping-DataFiles-1.02-0/blib/lib
    /tmp/loop_over_bdir-537929-26Vl43/CGI-Application-NetNewsIface-0.0204-0/blib/arch
    /tmp/loop_over_bdir-537929-26Vl43/CGI-Application-NetNewsIface-0.0204-0/blib/lib
    /tmp/loop_over_bdir-537929-26Vl43/Linux-InitFS-0.2-0/blib/arch
    /tmp/loop_over_bdir-537929-26Vl43/Linux-InitFS-0.2-0/blib/lib
    /tmp/loop_over_bdir-537929-26Vl43/Debian-Packages-0.03-0/blib/arch
    /tmp/loop_over_bdir-537929-26Vl43/Debian-Packages-0.03-0/blib/lib
    /tmp/loop_over_bdir-537929-26Vl43/LCFG-Build-Skeleton-0.5.0-0/blib/arch
    /tmp/loop_over_bdir-537929-26Vl43/LCFG-Build-Skeleton-0.5.0-0/blib/lib
    /tmp/loop_over_bdir-537929-26Vl43/Dpkg-1.22.6-0/blib/arch
    /tmp/loop_over_bdir-537929-26Vl43/Dpkg-1.22.6-0/blib/lib
    /tmp/loop_over_bdir-537929-26Vl43/App-rmcd-0.280-0/blib/arch
    /tmp/loop_over_bdir-537929-26Vl43/App-rmcd-0.280-0/blib/lib
    /tmp/loop_over_bdir-537929-26Vl43/shishi-0.0.1-0/blib/arch
    /tmp/loop_over_bdir-537929-26Vl43/shishi-0.0.1-0/blib/lib
    /tmp/loop_over_bdir-537929-26Vl43/Devel-Required-0.16-0/blib/arch
    /tmp/loop_over_bdir-537929-26Vl43/Devel-Required-0.16-0/blib/lib
    /tmp/loop_over_bdir-537929-26Vl43/MP3-PodcastFetch-1.05-0/blib/arch
    /tmp/loop_over_bdir-537929-26Vl43/MP3-PodcastFetch-1.05-0/blib/lib
    /tmp/loop_over_bdir-537929-26Vl43/RackMan-1.19-0/blib/arch
    /tmp/loop_over_bdir-537929-26Vl43/RackMan-1.19-0/blib/lib
    /tmp/loop_over_bdir-537929-26Vl43/DBIx-Migration-Directories-0.12-0/blib/arch
    /tmp/loop_over_bdir-537929-26Vl43/DBIx-Migration-Directories-0.12-0/blib/lib
    /tmp/loop_over_bdir-537929-26Vl43/HTML-Menu-TreeView-1.22-0/blib/arch
    /tmp/loop_over_bdir-537929-26Vl43/HTML-Menu-TreeView-1.22-0/blib/lib
    /home/sand/src/perl/repoperls/installed-perls/host/k93jammy/v5.40.0/5674/lib/site_perl/5.40.0/x86_64-linux-ld
    /home/sand/src/perl/repoperls/installed-perls/host/k93jammy/v5.40.0/5674/lib/site_perl/5.40.0
    /home/sand/src/perl/repoperls/installed-perls/host/k93jammy/v5.40.0/5674/lib/5.40.0/x86_64-linux-ld
    /home/sand/src/perl/repoperls/installed-perls/host/k93jammy/v5.40.0/5674/lib/5.40.0
    .