Dist-Zilla-Plugin-CheckChangesHasContent v0.011 Perl 5 v5.35.8 amd64-freebsd-thread-multi

Status
Pass
From
Carlos Guevara
Dist
Dist-Zilla-Plugin-CheckChangesHasContent v0.011
Platform
Perl 5 v5.35.8 amd64-freebsd-thread-multi
Date
2021-12-25 04:35:04
ID
0811073c-653c-11ec-896e-c2ceaab4f51c
This distribution has been tested as part of the CPAN Testers
project, supporting the Perl programming language.  See
http://wiki.cpantesters.org/ for more information or email
questions to cpan-testers-discuss@perl.org


--
Dear David Golden,

This is a computer-generated report for Dist-Zilla-Plugin-CheckChangesHasContent-0.011
on perl 5.35.8, created by CPAN-Reporter-1.2018.

Thank you for uploading your work to CPAN.  Congratulations!
All tests were successful.

Sections of this report:

    * Tester comments
    * Program output
    * Prerequisites
    * Environment and other context

------------------------------
TESTER COMMENTS
------------------------------

Additional comments from tester:

this report is from an automated smoke testing program
and was not reviewed by a human for accuracy

------------------------------
PROGRAM OUTPUT
------------------------------

Output from '/usr/bin/make test':

PERL_DL_NONLAZY=1 "/usr/home/cpan/bin/perl-blead/bin/perl5.35.8" "-MExtUtils::Command::MM" "-MTest::Harness" "-e" "undef *Test::Harness::Switches; test_harness(0, 'blib/lib', 'blib/arch')" t/*.t
# 
# Versions for all modules listed in MYMETA.json (including optional ones):
# 
# === Configure Requires ===
# 
#     Module              Want Have
#     ------------------- ---- ----
#     ExtUtils::MakeMaker 6.17 7.64
# 
# === Build Requires ===
# 
#     Module              Want Have
#     ------------------- ---- ----
#     ExtUtils::MakeMaker  any 7.64
# 
# === Test Requires ===
# 
#     Module              Want     Have
#     ------------------- ---- --------
#     Capture::Tiny        any     0.48
#     Cwd                  any     3.83
#     Dist::Zilla::Tester  any    6.024
#     ExtUtils::MakeMaker  any     7.64
#     File::Spec           any     3.83
#     Path::Tiny           any    0.120
#     Test::Fatal          any    0.016
#     Test::Harness        any     3.43
#     Test::More          0.88 1.302188
# 
# === Test Recommends ===
# 
#     Module         Want     Have
#     ---------- -------- --------
#     CPAN::Meta 2.120900 2.150010
# 
# === Runtime Requires ===
# 
#     Module                               Want     Have
#     -------------------------------- -------- --------
#     Data::Section                    0.200002 0.200007
#     Dist::Zilla                             6    6.024
#     Dist::Zilla::File::InMemory           any    6.024
#     Dist::Zilla::Role::BeforeRelease      any    6.024
#     Dist::Zilla::Role::FileGatherer       any    6.024
#     Dist::Zilla::Role::FileMunger         any    6.024
#     Dist::Zilla::Role::TextTemplate       any    6.024
#     List::Util                            any     1.60
#     Moose                                   2   2.2201
#     Moose::Util::TypeConstraints          any   2.2201
#     Sub::Exporter::ForMethods             any 0.100054
#     autodie                              2.00     2.34
#     namespace::autoclean                 0.28     0.29
#     strict                                any     1.12
#     warnings                              any     1.56
# 
t/00-report-prereqs.t ....... ok
t/checkhascontent.t ......... ok
t/test_changeshascontent.t .. ok
All tests successful.
Files=3, Tests=40,  6 wallclock secs ( 0.02 usr  0.06 sys +  4.54 cusr  1.71 csys =  6.34 CPU)
Result: PASS

------------------------------
PREREQUISITES
------------------------------

Prerequisite modules loaded:

requires:

    Module                           Need     Have    
    -------------------------------- -------- --------
    autodie                          2.00     2.34    
    Data::Section                    0.200002 0.200007
    Dist::Zilla                      6        6.024   
    Dist::Zilla::File::InMemory      0        6.024   
    Dist::Zilla::Role::BeforeRelease 0        6.024   
    Dist::Zilla::Role::FileGatherer  0        6.024   
    Dist::Zilla::Role::FileMunger    0        6.024   
    Dist::Zilla::Role::TextTemplate  0        6.024   
    List::Util                       0        1.60    
    Moose                            2        2.2201  
    Moose::Util::TypeConstraints     0        2.2201  
    namespace::autoclean             0.28     0.29    
    perl                             5.006    5.035008
    strict                           0        1.12    
    Sub::Exporter::ForMethods        0        0.100054
    warnings                         0        1.56    

build_requires:

    Module                           Need     Have    
    -------------------------------- -------- --------
    Capture::Tiny                    0        0.48    
    Cwd                              0        3.83    
    Dist::Zilla::Tester              0        6.024   
    ExtUtils::MakeMaker              0        7.64    
    File::Spec                       0        3.83    
    Path::Tiny                       0        0.120   
    Test::Fatal                      0        0.016   
    Test::Harness                    0        3.43    
    Test::More                       0.88     1.302188

configure_requires:

    Module                           Need     Have    
    -------------------------------- -------- --------
    ExtUtils::MakeMaker              6.17     7.64    
    perl                             5.006    5.035008


------------------------------
ENVIRONMENT AND OTHER CONTEXT
------------------------------

Environment variables:

    AUTOMATED_TESTING = 1
    DATE_MANIP_TEST_DM5 = 1
    LANG = C.UTF-8
    LC_ALL = C
    NONINTERACTIVE_TESTING = 1
    PATH = /home/cpan/bin/perl-blead/bin:/home/cpan/bin:/sbin:/bin:/usr/sbin:/usr/bin:/usr/local/sbin:/usr/local/bin:/home/cpan/bin
    PERL5LIB = 
    PERL5OPT = 
    PERL5_CPANPLUS_IS_RUNNING = 24903
    PERL5_CPAN_IS_RUNNING = 24903
    PERL_MM_USE_DEFAULT = 1
    PERL_USE_UNSAFE_INC = 1
    PERL_VERSION = blead
    SHELL = /usr/local/bin/bash
    TERM = screen
    TMPDIR = /home/cpan/tmp

Perl special variables (and OS-specific diagnostics, for MSWin32):

    $^X = /usr/home/cpan/bin/perl-blead/bin/perl5.35.8
    $UID/$EUID = 1002 / 1002
    $GID = 1002 1002
    $EGID = 1002 1002

Perl module toolchain versions installed:

    Module              Have    
    ------------------- --------
    CPAN                2.29    
    CPAN::Meta          2.150010
    Cwd                 3.83    
    ExtUtils::CBuilder  0.280236
    ExtUtils::Command   7.64    
    ExtUtils::Install   2.20    
    ExtUtils::MakeMaker 7.64    
    ExtUtils::Manifest  1.73    
    ExtUtils::ParseXS   3.44    
    File::Spec          3.83    
    JSON                4.04    
    JSON::PP            4.07    
    Module::Build       0.4231  
    Module::Signature   n/a     
    Parse::CPAN::Meta   2.150010
    Test::Harness       3.43    
    Test::More          1.302188
    YAML                1.30    
    YAML::Syck          1.34    
    version             0.9929  


--

Summary of my perl5 (revision 5 version 35 subversion 8) configuration:
  Commit id: 3a99f1de4609feb952ca294cc4b3479d615c8d94
  Platform:
    osname=freebsd
    osvers=14.0-current
    archname=amd64-freebsd-thread-multi
    uname='freebsd cjg-freebsd14 14.0-current freebsd 14.0-current #0 main-n250051-04c91ac48ad: thu oct 14 08:03:39 utc 2021 root@localhost.localdomain:usrobjusrsrcamd64.amd64sysgeneric amd64 '
    config_args='-des -Dprefix=~/bin/perl-blead -Dscriptdir=~/bin/perl-blead/bin -Dusedevel -Duse64bitall -Duseithreads'
    hint=recommended
    useposix=true
    d_sigaction=define
    useithreads=define
    usemultiplicity=define
    use64bitint=define
    use64bitall=define
    uselongdouble=undef
    usemymalloc=n
    default_inc_excludes_dot=define
  Compiler:
    cc='cc'
    ccflags ='-DHAS_FPSETMASK -DHAS_FLOATINGPOINT_H -fno-strict-aliasing -pipe -fstack-protector-strong -I/usr/local/include'
    optimize='-O2'
    cppflags='-DHAS_FPSETMASK -DHAS_FLOATINGPOINT_H -fno-strict-aliasing -pipe -fstack-protector-strong -I/usr/local/include'
    ccversion=''
    gccversion='FreeBSD Clang 12.0.1 (git@github.com:llvm/llvm-project.git llvmorg-12.0.1-0-gfed41342a82f)'
    gccosandvers=''
    intsize=4
    longsize=8
    ptrsize=8
    doublesize=8
    byteorder=12345678
    doublekind=3
    d_longlong=define
    longlongsize=8
    d_longdbl=define
    longdblsize=16
    longdblkind=3
    ivtype='long'
    ivsize=8
    nvtype='double'
    nvsize=8
    Off_t='off_t'
    lseeksize=8
    alignbytes=8
    prototype=define
  Linker and Libraries:
    ld='cc'
    ldflags ='-pthread -Wl,-E  -fstack-protector-strong -L/usr/local/lib'
    libpth=/usr/lib /usr/local/lib /usr/lib/clang/12.0.1/lib
    libs=-lpthread -ldl -lm -lcrypt -lutil
    perllibs=-lpthread -ldl -lm -lcrypt -lutil
    libc=
    so=so
    useshrplib=false
    libperl=libperl.a
    gnulibc_version=''
  Dynamic Linking:
    dlsrc=dl_dlopen.xs
    dlext=so
    d_dlsymun=undef
    ccdlflags=' '
    cccdlflags='-DPIC -fPIC'
    lddlflags='-shared  -L/usr/local/lib -fstack-protector-strong'


Characteristics of this binary (from libperl): 
  Compile-time options:
    HAS_TIMES
    MULTIPLICITY
    PERLIO_LAYERS
    PERL_COPY_ON_WRITE
    PERL_DONT_CREATE_GVSV
    PERL_MALLOC_WRAP
    PERL_OP_PARENT
    PERL_PRESERVE_IVUV
    PERL_USE_DEVEL
    USE_64_BIT_ALL
    USE_64_BIT_INT
    USE_ITHREADS
    USE_LARGE_FILES
    USE_LOCALE
    USE_LOCALE_COLLATE
    USE_LOCALE_CTYPE
    USE_LOCALE_NUMERIC
    USE_LOCALE_TIME
    USE_PERLIO
    USE_PERL_ATOF
    USE_REENTRANT_API
    USE_THREAD_SAFE_LOCALE
  Built under freebsd
  Compiled at Dec 24 2021 13:36:28
  %ENV:
    PERL5LIB=""
    PERL5OPT=""
    PERL5_CPANPLUS_IS_RUNNING="24903"
    PERL5_CPAN_IS_RUNNING="24903"
    PERL_MM_USE_DEFAULT="1"
    PERL_USE_UNSAFE_INC="1"
    PERL_VERSION="blead"
  @INC:
    /home/cpan/bin/perl-blead/lib/site_perl/5.35.8/amd64-freebsd-thread-multi
    /home/cpan/bin/perl-blead/lib/site_perl/5.35.8
    /home/cpan/bin/perl-blead/lib/5.35.8/amd64-freebsd-thread-multi
    /home/cpan/bin/perl-blead/lib/5.35.8
    .