IO-Stringy v2.113 Perl 5 v5.31.8 i86pc-solaris-64int

Status
Pass
From
Nigel Horne
Dist
IO-Stringy v2.113
Platform
Perl 5 v5.31.8 i86pc-solaris-64int
Date
2020-01-21 19:34:25
ID
084fafb4-3c85-11ea-8cbb-97dfc181c852
This distribution has been tested as part of the CPAN Testers
project, supporting the Perl programming language.  See
http://wiki.cpantesters.org/ for more information or email
questions to cpan-testers-discuss@perl.org


--
Dear Chase Whitener,

This is a computer-generated report for IO-Stringy-2.113
on perl 5.31.8, created by CPAN-Reporter-1.2018.

Thank you for uploading your work to CPAN.  Congratulations!
All tests were successful.

Sections of this report:

    * Tester comments
    * Program output
    * Prerequisites
    * Environment and other context

------------------------------
TESTER COMMENTS
------------------------------

Additional comments from tester:

none provided

------------------------------
PROGRAM OUTPUT
------------------------------

Output from '/usr/bin/make test':

PERL_DL_NONLAZY=1 "/export/home/njh/perl5/perlbrew/perls/perl-5.31.8-64int/bin/perl5.31.8" "-MExtUtils::Command::MM" "-MTest::Harness" "-e" "undef *Test::Harness::Switches; test_harness(0, 'blib/lib', 'blib/arch')" t/*.t
# 
# Versions for all modules listed in MYMETA.json (including optional ones):
# 
# === Configure Requires ===
# 
#     Module              Want Have
#     ------------------- ---- ----
#     ExtUtils::MakeMaker  any 7.44
# 
# === Build Requires ===
# 
#     Module              Want Have
#     ------------------- ---- ----
#     ExtUtils::MakeMaker  any 7.44
# 
# === Test Requires ===
# 
#     Module              Want     Have
#     ------------------- ---- --------
#     ExtUtils::MakeMaker  any     7.44
#     File::Basename       any     2.85
#     File::Spec           any     3.78
#     File::Temp           any   0.2309
#     FileHandle           any     2.03
#     IO::File             any     1.41
#     IO::Handle           any     1.42
#     Symbol               any     1.08
#     Test::More          0.88 1.302171
#     Test::Tester         any 1.302171
#     strict               any     1.11
#     warnings             any     1.46
# 
# === Test Recommends ===
# 
#     Module         Want     Have
#     ---------- -------- --------
#     CPAN::Meta 2.120900 2.150010
# 
# === Runtime Requires ===
# 
#     Module     Want  Have
#     ---------- ---- -----
#     Carp        any  1.50
#     Exporter   5.57  5.74
#     File::Spec  any  3.78
#     FileHandle  any  2.03
#     IO::File    any  1.41
#     IO::Handle  any  1.42
#     Symbol      any  1.08
#     overload    any  1.31
#     parent      any 0.237
#     strict      any  1.11
#     warnings    any  1.46
# 
t/00-report-prereqs.t .. ok
t/IO_InnerFile.t ....... ok
t/IO_Lines.t ........... ok
t/IO_Scalar.t .......... ok
t/IO_ScalarArray.t ..... ok
t/IO_WrapTie.t ......... ok
t/simple.t ............. ok
t/two.t ................ ok
All tests successful.
Files=8, Tests=127,  1 wallclock secs ( 0.05 usr  0.02 sys +  0.83 cusr  0.10 csys =  1.00 CPU)
Result: PASS

------------------------------
PREREQUISITES
------------------------------

Prerequisite modules loaded:

requires:

    Module              Need Have    
    ------------------- ---- --------
    Carp                0    1.50    
    Exporter            5.57 5.74    
    File::Spec          0    3.78    
    FileHandle          0    2.03    
    IO::File            0    1.41    
    IO::Handle          0    1.42    
    overload            0    1.31    
    parent              0    0.237   
    strict              0    1.11    
    Symbol              0    1.08    
    warnings            0    1.46    

build_requires:

    Module              Need Have    
    ------------------- ---- --------
    ExtUtils::MakeMaker 0    7.44    
    File::Basename      0    2.85    
    File::Spec          0    3.78    
    File::Temp          0    0.2309  
    FileHandle          0    2.03    
    IO::File            0    1.41    
    IO::Handle          0    1.42    
    strict              0    1.11    
    Symbol              0    1.08    
    Test::More          0.88 1.302171
    Test::Tester        0    1.302171
    warnings            0    1.46    

configure_requires:

    Module              Need Have    
    ------------------- ---- --------
    ExtUtils::MakeMaker 0    7.44    


------------------------------
ENVIRONMENT AND OTHER CONTEXT
------------------------------

Environment variables:

    LANG = C
    NONINTERACTIVE_TESTING = 1
    PATH = /export/home/njh/perl5/perlbrew/bin:/export/home/njh/perl5/perlbrew/perls/perl-5.31.8-64int/bin:/usr/bin:/usr/sbin:/sbin:/usr/gnu/bin
    PERL5LIB = 
    PERL5OPT = 
    PERL5_CPANPLUS_IS_RUNNING = 5546
    PERL5_CPAN_IS_RUNNING = 5546
    PERLBREW_HOME = /export/home/njh/.perlbrew
    PERLBREW_MANPATH = /export/home/njh/perl5/perlbrew/perls/perl-5.31.8-64int/man
    PERLBREW_PATH = /export/home/njh/perl5/perlbrew/bin:/export/home/njh/perl5/perlbrew/perls/perl-5.31.8-64int/bin
    PERLBREW_PERL = perl-5.31.8-64int
    PERLBREW_ROOT = /export/home/njh/perl5/perlbrew
    PERLBREW_SHELLRC_VERSION = 0.87
    PERLBREW_VERSION = 0.87
    PERL_MM_USE_DEFAULT = 1
    PERL_USE_UNSAFE_INC = 1
    SHELL = /bin/bash
    TERM = xterm
    TMPDIR = /var/tmp

Perl special variables (and OS-specific diagnostics, for MSWin32):

    $^X = /export/home/njh/perl5/perlbrew/perls/perl-5.31.8-64int/bin/perl5.31.8
    $UID/$EUID = 101 / 101
    $GID = 10 10
    $EGID = 10 10

Perl module toolchain versions installed:

    Module              Have    
    ------------------- --------
    CPAN                2.27    
    CPAN::Meta          2.150010
    Cwd                 3.78    
    ExtUtils::CBuilder  0.280233
    ExtUtils::Command   7.44    
    ExtUtils::Install   2.14    
    ExtUtils::MakeMaker 7.44    
    ExtUtils::Manifest  1.72    
    ExtUtils::ParseXS   3.40    
    File::Spec          3.78    
    JSON                n/a     
    JSON::PP            4.04    
    Module::Build       0.4229  
    Module::Signature   n/a     
    Parse::CPAN::Meta   2.150010
    Test::Harness       3.42    
    Test::More          1.302171
    YAML                1.29    
    YAML::Syck          1.31    
    version             0.9924  


--

Summary of my perl5 (revision 5 version 31 subversion 8) configuration:
   
  Platform:
    osname=solaris
    osvers=2.11
    archname=i86pc-solaris-64int
    uname='sunos vultr1.bandsman.co.uk 5.11 illumos-7d1eae8c55 i86pc i386 i86pc '
    config_args='-de -Dprefix=/export/home/njh/perl5/perlbrew/perls/perl-5.31.8-64int -Dusedevel -Duse64bitint -Dusedevel -Accflags=-O2 -xstrconst -D__EXTENSIONS__ -Aeval:scriptdir=/export/home/njh/perl5/perlbrew/perls/perl-5.31.8-64int/bin'
    hint=recommended
    useposix=true
    d_sigaction=define
    useithreads=undef
    usemultiplicity=undef
    use64bitint=define
    use64bitall=undef
    uselongdouble=undef
    usemymalloc=n
    default_inc_excludes_dot=define
    bincompat5005=undef
  Compiler:
    cc='/opt/SUNWspro/bin/cc'
    ccflags ='-DPTR_IS_LONG -O2 -xstrconst -D__EXTENSIONS__ -I/usr/gnu/include -D_LARGEFILE_SOURCE -D_FILE_OFFSET_BITS=64 -DPERL_USE_SAFE_PUTENV'
    optimize='-O'
    cppflags='-DPTR_IS_LONG -O2 -xstrconst -D__EXTENSIONS__ -I/usr/gnu/include'
    ccversion='Sun C 5.10 SunOS_i386 2009/06/03'
    gccversion=''
    gccosandvers=''
    intsize=4
    longsize=4
    ptrsize=4
    doublesize=8
    byteorder=12345678
    doublekind=3
    d_longlong=define
    longlongsize=8
    d_longdbl=define
    longdblsize=12
    longdblkind=3
    ivtype='long long'
    ivsize=8
    nvtype='double'
    nvsize=8
    Off_t='off_t'
    lseeksize=8
    alignbytes=4
    prototype=define
  Linker and Libraries:
    ld='/opt/SUNWspro/bin/cc'
    ldflags =' -L/usr/lib -L/usr/ccs/lib -L/opt/sunstudio12.1/prod/lib -L/lib -L/usr/gnu/lib '
    libpth=/usr/lib /usr/ccs/lib /opt/sunstudio12.1/prod/lib /lib /usr/gnu/lib
    libs=-lpthread -lsocket -lnsl -lgdbm -ldb -ldl -lm -lc
    perllibs=-lpthread -lsocket -lnsl -ldl -lm -lc
    libc=/lib/libc.so
    so=so
    useshrplib=true
    libperl=libperl.so
    gnulibc_version=''
  Dynamic Linking:
    dlsrc=dl_dlopen.xs
    dlext=so
    d_dlsymun=undef
    ccdlflags='  -R /export/home/njh/perl5/perlbrew/perls/perl-5.31.8-64int/lib/5.31.8/i86pc-solaris-64int/CORE'
    cccdlflags='-KPIC'
    lddlflags='-G -L/usr/lib -L/usr/ccs/lib -L/opt/sunstudio12.1/prod/lib -L/lib -L/usr/gnu/lib'


Characteristics of this binary (from libperl): 
  Compile-time options:
    HAS_TIMES
    PERLIO_LAYERS
    PERL_COPY_ON_WRITE
    PERL_DONT_CREATE_GVSV
    PERL_MALLOC_WRAP
    PERL_OP_PARENT
    PERL_PRESERVE_IVUV
    PERL_USE_DEVEL
    PERL_USE_SAFE_PUTENV
    USE_64_BIT_INT
    USE_LARGE_FILES
    USE_LOCALE
    USE_LOCALE_COLLATE
    USE_LOCALE_CTYPE
    USE_LOCALE_NUMERIC
    USE_LOCALE_TIME
    USE_PERLIO
    USE_PERL_ATOF
  Locally applied patches:
    Devel::PatchPerl 1.52
  Built under solaris
  Compiled at Jan 20 2020 18:12:43
  %ENV:
    PERL5LIB=""
    PERL5OPT=""
    PERL5_CPANPLUS_IS_RUNNING="5546"
    PERL5_CPAN_IS_RUNNING="5546"
    PERLBREW_HOME="/export/home/njh/.perlbrew"
    PERLBREW_MANPATH="/export/home/njh/perl5/perlbrew/perls/perl-5.31.8-64int/man"
    PERLBREW_PATH="/export/home/njh/perl5/perlbrew/bin:/export/home/njh/perl5/perlbrew/perls/perl-5.31.8-64int/bin"
    PERLBREW_PERL="perl-5.31.8-64int"
    PERLBREW_ROOT="/export/home/njh/perl5/perlbrew"
    PERLBREW_SHELLRC_VERSION="0.87"
    PERLBREW_VERSION="0.87"
    PERL_MM_USE_DEFAULT="1"
    PERL_USE_UNSAFE_INC="1"
  @INC:
    /export/home/njh/perl5/perlbrew/perls/perl-5.31.8-64int/lib/site_perl/5.31.8/i86pc-solaris-64int
    /export/home/njh/perl5/perlbrew/perls/perl-5.31.8-64int/lib/site_perl/5.31.8
    /export/home/njh/perl5/perlbrew/perls/perl-5.31.8-64int/lib/5.31.8/i86pc-solaris-64int
    /export/home/njh/perl5/perlbrew/perls/perl-5.31.8-64int/lib/5.31.8
    .