Module-Pluggable v6.3 Perl 5 v5.40.0 darwin-2level
- Status
- Pass
- From
- AJNN
- Dist
-
Module-Pluggable v6.3
- Platform
- Perl 5 v5.40.0 darwin-2level
- Date
- 2025-10-08 14:21:08
- ID
- 0866c8ee-a452-11f0-8f29-d19089f8015c
This distribution has been tested as part of the CPAN Testers
project, supporting the Perl programming language. See
http://wiki.cpantesters.org/ for more information or email
questions to cpan-testers-discuss@perl.org
--
Dear SIMONW,
This is a computer-generated report for Module-Pluggable-6.3
on perl 5.40.0, created by App::cpanminus::reporter 0.22 (1.7048).
Thank you for uploading your work to CPAN. Congratulations!
All tests were successful.
Sections of this report:
* Tester comments
* Program output
* Prerequisites
* Environment and other context
------------------------------
TESTER COMMENTS
------------------------------
Additional comments from tester:
none provided
------------------------------
PROGRAM OUTPUT
------------------------------
Output from '':
Building and testing Module-Pluggable-6.3
cp lib/Module/Pluggable.pm blib/lib/Module/Pluggable.pm
cp lib/Module/Pluggable/Object.pm blib/lib/Module/Pluggable/Object.pm
cp lib/Devel/InnerPackage.pm blib/lib/Devel/InnerPackage.pm
PERL_DL_NONLAZY=1 "/Users/aj/.perlbrew/perls/perl-5.42.0/bin/perl" "-MExtUtils::Command::MM" "-MTest::Harness" "-e" "undef *Test::Harness::Switches; test_harness(0, 'blib/lib', 'blib/arch')" t/*.t
t/01use.t .................... ok
t/02alsoworks.t .............. ok
t/02works.t .................. ok
t/02works_taint.t ............ ok
t/03diffname.t ............... ok
t/04acmedir.t ................ ok
t/04acmedir_single.t ......... ok
t/04acmepath.t ............... ok
t/04acmepath_single.t ........ ok
t/05postpath.t ............... ok
t/06multipath.t .............. ok
t/07instantiate.t ............ ok
t/08nothing.t ................ ok
t/09require.t ................ ok
t/10innerpack.t .............. ok
t/10innerpack_inner.t ........ ok
t/10innerpack_noinner.t ...... ok
t/10innerpack_onefile.t ...... ok
t/10innerpack_override.t ..... ok
t/10innerpack_super.t ........ ok
t/11usetwice.t ............... ok
t/12only.t ................... ok
t/12onlyarray.t .............. ok
t/12onlyregex.t .............. ok
t/12onlyrequire.t ............ ok
t/13except.t ................. ok
t/13exceptarray.t ............ ok
t/13exceptregex.t ............ ok
t/14package.t ................ ok
t/15topicsafe.t .............. ok
t/16different_extension.t .... ok
t/17devel_inner_package.t .... ok
t/18skipped_package.t ........ ok
t/19can_ok_clobber.t ......... ok
t/20dodgy_files.t ............ ok
t/21editor_junk.t ............ ok
t/22trigger.t ................ ok
t/23depth.t .................. ok
t/24local_inc_object.t ....... ok
t/24local_inc_package.t ...... ok
t/25single_letter_package.t .. ok
t/26inc_hook.t ............... ok
t/27app_fatpacker.t .......... skipped: App::FatPacker >= 0.10.0 not available
t/28appledouble.t ............ ok
t/29unreadable.t ............. ok
All tests successful.
Files=45, Tests=192, 2 wallclock secs ( 0.06 usr 0.05 sys + 1.74 cusr 0.31 csys = 2.16 CPU)
Result: PASS
------------------------------
PREREQUISITES
------------------------------
Prerequisite modules loaded:
runtime:
Module Need Have
--------------------- ----- --------
Exporter 5.57 5.78
File::Basename 0 2.86
File::Find 0 1.44
File::Spec 3.00 3.90
File::Spec::Functions 0 3.91
if 0 0.0610
perl 5.006 5.040000
Scalar::Util 0 1.63
strict 0 1.13
build:
Module Need Have
--------------------- ----- --------
ExtUtils::MakeMaker 0 7.70
configure:
Module Need Have
--------------------- ----- --------
ExtUtils::MakeMaker 0 7.70
------------------------------
ENVIRONMENT AND OTHER CONTEXT
------------------------------
Environment variables:
LC_CTYPE = en_US.UTF-8
PATH = /usr/local/bin:/usr/local/sbin:/Users/aj/.perlbrew/bin:/Users/aj/.perlbrew/perls/perl-5.40.0/bin:/System/Cryptexes/App/usr/bin:/usr/bin:/bin:/usr/sbin:/sbin:/var/run/com.apple.security.cryptexd/codex.system/bootstrap/usr/local/bin:/var/run/com.apple.security.cryptexd/codex.system/bootstrap/usr/bin:/var/run/com.apple.security.cryptexd/codex.system/bootstrap/usr/appleinternal/bin:/Library/Apple/usr/bin:/usr/local/MacGPG2/bin:/Library/Frameworks/Mono.framework/Versions/Current/Commands
PERLBREW_HOME = /Users/aj/.perlbrew
PERLBREW_MANPATH = /Users/aj/.perlbrew/perls/perl-5.40.0/man
PERLBREW_PATH = /Users/aj/.perlbrew/bin:/Users/aj/.perlbrew/perls/perl-5.40.0/bin
PERLBREW_PERL = perl-5.40.0
PERLBREW_ROOT = /Users/aj/.perlbrew
PERLBREW_SHELLRC_VERSION = 1.00
PERLBREW_VERSION = 1.00
PERL_CPANM_OPT = --from https://www.cpan.org/
SHELL = /bin/bash
TERM = xterm-256color
TMPDIR = /var/folders/br/tpjmg6md1w7_9qlxgq4w07h40000gn/T/
Perl special variables (and OS-specific diagnostics, for MSWin32):
EGID = 20 20 12 61 79 80 81 98 702 33 100 204 250 395 398 399 703
EUID = 501
EXECUTABLE_NAME = /Users/aj/.perlbrew/perls/perl-5.40.0/bin/perl
GID = 20 20 12 61 79 80 81 98 702 33 100 204 250 395 398 399 703
UID = 501
Perl module toolchain versions installed:
Module Have
------------------- --------
CPAN 2.36
CPAN::Meta 2.150010
Cwd 3.90
ExtUtils::CBuilder 0.280240
ExtUtils::Command 7.70
ExtUtils::Install 2.22
ExtUtils::MakeMaker 7.70
ExtUtils::Manifest 1.75
ExtUtils::ParseXS 3.51
File::Spec 3.90
JSON 4.10
JSON::PP 4.16
Module::Build 0.4234
Module::Signature n/a
Parse::CPAN::Meta 2.150010
Test::Harness 3.48
Test::More 1.302199
YAML 1.31
YAML::Syck n/a
version 0.9930
--
Summary of my perl5 (revision 5 version 40 subversion 0) configuration:
Platform:
osname=darwin
osvers=24.0.0
archname=darwin-2level
uname='darwin solway.local 24.0.0 darwin kernel version 24.0.0: mon aug 12 20:54:30 pdt 2024; root:xnu-11215.1.10~2release_x86_64 x86_64 '
config_args='-de -Dprefix=/Users/aj/.perlbrew/perls/perl-5.40.0 -Aeval:scriptdir=/Users/aj/.perlbrew/perls/perl-5.40.0/bin'
hint=recommended
useposix=true
d_sigaction=define
useithreads=undef
usemultiplicity=undef
use64bitint=define
use64bitall=define
uselongdouble=undef
usemymalloc=n
default_inc_excludes_dot=define
Compiler:
cc='cc'
ccflags ='-fno-common -DPERL_DARWIN -mmacosx-version-min=15.0 -DNO_THREAD_SAFE_QUERYLOCALE -DNO_POSIX_2008_LOCALE -fno-strict-aliasing -pipe -fstack-protector-strong -I/usr/local/include'
optimize='-O3'
cppflags='-fno-common -DPERL_DARWIN -mmacosx-version-min=15.0 -DNO_THREAD_SAFE_QUERYLOCALE -DNO_POSIX_2008_LOCALE -fno-strict-aliasing -pipe -fstack-protector-strong -I/usr/local/include'
ccversion=''
gccversion='Apple LLVM 16.0.0 (clang-1600.0.26.3)'
gccosandvers=''
intsize=4
longsize=8
ptrsize=8
doublesize=8
byteorder=12345678
doublekind=3
d_longlong=define
longlongsize=8
d_longdbl=define
longdblsize=16
longdblkind=3
ivtype='long'
ivsize=8
nvtype='double'
nvsize=8
Off_t='off_t'
lseeksize=8
alignbytes=8
prototype=define
Linker and Libraries:
ld='cc'
ldflags =' -mmacosx-version-min=15.0 -fstack-protector-strong -L/usr/local/lib'
libpth=/usr/local/lib /Library/Developer/CommandLineTools/usr/lib/clang/16/lib /Library/Developer/CommandLineTools/SDKs/MacOSX15.0.sdk/usr/lib /Library/Developer/CommandLineTools/usr/lib /usr/lib
libs=
perllibs=
libc=
so=dylib
useshrplib=false
libperl=libperl.a
gnulibc_version=''
Dynamic Linking:
dlsrc=dl_dlopen.xs
dlext=bundle
d_dlsymun=undef
ccdlflags=' '
cccdlflags=' '
lddlflags=' -mmacosx-version-min=15.0 -bundle -undefined dynamic_lookup -L/usr/local/lib -fstack-protector-strong'
Characteristics of this binary (from libperl):
Compile-time options:
HAS_LONG_DOUBLE
HAS_STRTOLD
HAS_TIMES
PERLIO_LAYERS
PERL_COPY_ON_WRITE
PERL_DONT_CREATE_GVSV
PERL_HASH_FUNC_SIPHASH13
PERL_HASH_USE_SBOX32
PERL_MALLOC_WRAP
PERL_OP_PARENT
PERL_PRESERVE_IVUV
PERL_USE_SAFE_PUTENV
USE_64_BIT_ALL
USE_64_BIT_INT
USE_LARGE_FILES
USE_LOCALE
USE_LOCALE_COLLATE
USE_LOCALE_CTYPE
USE_LOCALE_NUMERIC
USE_LOCALE_TIME
USE_PERLIO
USE_PERL_ATOF
Built under darwin
Compiled at Oct 22 2024 18:02:15
%ENV:
PERLBREW_HOME="/Users/aj/.perlbrew"
PERLBREW_MANPATH="/Users/aj/.perlbrew/perls/perl-5.40.0/man"
PERLBREW_PATH="/Users/aj/.perlbrew/bin:/Users/aj/.perlbrew/perls/perl-5.40.0/bin"
PERLBREW_PERL="perl-5.40.0"
PERLBREW_ROOT="/Users/aj/.perlbrew"
PERLBREW_SHELLRC_VERSION="1.00"
PERLBREW_VERSION="1.00"
PERL_CPANM_OPT="--from https://www.cpan.org/"
@INC:
/Users/aj/.perlbrew/perls/perl-5.40.0/lib/site_perl/5.40.0/darwin-2level
/Users/aj/.perlbrew/perls/perl-5.40.0/lib/site_perl/5.40.0
/Users/aj/.perlbrew/perls/perl-5.40.0/lib/5.40.0/darwin-2level
/Users/aj/.perlbrew/perls/perl-5.40.0/lib/5.40.0