Test-Pod-LinkCheck v0.008 Perl 5 v5.26.1 x86_64-linux

Status
Pass
From
Dist
Test-Pod-LinkCheck v0.008
Platform
Perl 5 v5.26.1 x86_64-linux
Date
2022-07-27 12:38:36
ID
0877ff9e-0da9-11ed-87d8-c20e79744a54
This distribution has been tested as part of the CPAN Testers
project, supporting the Perl programming language.  See
http://wiki.cpantesters.org/ for more information or email
questions to cpan-testers-discuss@perl.org


--
Dear APOCAL,

This is a computer-generated report for Test-Pod-LinkCheck-0.008
on perl 5.26.1, created by App::cpanminus::reporter 0.17 (1.7043).

Thank you for uploading your work to CPAN.  Congratulations!
All tests were successful.

Sections of this report:

    * Tester comments
    * Program output
    * Prerequisites
    * Environment and other context

------------------------------
TESTER COMMENTS
------------------------------

Additional comments from tester:

none provided

------------------------------
PROGRAM OUTPUT
------------------------------

Output from '':

Building and testing Test-Pod-LinkCheck-0.008
cp lib/Test/Pod/LinkCheck.pm blib/lib/Test/Pod/LinkCheck.pm
t/00-compile.t ................ ok
# 
You should load Test::Tester before Test::Builder (or anything that loads Test::Builder) at /home/julien/perl5/perlbrew/perls/perl-5.26.1/lib/site_perl/5.26.1/Test/Tester.pm line 9.
# 
# Generated by Dist::Zilla::Plugin::ReportVersions::Tiny v1.10
# perl: 5.026001 (wanted 5.006) on linux from /home/julien/perl5/perlbrew/perls/perl-5.26.1/bin/perl
# 
# App::PodLinkCheck::ParseLinks                 => 15         (want 4)      
# App::PodLinkCheck::ParseSections              => 15         (want any version)
# Capture::Tiny                                 => 0.48       (want any version)
# Exporter                                      => 5.74       (want any version)
# ExtUtils::MakeMaker                           => 7.64       (want any version)
# File::Spec                                    => 3.75       (want any version)
# File::Temp                                    => 0.2311     (want any version)
# IO::Handle                                    => 1.42       (want any version)
# IPC::Open3                                    => 1.20       (want any version)
# Module::Build::Tiny                           => 0.039      (want 0.039)  
# Moose                                         => 2.2201     (want 1.01)   
# Moose::Util::TypeConstraints                  => 2.2201     (want 1.01)   
# Pod::Find                                     => 1.63       (want any version)
# Test::Builder                                 => 1.302191   (want 0.94)   
# Test::More                                    => 1.302191   (want 0.88)   
# Test::Pod                                     => 1.52       (want 1.44)   
# Test::Tester                                  => 1.302191   (want any version)
# parent                                        => 0.236      (want any version)
# strict                                        => 1.11       (want any version)
# warnings                                      => 1.37       (want any version)
# 
# Thanks for using my code.  I hope it works for you.
# If not, please try and include this output in the bug report.
# That will help me reproduce the issue and solve your problem.
# 
t/000-report-versions-tiny.t .. ok
t/apocalypse.t ................ skipped: Test::Apocalypse required for validating the distribution
t/cpan_backend.t .............. ok
t/functions.t ................. ok
t/simple.t .................... ok
All tests successful.

Test Summary Report
-------------------
t/cpan_backend.t            (Wstat: 0 Tests: 24 Failed: 0)
  TODO passed:   5-8, 13-24
Files=6, Tests=130,  7 wallclock secs ( 0.05 usr  0.01 sys +  5.92 cusr  0.62 csys =  6.60 CPU)
Result: PASS

------------------------------
PREREQUISITES
------------------------------

Prerequisite modules loaded:

    No requirements found

------------------------------
ENVIRONMENT AND OTHER CONTEXT
------------------------------

Environment variables:

    LANG = en_GB.UTF-8
    LANGUAGE = en_GB
    LC_CTYPE = en_GB.UTF-8
    PATH = /home/julien/.nvm/versions/node/v12.16.1/bin:/home/julien/bin:/usr/local/bin:/home/julien/.nvm/versions/node/v12.16.1/bin:/home/julien/bin:/usr/local/bin:/home/julien/perl5/perlbrew/bin:/home/julien/perl5/perlbrew/perls/perl-5.26.1/bin:/usr/local/sbin:/usr/local/bin:/usr/sbin:/usr/bin:/sbin:/bin:/usr/games:/usr/local/games:/snap/bin:/home/julien/.fzf/bin
    PERLBREW_HOME = /home/julien/.perlbrew
    PERLBREW_MANPATH = /home/julien/perl5/perlbrew/perls/perl-5.26.1/man
    PERLBREW_PATH = /home/julien/perl5/perlbrew/bin:/home/julien/perl5/perlbrew/perls/perl-5.26.1/bin
    PERLBREW_PERL = perl-5.26.1
    PERLBREW_ROOT = /home/julien/perl5/perlbrew
    PERLBREW_SHELLRC_VERSION = 0.86
    PERLBREW_VERSION = 0.86
    SHELL = /bin/zsh
    TERM = xterm-256color

Perl special variables (and OS-specific diagnostics, for MSWin32):

    EGID = 1000 4 24 27 30 46 113 127 1000
    EUID = 1000
    EXECUTABLE_NAME = /home/julien/perl5/perlbrew/perls/perl-5.26.1/bin/perl
    GID = 1000 4 24 27 30 46 113 127 1000
    UID = 1000

Perl module toolchain versions installed:

    Module              Have    
    ------------------- --------
    CPAN                2.18    
    CPAN::Meta          2.150010
    Cwd                 3.75    
    ExtUtils::CBuilder  0.280225
    ExtUtils::Command   7.64    
    ExtUtils::Install   2.06    
    ExtUtils::MakeMaker 7.64    
    ExtUtils::Manifest  1.70    
    ExtUtils::ParseXS   3.34    
    File::Spec          3.75    
    JSON                4.02    
    JSON::PP            4.10    
    Module::Build       0.4224  
    Module::Signature   n/a     
    Parse::CPAN::Meta   2.150010
    Test::Harness       3.38    
    Test::More          1.302191
    YAML                1.29    
    YAML::Syck          1.30    
    version             0.9917  


--

Summary of my perl5 (revision 5 version 26 subversion 1) configuration:
   
  Platform:
    osname=linux
    osvers=4.13.0-36-generic
    archname=x86_64-linux
    uname='linux julienfiegehenn 4.13.0-36-generic #40~16.04.1-ubuntu smp fri feb 16 23:25:58 utc 2018 x86_64 x86_64 x86_64 gnulinux '
    config_args='-de -Dprefix=/home/julien/perl5/perlbrew/perls/perl-5.26.1 -Aeval:scriptdir=/home/julien/perl5/perlbrew/perls/perl-5.26.1/bin'
    hint=recommended
    useposix=true
    d_sigaction=define
    useithreads=undef
    usemultiplicity=undef
    use64bitint=define
    use64bitall=define
    uselongdouble=undef
    usemymalloc=n
    default_inc_excludes_dot=define
    bincompat5005=undef
  Compiler:
    cc='cc'
    ccflags ='-fwrapv -fno-strict-aliasing -pipe -fstack-protector-strong -I/usr/local/include -D_LARGEFILE_SOURCE -D_FILE_OFFSET_BITS=64'
    optimize='-O2'
    cppflags='-fwrapv -fno-strict-aliasing -pipe -fstack-protector-strong -I/usr/local/include'
    ccversion=''
    gccversion='5.4.0 20160609'
    gccosandvers=''
    intsize=4
    longsize=8
    ptrsize=8
    doublesize=8
    byteorder=12345678
    doublekind=3
    d_longlong=define
    longlongsize=8
    d_longdbl=define
    longdblsize=16
    longdblkind=3
    ivtype='long'
    ivsize=8
    nvtype='double'
    nvsize=8
    Off_t='off_t'
    lseeksize=8
    alignbytes=8
    prototype=define
  Linker and Libraries:
    ld='cc'
    ldflags =' -fstack-protector-strong -L/usr/local/lib'
    libpth=/usr/local/lib /usr/lib/gcc/x86_64-linux-gnu/5/include-fixed /usr/include/x86_64-linux-gnu /usr/lib /lib/x86_64-linux-gnu /lib/../lib /usr/lib/x86_64-linux-gnu /usr/lib/../lib /lib
    libs=-lpthread -lnsl -ldl -lm -lcrypt -lutil -lc
    perllibs=-lpthread -lnsl -ldl -lm -lcrypt -lutil -lc
    libc=libc-2.23.so
    so=so
    useshrplib=false
    libperl=libperl.a
    gnulibc_version='2.23'
  Dynamic Linking:
    dlsrc=dl_dlopen.xs
    dlext=so
    d_dlsymun=undef
    ccdlflags='-Wl,-E'
    cccdlflags='-fPIC'
    lddlflags='-shared -O2 -L/usr/local/lib -fstack-protector-strong'


Characteristics of this binary (from libperl): 
  Compile-time options:
    HAS_TIMES
    PERLIO_LAYERS
    PERL_COPY_ON_WRITE
    PERL_DONT_CREATE_GVSV
    PERL_MALLOC_WRAP
    PERL_OP_PARENT
    PERL_PRESERVE_IVUV
    USE_64_BIT_ALL
    USE_64_BIT_INT
    USE_LARGE_FILES
    USE_LOCALE
    USE_LOCALE_COLLATE
    USE_LOCALE_CTYPE
    USE_LOCALE_NUMERIC
    USE_LOCALE_TIME
    USE_PERLIO
    USE_PERL_ATOF
  Locally applied patches:
    Devel::PatchPerl 1.48
  Built under linux
  Compiled at Mar 12 2018 10:48:46
  %ENV:
    PERLBREW_HOME="/home/julien/.perlbrew"
    PERLBREW_MANPATH="/home/julien/perl5/perlbrew/perls/perl-5.26.1/man"
    PERLBREW_PATH="/home/julien/perl5/perlbrew/bin:/home/julien/perl5/perlbrew/perls/perl-5.26.1/bin"
    PERLBREW_PERL="perl-5.26.1"
    PERLBREW_ROOT="/home/julien/perl5/perlbrew"
    PERLBREW_SHELLRC_VERSION="0.86"
    PERLBREW_VERSION="0.86"
  @INC:
    /home/julien/perl5/perlbrew/perls/perl-5.26.1/lib/site_perl/5.26.1/x86_64-linux
    /home/julien/perl5/perlbrew/perls/perl-5.26.1/lib/site_perl/5.26.1
    /home/julien/perl5/perlbrew/perls/perl-5.26.1/lib/5.26.1/x86_64-linux
    /home/julien/perl5/perlbrew/perls/perl-5.26.1/lib/5.26.1