Report for Dist-Zilla-Plugin-Authority-1.002

Back
From: metabase:user:320bfe00-2aae-11df-837a-5e0a49663a4f
Subject: PASS Dist-Zilla-Plugin-Authority-1.002 v5.8.7 GNU/Linux
Date: 2010-12-17T06:01:04Z

This distribution has been tested as part of the CPAN Testers
project, supporting the Perl programming language.  See
http://wiki.cpantesters.org/ for more information or email
questions to cpan-testers-discuss@perl.org


--
Dear Apocalypse,

This is a computer-generated report for Dist-Zilla-Plugin-Authority-1.002
on perl 5.8.7, created by CPAN-Reporter-1.18_06.

Thank you for uploading your work to CPAN.  Congratulations!
All tests were successful.

Sections of this report:

    * Tester comments
    * Program output
    * Prerequisites
    * Environment and other context

------------------------------
TESTER COMMENTS
------------------------------

Additional comments from tester:

this report is from an automated smoke testing program
and was not reviewed by a human for accuracy

------------------------------
PROGRAM OUTPUT
------------------------------

Output from './Build test':

Argument "1.214_01" isn't numeric in subroutine entry at lib/Dist/Zilla/Plugin/Authority.pm line 21.
t/00-compile.t ................ ok
# 
# 
# perl:  (wanted 5.006) on linux from /usr/local/perl-5.8.7-threaded/bin/perl
# 
# Dist::Zilla::Role::FileFinderUser             => 4.200000   (want 4.102345)
# Dist::Zilla::Role::FileMunger                 => 4.200000   (want 4.102345)
# Dist::Zilla::Role::MetaProvider               => 4.200000   (want 4.102345)
# File::Find                                    => 1.09       (want any version)
# File::Temp                                    => 0.22       (want any version)
# Module::Build                                 => 0.362      (want 0.3601) 
# Moose                                         => 1.21       (want 1.03)   
# Moose::Util::TypeConstraints                  => 1.21       (want 1.01)   
# PPI                                           => 1.214_01   (want 1.206)  
# Test::More                                    => 0.96       (want 0.88)   
# 
# Thanks for using my code.  I hope it works for you.
# If not, please try and include this output in the bug report.
# That will help me reproduce the issue and solve you problem.
# 
t/000-report-versions-tiny.t .. ok
t/apocalypse.t ................ skipped: Test::Apocalypse required for validating the distribution
All tests successful.
Files=3, Tests=2,  2 wallclock secs ( 0.03 usr  0.01 sys +  1.29 cusr  0.08 csys =  1.41 CPU)
Result: PASS

------------------------------
PREREQUISITES
------------------------------

Prerequisite modules loaded:

requires:

    Module                            Need     Have    
    --------------------------------- -------- --------
    Dist::Zilla::Role::FileFinderUser 4.102345 4.200000
    Dist::Zilla::Role::FileMunger     4.102345 4.200000
    Dist::Zilla::Role::MetaProvider   4.102345 4.200000
    Moose                             1.03     1.21    
    Moose::Util::TypeConstraints      1.01     1.21    
    perl                              5.006    5.008007
    PPI                               1.206    1.214_01

build_requires:

    Module                            Need     Have    
    --------------------------------- -------- --------
    File::Find                        0        1.09    
    File::Temp                        0        0.22    
    Module::Build                     0.3601   0.36_20 
    Test::More                        0.88     0.96    

configure_requires:

    Module                            Need     Have    
    --------------------------------- -------- --------
    Module::Build                     0.3601   0.36_20 


------------------------------
ENVIRONMENT AND OTHER CONTEXT
------------------------------

Environment variables:

    AUTOMATED_TESTING = 1
    LANG = en_US.UTF-8
    PATH = /home/sand/bin:/usr/local/bin:/usr/bin:/bin:/usr/bin/X11:/usr/games:/usr/local/perl/bin:/usr/X11/bin:/sbin:/usr/sbin
    PERL5LIB = 
    PERL5OPT = 
    PERL5_CPANPLUS_IS_RUNNING = 3409
    PERL5_CPAN_IS_RUNNING = 3409
    PERL_MM_USE_DEFAULT = 1
    SHELL = /usr/bin/zsh
    TERM = screen

Perl special variables (and OS-specific diagnostics, for MSWin32):

    $^X = /usr/local/perl-5.8.7-threaded/bin/perl
    $UID/$EUID = 1001 / 1001
    $GID = 1001 1001
    $EGID = 1001 1001

Perl module toolchain versions installed:

    Module              Have   
    ------------------- -------
    CPAN                1.94_62
    Cwd                 3.33   
    ExtUtils::CBuilder  0.2802 
    ExtUtils::Command   1.16   
    ExtUtils::Install   1.52_03
    ExtUtils::MakeMaker 6.57_06
    ExtUtils::Manifest  1.58   
    ExtUtils::ParseXS   2.2206 
    File::Spec          3.33   
    Module::Build       0.36_20
    Module::Signature   0.66   
    Test::Harness       3.22   
    Test::More          0.96   
    YAML                0.72   
    YAML::Syck          1.17   
    version             0.87   


--

Summary of my perl5 (revision 5 version 8 subversion 7) configuration:
  Platform:
    osname=linux, osvers=2.6.26-1-amd64, archname=x86_64-linux-thread-multi-ld
    uname='linux k81 2.6.26-1-amd64 #1 smp mon dec 15 17:25:36 utc 2008 x86_64 gnulinux '
    config_args='-Dprefix=/usr/local/perl-5.8.7-threaded -Uversiononly -Dusedevel -Ui_db -Duselongdouble -des -Dusethreads'
    hint=recommended, useposix=true, d_sigaction=define
    usethreads=define use5005threads=undef useithreads=define usemultiplicity=define
    useperlio=define d_sfio=undef uselargefiles=define usesocks=undef
    use64bitint=define use64bitall=define uselongdouble=define
    usemymalloc=n, bincompat5005=undef
  Compiler:
    cc='cc', ccflags ='-D_REENTRANT -D_GNU_SOURCE -DTHREADS_HAVE_PIDS -fno-strict-aliasing -pipe -I/usr/local/include -D_LARGEFILE_SOURCE -D_FILE_OFFSET_BITS=64',
    optimize='-O2',
    cppflags='-D_REENTRANT -D_GNU_SOURCE -DTHREADS_HAVE_PIDS -fno-strict-aliasing -pipe -I/usr/local/include'
    ccversion='', gccversion='4.3.2', gccosandvers=''
    intsize=4, longsize=8, ptrsize=8, doublesize=8, byteorder=12345678
    d_longlong=define, longlongsize=8, d_longdbl=define, longdblsize=16
    ivtype='long', ivsize=8, nvtype='long double', nvsize=16, Off_t='off_t', lseeksize=8
    alignbytes=16, prototype=define
  Linker and Libraries:
    ld='cc', ldflags =' -L/usr/local/lib'
    libpth=/usr/local/lib /lib /usr/lib
    libs=-lnsl -ldb -ldl -lm -lcrypt -lutil -lpthread -lc
    perllibs=-lnsl -ldl -lm -lcrypt -lutil -lpthread -lc
    libc=/lib/libc-2.7.so, so=so, useshrplib=false, libperl=libperl.a
    gnulibc_version='2.7'
  Dynamic Linking:
    dlsrc=dl_dlopen.xs, dlext=so, d_dlsymun=undef, ccdlflags='-Wl,-E'
    cccdlflags='-fpic', lddlflags='-shared -L/usr/local/lib'


Characteristics of this binary (from libperl): 
  Compile-time options: MULTIPLICITY USE_ITHREADS USE_64_BIT_INT
                        USE_64_BIT_ALL USE_LONG_DOUBLE USE_LARGE_FILES
                        PERL_IMPLICIT_CONTEXT
  Built under linux
  Compiled at Feb 20 2009 04:23:53
  %ENV:
    PERL5LIB=""
    PERL5OPT=""
    PERL5_CPANPLUS_IS_RUNNING="3409"
    PERL5_CPAN_IS_RUNNING="3409"
    PERL_MM_USE_DEFAULT="1"
  @INC:
    /usr/local/perl-5.8.7-threaded/lib/5.8.7/x86_64-linux-thread-multi-ld
    /usr/local/perl-5.8.7-threaded/lib/5.8.7
    /usr/local/perl-5.8.7-threaded/lib/site_perl/5.8.7/x86_64-linux-thread-multi-ld
    /usr/local/perl-5.8.7-threaded/lib/site_perl/5.8.7
    /usr/local/perl-5.8.7-threaded/lib/site_perl
    .